BEGIN:VCALENDAR
VERSION:2.0
PRODID:-//FASD United - ECPv6.15.20//NONSGML v1.0//EN
CALSCALE:GREGORIAN
METHOD:PUBLISH
X-ORIGINAL-URL:https://fasdunited.org
X-WR-CALDESC:Events for FASD United
REFRESH-INTERVAL;VALUE=DURATION:PT1H
X-Robots-Tag:noindex
X-PUBLISHED-TTL:PT1H
BEGIN:VTIMEZONE
TZID:America/Chicago
BEGIN:DAYLIGHT
TZOFFSETFROM:-0600
TZOFFSETTO:-0500
TZNAME:CDT
DTSTART:20240310T080000
END:DAYLIGHT
BEGIN:STANDARD
TZOFFSETFROM:-0500
TZOFFSETTO:-0600
TZNAME:CST
DTSTART:20241103T070000
END:STANDARD
BEGIN:DAYLIGHT
TZOFFSETFROM:-0600
TZOFFSETTO:-0500
TZNAME:CDT
DTSTART:20250309T080000
END:DAYLIGHT
BEGIN:STANDARD
TZOFFSETFROM:-0500
TZOFFSETTO:-0600
TZNAME:CST
DTSTART:20251102T070000
END:STANDARD
BEGIN:DAYLIGHT
TZOFFSETFROM:-0600
TZOFFSETTO:-0500
TZNAME:CDT
DTSTART:20260308T080000
END:DAYLIGHT
BEGIN:STANDARD
TZOFFSETFROM:-0500
TZOFFSETTO:-0600
TZNAME:CST
DTSTART:20261101T070000
END:STANDARD
END:VTIMEZONE
BEGIN:VEVENT
DTSTART;TZID=America/Chicago:20250909T130000
DTEND;TZID=America/Chicago:20250909T140000
DTSTAMP:20260424T224621
CREATED:20250909T153847Z
LAST-MODIFIED:20250909T153847Z
UID:10001716-1757422800-1757426400@fasdunited.org
SUMMARY:Identifying and Understanding Fetal Alcohol Spectrum Disorders ToxTime
DESCRIPTION:Fetal Alcohol Spectrum Disorders (FASDs) are not rare; they’re just rarely diagnosed. This interactive presentation will help attendees understand the impact of FASDs in the United States\, where approximately 5% of the population is affected\, as well as identify those affected by prenatal alcohol exposure. Prevention\, intervention\, and treatment will also be addressed. \nIn this ToxTime webinar\, join Guida Brown as she discusses FASDs in preparation for September’s FASD Awareness Month. \nA recording of the presentation and a certificate of attendance will be available 24-48 hours after completion. You must be subscribed to our mailing list to receive a certificate.
URL:https://fasdunited.org/event/identifying-and-understanding-fetal-alcohol-spectrum-disorders-toxtime/
LOCATION:Virtual
ATTACH;FMTTYPE=image/jpeg:https://fasdunited.org/wp-content/uploads/2025/09/FASD-ToxTime-Promotion-768x168-1.jpg
END:VEVENT
END:VCALENDAR