BEGIN:VCALENDAR
VERSION:2.0
PRODID:-//FASD United - ECPv6.15.20//NONSGML v1.0//EN
CALSCALE:GREGORIAN
METHOD:PUBLISH
X-ORIGINAL-URL:https://fasdunited.org
X-WR-CALDESC:Events for FASD United
REFRESH-INTERVAL;VALUE=DURATION:PT1H
X-Robots-Tag:noindex
X-PUBLISHED-TTL:PT1H
BEGIN:VTIMEZONE
TZID:America/New_York
BEGIN:DAYLIGHT
TZOFFSETFROM:-0500
TZOFFSETTO:-0400
TZNAME:EDT
DTSTART:20240310T070000
END:DAYLIGHT
BEGIN:STANDARD
TZOFFSETFROM:-0400
TZOFFSETTO:-0500
TZNAME:EST
DTSTART:20241103T060000
END:STANDARD
BEGIN:DAYLIGHT
TZOFFSETFROM:-0500
TZOFFSETTO:-0400
TZNAME:EDT
DTSTART:20250309T070000
END:DAYLIGHT
BEGIN:STANDARD
TZOFFSETFROM:-0400
TZOFFSETTO:-0500
TZNAME:EST
DTSTART:20251102T060000
END:STANDARD
BEGIN:DAYLIGHT
TZOFFSETFROM:-0500
TZOFFSETTO:-0400
TZNAME:EDT
DTSTART:20260308T070000
END:DAYLIGHT
BEGIN:STANDARD
TZOFFSETFROM:-0400
TZOFFSETTO:-0500
TZNAME:EST
DTSTART:20261101T060000
END:STANDARD
END:VTIMEZONE
BEGIN:VEVENT
DTSTART;TZID=America/New_York:20250924T130000
DTEND;TZID=America/New_York:20250924T140000
DTSTAMP:20260424T224633
CREATED:20250805T152743Z
LAST-MODIFIED:20250805T152743Z
UID:10001689-1758718800-1758722400@fasdunited.org
SUMMARY:Supporting Children with FASDs in School: Effective Strategies for Pediatricians
DESCRIPTION:Event link: https://bit.ly/fasdwebinar03 \nAAP webinar \nThis webinar\, sponsored by the AAP Council on School Health (COSH)\, aims to highlight the importance of supporting children with FASDs in educational settings and fostering effective collaboration between pediatricians\, parents\, and school professionals. The session will cover practical strategies and guidance on the pediatrician’s role in special education services and broader school-based supports. Presenters: Council on School Health (COSH) & Elizabeth Cleveland\, PhD\, CCC-SLP
URL:https://fasdunited.org/event/supporting-children-with-fasds-in-school-effective-strategies-for-pediatricians/
ORGANIZER;CN="American Academy of Pediatrics":MAILTO:rarvizu@aap.org.
END:VEVENT
BEGIN:VEVENT
DTSTART;TZID=America/New_York:20250924T140000
DTEND;TZID=America/New_York:20250924T150000
DTSTAMP:20260424T224633
CREATED:20250726T233853Z
LAST-MODIFIED:20250920T235328Z
UID:10001682-1758722400-1758726000@fasdunited.org
SUMMARY:FASD United Policy Forum
DESCRIPTION:The monthly forum is a regularly scheduled virtual meeting to brief advocates and guide policy outreach. The meetings are open to all FASD advocates. You can help ensure action on critical FASD legislation by joining the monthly FASD policy virtual forum and preparing to engage with your senators and representatives. Click to join the forums live on Zoom or participate by phone using the number nearest your location. \nMeeting ID: 892 5829 4486 Passcode: 454311 \nDial by your location +1 312 626 6799 US (Chicago) ++1 253 215 8782 US (Tacoma) +1 346 248 7799 US (Houston) +1 720 707 2699 US (Denver) +1 312 626 6799 US (Chicago) +1 646 558 8656 US (New York) +1 301 715 8592 US (Washington DC)
URL:https://fasdunited.org/event/fasd-united-policy-forum-12/
LOCATION:Via Zoom
CATEGORIES:Monthly Forum
ORGANIZER;CN="FASD United":MAILTO:affiliate@fasdunited.org
END:VEVENT
END:VCALENDAR