BEGIN:VCALENDAR
VERSION:2.0
PRODID:-//FASD United - ECPv6.15.20//NONSGML v1.0//EN
CALSCALE:GREGORIAN
METHOD:PUBLISH
X-ORIGINAL-URL:https://fasdunited.org
X-WR-CALDESC:Events for FASD United
REFRESH-INTERVAL;VALUE=DURATION:PT1H
X-Robots-Tag:noindex
X-PUBLISHED-TTL:PT1H
BEGIN:VTIMEZONE
TZID:America/Dawson_Creek
BEGIN:STANDARD
TZOFFSETFROM:-0700
TZOFFSETTO:-0700
TZNAME:MST
DTSTART:20250101T000000
END:STANDARD
END:VTIMEZONE
BEGIN:VEVENT
DTSTART;TZID=America/Dawson_Creek:20260509T120000
DTEND;TZID=America/Dawson_Creek:20260509T170000
DTSTAMP:20260423T215823
CREATED:20240305T012851Z
LAST-MODIFIED:20240305T012851Z
UID:10000493-1778328000-1778346000@fasdunited.org
SUMMARY:FASD : Never Alone
DESCRIPTION:This support group is for adults with FASD (18 & up). There will be  engaging discussions\, education\, relationships\, therapeutic\, resources sharing\, networking\, and advocacy. \n  \nTwice Monthly: Saturdays\, 12 p.m. PST
URL:https://fasdunited.org/event/fasd-never-alone/2026-05-09/
LOCATION:Virtual
ATTACH;FMTTYPE=image/jpeg:https://fasdunited.org/wp-content/uploads/2024/03/420087865_366578009312552_28881515468489256_n.jpg
END:VEVENT
END:VCALENDAR