BEGIN:VCALENDAR
VERSION:2.0
PRODID:-//FASD United - ECPv6.15.20//NONSGML v1.0//EN
CALSCALE:GREGORIAN
METHOD:PUBLISH
X-WR-CALNAME:FASD United
X-ORIGINAL-URL:https://fasdunited.org
X-WR-CALDESC:Events for FASD United
REFRESH-INTERVAL;VALUE=DURATION:PT1H
X-Robots-Tag:noindex
X-PUBLISHED-TTL:PT1H
BEGIN:VTIMEZONE
TZID:America/Chicago
BEGIN:DAYLIGHT
TZOFFSETFROM:-0600
TZOFFSETTO:-0500
TZNAME:CDT
DTSTART:20250309T080000
END:DAYLIGHT
BEGIN:STANDARD
TZOFFSETFROM:-0500
TZOFFSETTO:-0600
TZNAME:CST
DTSTART:20251102T070000
END:STANDARD
BEGIN:DAYLIGHT
TZOFFSETFROM:-0600
TZOFFSETTO:-0500
TZNAME:CDT
DTSTART:20260308T080000
END:DAYLIGHT
BEGIN:STANDARD
TZOFFSETFROM:-0500
TZOFFSETTO:-0600
TZNAME:CST
DTSTART:20261101T070000
END:STANDARD
BEGIN:DAYLIGHT
TZOFFSETFROM:-0600
TZOFFSETTO:-0500
TZNAME:CDT
DTSTART:20270314T080000
END:DAYLIGHT
BEGIN:STANDARD
TZOFFSETFROM:-0500
TZOFFSETTO:-0600
TZNAME:CST
DTSTART:20271107T070000
END:STANDARD
END:VTIMEZONE
BEGIN:VTIMEZONE
TZID:America/New_York
BEGIN:DAYLIGHT
TZOFFSETFROM:-0500
TZOFFSETTO:-0400
TZNAME:EDT
DTSTART:20250309T070000
END:DAYLIGHT
BEGIN:STANDARD
TZOFFSETFROM:-0400
TZOFFSETTO:-0500
TZNAME:EST
DTSTART:20251102T060000
END:STANDARD
BEGIN:DAYLIGHT
TZOFFSETFROM:-0500
TZOFFSETTO:-0400
TZNAME:EDT
DTSTART:20260308T070000
END:DAYLIGHT
BEGIN:STANDARD
TZOFFSETFROM:-0400
TZOFFSETTO:-0500
TZNAME:EST
DTSTART:20261101T060000
END:STANDARD
BEGIN:DAYLIGHT
TZOFFSETFROM:-0500
TZOFFSETTO:-0400
TZNAME:EDT
DTSTART:20270314T070000
END:DAYLIGHT
BEGIN:STANDARD
TZOFFSETFROM:-0400
TZOFFSETTO:-0500
TZNAME:EST
DTSTART:20271107T060000
END:STANDARD
END:VTIMEZONE
BEGIN:VEVENT
DTSTART;TZID=America/Chicago:20260618T110000
DTEND;TZID=America/Chicago:20260618T120000
DTSTAMP:20260423T232803
CREATED:20250827T182615Z
LAST-MODIFIED:20250827T182615Z
UID:10001705-1781780400-1781784000@fasdunited.org
SUMMARY:Strong Fathers Building Safe Homes: A Coaching Circle for Dads Navigating FASD
DESCRIPTION:The Papillion Center for FASD is collaborating with Joshua Legg\, Pastoral Care & Life Coach to offer a five-week group\, TOOL TIME\, for fathers parenting children affected by FASD.  Completed over a lunch hour via zoom\, this is a time to learn\, connect and grow with others. \nAre you a dad to a child who has been diagnosed with or you suspect is affected by Fetal Alcohol Spectrum Disorders?  If so\, this training is for you.  Grab your spot\, group size is limited!
URL:https://fasdunited.org/event/strong-fathers-building-safe-homes-a-coaching-circle-for-dads-navigating-fasd/2026-06-18/
CATEGORIES:Training
ATTACH;FMTTYPE=image/png:https://fasdunited.org/wp-content/uploads/2025/08/Dads.png
END:VEVENT
BEGIN:VEVENT
DTSTART;TZID=America/New_York:20260618T150000
DTEND;TZID=America/New_York:20260618T160000
DTSTAMP:20260423T232803
CREATED:20251123T232624Z
LAST-MODIFIED:20251212T193233Z
UID:10001845-1781794800-1781798400@fasdunited.org
SUMMARY:Affiliate Access
DESCRIPTION:
URL:https://fasdunited.org/event/affiliate-access-34/
LOCATION:Online
END:VEVENT
BEGIN:VEVENT
DTSTART;TZID=America/New_York:20260618T150000
DTEND;TZID=America/New_York:20260618T160000
DTSTAMP:20260423T232803
CREATED:20251123T232636Z
LAST-MODIFIED:20260110T141032Z
UID:10001846-1781794800-1781798400@fasdunited.org
SUMMARY:Affiliate Network Meeting
DESCRIPTION:The FASD United Affiliate Meeting is held on the third Thursday of each month at 3 p.m. Eastern.  It is open to individuals from Affiliate organizations only. \nAffiliate members will receive an email with Zoom information prior to the meeting.  For more information on becoming an FASD United Affiliate\, go to www.nofasaffiliatenetwork.org/join/
URL:https://fasdunited.org/event/affiliate-network-meeting-45/
LOCATION:Online
CATEGORIES:Affiliate Events,Monthly Affiliate Meeting
ATTACH;FMTTYPE=image/png:https://fasdunited.org/wp-content/uploads/2022/07/FASD-UNITED-Affiliate-Network-STACKED-FULL_COLOR-ekKkNk.tmp_.png
ORGANIZER;CN="FASD United":MAILTO:affiliate@fasdunited.org
END:VEVENT
END:VCALENDAR