BEGIN:VCALENDAR
VERSION:2.0
PRODID:-//FASD United - ECPv6.15.20//NONSGML v1.0//EN
CALSCALE:GREGORIAN
METHOD:PUBLISH
X-ORIGINAL-URL:https://fasdunited.org
X-WR-CALDESC:Events for FASD United
REFRESH-INTERVAL;VALUE=DURATION:PT1H
X-Robots-Tag:noindex
X-PUBLISHED-TTL:PT1H
BEGIN:VTIMEZONE
TZID:America/New_York
BEGIN:DAYLIGHT
TZOFFSETFROM:-0500
TZOFFSETTO:-0400
TZNAME:EDT
DTSTART:20250309T070000
END:DAYLIGHT
BEGIN:STANDARD
TZOFFSETFROM:-0400
TZOFFSETTO:-0500
TZNAME:EST
DTSTART:20251102T060000
END:STANDARD
BEGIN:DAYLIGHT
TZOFFSETFROM:-0500
TZOFFSETTO:-0400
TZNAME:EDT
DTSTART:20260308T070000
END:DAYLIGHT
BEGIN:STANDARD
TZOFFSETFROM:-0400
TZOFFSETTO:-0500
TZNAME:EST
DTSTART:20261101T060000
END:STANDARD
BEGIN:DAYLIGHT
TZOFFSETFROM:-0500
TZOFFSETTO:-0400
TZNAME:EDT
DTSTART:20270314T070000
END:DAYLIGHT
BEGIN:STANDARD
TZOFFSETFROM:-0400
TZOFFSETTO:-0500
TZNAME:EST
DTSTART:20271107T060000
END:STANDARD
END:VTIMEZONE
BEGIN:VEVENT
DTSTART;TZID=America/New_York:20260416T150000
DTEND;TZID=America/New_York:20260416T160000
DTSTAMP:20260423T192840
CREATED:20251123T232542Z
LAST-MODIFIED:20260110T140930Z
UID:10001840-1776351600-1776355200@fasdunited.org
SUMMARY:Affiliate Network Meeting
DESCRIPTION:The FASD United Affiliate Meeting is held on the third Thursday of each month at 3 p.m. Eastern.  It is open to individuals from Affiliate organizations only. \nAffiliate members will receive an email with Zoom information prior to the meeting.  For more information on becoming an FASD United Affiliate\, go to www.nofasaffiliatenetwork.org/join/
URL:https://fasdunited.org/event/affiliate-network-meeting-43/
LOCATION:Online
CATEGORIES:Affiliate Events,Monthly Affiliate Meeting
ATTACH;FMTTYPE=image/png:https://fasdunited.org/wp-content/uploads/2022/07/FASD-UNITED-Affiliate-Network-STACKED-FULL_COLOR-ekKkNk.tmp_.png
ORGANIZER;CN="FASD United":MAILTO:affiliate@fasdunited.org
END:VEVENT
END:VCALENDAR