BEGIN:VCALENDAR
VERSION:2.0
PRODID:-//FASD United - ECPv6.15.20//NONSGML v1.0//EN
CALSCALE:GREGORIAN
METHOD:PUBLISH
X-ORIGINAL-URL:https://fasdunited.org
X-WR-CALDESC:Events for FASD United
REFRESH-INTERVAL;VALUE=DURATION:PT1H
X-Robots-Tag:noindex
X-PUBLISHED-TTL:PT1H
BEGIN:VTIMEZONE
TZID:America/New_York
BEGIN:DAYLIGHT
TZOFFSETFROM:-0500
TZOFFSETTO:-0400
TZNAME:EDT
DTSTART:20240310T070000
END:DAYLIGHT
BEGIN:STANDARD
TZOFFSETFROM:-0400
TZOFFSETTO:-0500
TZNAME:EST
DTSTART:20241103T060000
END:STANDARD
BEGIN:DAYLIGHT
TZOFFSETFROM:-0500
TZOFFSETTO:-0400
TZNAME:EDT
DTSTART:20250309T070000
END:DAYLIGHT
BEGIN:STANDARD
TZOFFSETFROM:-0400
TZOFFSETTO:-0500
TZNAME:EST
DTSTART:20251102T060000
END:STANDARD
BEGIN:DAYLIGHT
TZOFFSETFROM:-0500
TZOFFSETTO:-0400
TZNAME:EDT
DTSTART:20260308T070000
END:DAYLIGHT
BEGIN:STANDARD
TZOFFSETFROM:-0400
TZOFFSETTO:-0500
TZNAME:EST
DTSTART:20261101T060000
END:STANDARD
END:VTIMEZONE
BEGIN:VEVENT
DTSTART;TZID=America/New_York:20250918T150000
DTEND;TZID=America/New_York:20250918T160000
DTSTAMP:20260423T232935
CREATED:20251123T232334Z
LAST-MODIFIED:20260110T140625Z
UID:10001819-1758207600-1758211200@fasdunited.org
SUMMARY:Affiliate Network Meeting
DESCRIPTION:The FASD United Affiliate Meeting is held on the third Thursday of each month at 3 p.m. Eastern.  It is open to individuals from Affiliate organizations only. \nAffiliate members will receive an email with Zoom information prior to the meeting.  For more information on becoming an FASD United Affiliate\, go to www.nofasaffiliatenetwork.org/join/
URL:https://fasdunited.org/event/affiliate-network-meeting-36/
LOCATION:Online
CATEGORIES:Affiliate Events,Monthly Affiliate Meeting
ATTACH;FMTTYPE=image/png:https://fasdunited.org/wp-content/uploads/2022/07/FASD-UNITED-Affiliate-Network-STACKED-FULL_COLOR-ekKkNk.tmp_.png
ORGANIZER;CN="FASD United":MAILTO:affiliate@fasdunited.org
END:VEVENT
BEGIN:VEVENT
DTSTART;TZID=America/New_York:20250907T140000
DTEND;TZID=America/New_York:20250907T170000
DTSTAMP:20260423T232935
CREATED:20250902T000704Z
LAST-MODIFIED:20250902T000704Z
UID:10001712-1757253600-1757264400@fasdunited.org
SUMMARY:Houston Move FASD 2025
DESCRIPTION:Texas FASD Network will be hosting a family-friendly yoga event on Sunday\, September 7th\, from 2-5 pm at First Congregational Church of Houston\, 10840 Beinhorn Rd. Interested community members can register through our website at https://texasfasd.org/fasd-awareness-month/. For more information\, contact Katherine Kurima at katherinekurima@gmail.com.
URL:https://fasdunited.org/event/houston-move-fasd-2025/
CATEGORIES:Affiliate Events
ATTACH;FMTTYPE=image/png:https://fasdunited.org/wp-content/uploads/2025/08/Houston-FASD-event-registration-1-graphic.png
END:VEVENT
BEGIN:VEVENT
DTSTART;TZID=America/New_York:20250904T163000
DTEND;TZID=America/New_York:20250904T173000
DTSTAMP:20260423T232935
CREATED:20251123T232313Z
LAST-MODIFIED:20260110T140600Z
UID:10001817-1757003400-1757007000@fasdunited.org
SUMMARY:Affiliate Access
DESCRIPTION:The FASD United Affiliate Network Executive Council Meeting is held the 1st Thursday of each month at 4:30 pm Eastern.  This meeting is open to Affiliate Executive Council Members only.  To view a list of your Executive Council Members\, click here: Affiliate Executive Council \nMembers of the FASD United Affiliate Executive Council will be emailed a zoom link prior to the meeting.  To add an agenda item or for questions about the Affiliate Executive Council\, email baldwin@fasdunited.org. \nFor more information on becoming an FASD United Affiliate\, go to www.nofasaffiliatenetwork.org/join/
URL:https://fasdunited.org/event/affiliate-access-15/
LOCATION:Online
CATEGORIES:Affiliate Events,NAEC Monthly Meeting
ATTACH;FMTTYPE=image/png:https://fasdunited.org/wp-content/uploads/2022/07/FASD-UNITED-Affiliate-Network-STACKED-FULL_COLOR-ekKkNk.tmp_.png
ORGANIZER;CN="FASD United":MAILTO:affiliate@fasdunited.org
END:VEVENT
BEGIN:VEVENT
DTSTART;TZID=America/New_York:20250821T150000
DTEND;TZID=America/New_York:20250821T160000
DTSTAMP:20260423T232935
CREATED:20251123T232310Z
LAST-MODIFIED:20260110T140549Z
UID:10001816-1755788400-1755792000@fasdunited.org
SUMMARY:Affiliate Network Meeting
DESCRIPTION:The FASD United Affiliate Meeting is held on the third Thursday of each month at 3 p.m. Eastern.  It is open to individuals from Affiliate organizations only. \nAffiliate members will receive an email with Zoom information prior to the meeting.  For more information on becoming an FASD United Affiliate\, go to www.nofasaffiliatenetwork.org/join/
URL:https://fasdunited.org/event/affiliate-network-meeting-35/
LOCATION:Online
CATEGORIES:Affiliate Events,Monthly Affiliate Meeting
ATTACH;FMTTYPE=image/png:https://fasdunited.org/wp-content/uploads/2022/07/FASD-UNITED-Affiliate-Network-STACKED-FULL_COLOR-ekKkNk.tmp_.png
ORGANIZER;CN="FASD United":MAILTO:affiliate@fasdunited.org
END:VEVENT
BEGIN:VEVENT
DTSTART;TZID=America/New_York:20250807T163000
DTEND;TZID=America/New_York:20250807T173000
DTSTAMP:20260423T232935
CREATED:20251123T232249Z
LAST-MODIFIED:20260110T140545Z
UID:10001814-1754584200-1754587800@fasdunited.org
SUMMARY:Affiliate Access
DESCRIPTION:The FASD United Affiliate Network Executive Council Meeting is held the 1st Thursday of each month at 4:30 pm Eastern.  This meeting is open to Affiliate Executive Council Members only.  To view a list of your Executive Council Members\, click here: Affiliate Executive Council \nMembers of the FASD United Affiliate Executive Council will be emailed a zoom link prior to the meeting.  To add an agenda item or for questions about the Affiliate Executive Council\, email baldwin@fasdunited.org. \nFor more information on becoming an FASD United Affiliate\, go to www.nofasaffiliatenetwork.org/join/
URL:https://fasdunited.org/event/affiliate-access-13/
LOCATION:Online
CATEGORIES:Affiliate Events,NAEC Monthly Meeting
ATTACH;FMTTYPE=image/png:https://fasdunited.org/wp-content/uploads/2022/07/FASD-UNITED-Affiliate-Network-STACKED-FULL_COLOR-ekKkNk.tmp_.png
ORGANIZER;CN="FASD United":MAILTO:affiliate@fasdunited.org
END:VEVENT
BEGIN:VEVENT
DTSTART;TZID=America/New_York:20250717T150000
DTEND;TZID=America/New_York:20250717T160000
DTSTAMP:20260423T232935
CREATED:20251123T232246Z
LAST-MODIFIED:20260110T140523Z
UID:10001813-1752764400-1752768000@fasdunited.org
SUMMARY:Affiliate Network Meeting
DESCRIPTION:The FASD United Affiliate Meeting is held on the third Thursday of each month at 3 p.m. Eastern.  It is open to individuals from Affiliate organizations only. \nAffiliate members will receive an email with Zoom information prior to the meeting.  For more information on becoming an FASD United Affiliate\, go to www.nofasaffiliatenetwork.org/join/
URL:https://fasdunited.org/event/affiliate-network-meeting-34/
LOCATION:Online
CATEGORIES:Affiliate Events,Monthly Affiliate Meeting
ATTACH;FMTTYPE=image/png:https://fasdunited.org/wp-content/uploads/2022/07/FASD-UNITED-Affiliate-Network-STACKED-FULL_COLOR-ekKkNk.tmp_.png
ORGANIZER;CN="FASD United":MAILTO:affiliate@fasdunited.org
END:VEVENT
BEGIN:VEVENT
DTSTART;TZID=America/New_York:20250703T163000
DTEND;TZID=America/New_York:20250703T173000
DTSTAMP:20260423T232935
CREATED:20251123T232230Z
LAST-MODIFIED:20260110T140458Z
UID:10001811-1751560200-1751563800@fasdunited.org
SUMMARY:Affiliate Access
DESCRIPTION:The FASD United Affiliate Network Executive Council Meeting is held the 1st Thursday of each month at 4:30 pm Eastern.  This meeting is open to Affiliate Executive Council Members only.  To view a list of your Executive Council Members\, click here: Affiliate Executive Council \nMembers of the FASD United Affiliate Executive Council will be emailed a zoom link prior to the meeting.  To add an agenda item or for questions about the Affiliate Executive Council\, email baldwin@fasdunited.org. \nFor more information on becoming an FASD United Affiliate\, go to www.nofasaffiliatenetwork.org/join/
URL:https://fasdunited.org/event/affiliate-access-11/
LOCATION:Online
CATEGORIES:Affiliate Events,NAEC Monthly Meeting
ATTACH;FMTTYPE=image/png:https://fasdunited.org/wp-content/uploads/2022/07/FASD-UNITED-Affiliate-Network-STACKED-FULL_COLOR-ekKkNk.tmp_.png
ORGANIZER;CN="FASD United":MAILTO:affiliate@fasdunited.org
END:VEVENT
BEGIN:VEVENT
DTSTART;TZID=America/New_York:20250619T150000
DTEND;TZID=America/New_York:20250619T160000
DTSTAMP:20260423T232935
CREATED:20251123T232227Z
LAST-MODIFIED:20260110T140447Z
UID:10001810-1750345200-1750348800@fasdunited.org
SUMMARY:Affiliate Network Meeting
DESCRIPTION:The FASD United Affiliate Meeting is held on the third Thursday of each month at 3 p.m. Eastern.  It is open to individuals from Affiliate organizations only. \nAffiliate members will receive an email with Zoom information prior to the meeting.  For more information on becoming an FASD United Affiliate\, go to www.nofasaffiliatenetwork.org/join/
URL:https://fasdunited.org/event/affiliate-network-meeting-33/
LOCATION:Online
CATEGORIES:Affiliate Events,Monthly Affiliate Meeting
ATTACH;FMTTYPE=image/png:https://fasdunited.org/wp-content/uploads/2022/07/FASD-UNITED-Affiliate-Network-STACKED-FULL_COLOR-ekKkNk.tmp_.png
ORGANIZER;CN="FASD United":MAILTO:affiliate@fasdunited.org
END:VEVENT
BEGIN:VEVENT
DTSTART;TZID=America/New_York:20250605T163000
DTEND;TZID=America/New_York:20250605T173000
DTSTAMP:20260423T232935
CREATED:20251123T232207Z
LAST-MODIFIED:20260110T140439Z
UID:10001807-1749141000-1749144600@fasdunited.org
SUMMARY:Affiliate Access
DESCRIPTION:The FASD United Affiliate Network Executive Council Meeting is held the 1st Thursday of each month at 4:30 pm Eastern.  This meeting is open to Affiliate Executive Council Members only.  To view a list of your Executive Council Members\, click here: Affiliate Executive Council \nMembers of the FASD United Affiliate Executive Council will be emailed a zoom link prior to the meeting.  To add an agenda item or for questions about the Affiliate Executive Council\, email baldwin@fasdunited.org. \nFor more information on becoming an FASD United Affiliate\, go to www.nofasaffiliatenetwork.org/join/
URL:https://fasdunited.org/event/affiliate-access-8/
LOCATION:Online
CATEGORIES:Affiliate Events,NAEC Monthly Meeting
ATTACH;FMTTYPE=image/png:https://fasdunited.org/wp-content/uploads/2022/07/FASD-UNITED-Affiliate-Network-STACKED-FULL_COLOR-ekKkNk.tmp_.png
ORGANIZER;CN="FASD United":MAILTO:affiliate@fasdunited.org
END:VEVENT
BEGIN:VEVENT
DTSTART;TZID=America/New_York:20250515T150000
DTEND;TZID=America/New_York:20250515T160000
DTSTAMP:20260423T232935
CREATED:20251123T232200Z
LAST-MODIFIED:20260110T140421Z
UID:10001806-1747321200-1747324800@fasdunited.org
SUMMARY:Affiliate Network Meeting
DESCRIPTION:The FASD United Affiliate Meeting is held on the third Thursday of each month at 3 p.m. Eastern.  It is open to individuals from Affiliate organizations only. \nAffiliate members will receive an email with Zoom information prior to the meeting.  For more information on becoming an FASD United Affiliate\, go to www.nofasaffiliatenetwork.org/join/
URL:https://fasdunited.org/event/affiliate-network-meeting-32/
LOCATION:Online
CATEGORIES:Affiliate Events,Monthly Affiliate Meeting
ATTACH;FMTTYPE=image/png:https://fasdunited.org/wp-content/uploads/2022/07/FASD-UNITED-Affiliate-Network-STACKED-FULL_COLOR-ekKkNk.tmp_.png
ORGANIZER;CN="FASD United":MAILTO:affiliate@fasdunited.org
END:VEVENT
BEGIN:VEVENT
DTSTART;TZID=America/New_York:20250501T163000
DTEND;TZID=America/New_York:20250501T173000
DTSTAMP:20260423T232935
CREATED:20251123T232143Z
LAST-MODIFIED:20260110T140352Z
UID:10001803-1746117000-1746120600@fasdunited.org
SUMMARY:Affiliate Access
DESCRIPTION:The FASD United Affiliate Network Executive Council Meeting is held the 1st Thursday of each month at 4:30 pm Eastern.  This meeting is open to Affiliate Executive Council Members only.  To view a list of your Executive Council Members\, click here: Affiliate Executive Council \nMembers of the FASD United Affiliate Executive Council will be emailed a zoom link prior to the meeting.  To add an agenda item or for questions about the Affiliate Executive Council\, email baldwin@fasdunited.org. \nFor more information on becoming an FASD United Affiliate\, go to www.nofasaffiliatenetwork.org/join/
URL:https://fasdunited.org/event/affiliate-access-5/
LOCATION:Online
CATEGORIES:Affiliate Events,NAEC Monthly Meeting
ATTACH;FMTTYPE=image/png:https://fasdunited.org/wp-content/uploads/2022/07/FASD-UNITED-Affiliate-Network-STACKED-FULL_COLOR-ekKkNk.tmp_.png
ORGANIZER;CN="FASD United":MAILTO:affiliate@fasdunited.org
END:VEVENT
END:VCALENDAR