BEGIN:VCALENDAR
VERSION:2.0
PRODID:-//FASD United - ECPv6.15.20//NONSGML v1.0//EN
CALSCALE:GREGORIAN
METHOD:PUBLISH
X-ORIGINAL-URL:https://fasdunited.org
X-WR-CALDESC:Events for FASD United
REFRESH-INTERVAL;VALUE=DURATION:PT1H
X-Robots-Tag:noindex
X-PUBLISHED-TTL:PT1H
BEGIN:VTIMEZONE
TZID:America/New_York
BEGIN:DAYLIGHT
TZOFFSETFROM:-0500
TZOFFSETTO:-0400
TZNAME:EDT
DTSTART:20290311T070000
END:DAYLIGHT
BEGIN:STANDARD
TZOFFSETFROM:-0400
TZOFFSETTO:-0500
TZNAME:EST
DTSTART:20291104T060000
END:STANDARD
BEGIN:DAYLIGHT
TZOFFSETFROM:-0500
TZOFFSETTO:-0400
TZNAME:EDT
DTSTART:20300310T070000
END:DAYLIGHT
BEGIN:STANDARD
TZOFFSETFROM:-0400
TZOFFSETTO:-0500
TZNAME:EST
DTSTART:20301103T060000
END:STANDARD
BEGIN:DAYLIGHT
TZOFFSETFROM:-0500
TZOFFSETTO:-0400
TZNAME:EDT
DTSTART:20310309T070000
END:DAYLIGHT
BEGIN:STANDARD
TZOFFSETFROM:-0400
TZOFFSETTO:-0500
TZNAME:EST
DTSTART:20311102T060000
END:STANDARD
END:VTIMEZONE
BEGIN:VEVENT
DTSTART;TZID=America/New_York:20300620T150000
DTEND;TZID=America/New_York:20300620T160000
DTSTAMP:20260425T092529
CREATED:20251213T200838Z
LAST-MODIFIED:20260110T143418Z
UID:10001999-1908198000-1908201600@fasdunited.org
SUMMARY:Affiliate Network Meeting
DESCRIPTION:The FASD United Affiliate Meeting is held on the third Thursday of each month at 3 p.m. Eastern.  It is open to individuals from Affiliate organizations only. \nAffiliate members will receive an email with Zoom information prior to the meeting.  For more information on becoming an FASD United Affiliate\, go to www.nofasaffiliatenetwork.org/join/
URL:https://fasdunited.org/event/affiliate-network-meeting-93/
LOCATION:Online
CATEGORIES:Affiliate Events,Monthly Affiliate Meeting
ATTACH;FMTTYPE=image/png:https://fasdunited.org/wp-content/uploads/2022/07/FASD-UNITED-Affiliate-Network-STACKED-FULL_COLOR-ekKkNk.tmp_.png
ORGANIZER;CN="FASD United":MAILTO:affiliate@fasdunited.org
END:VEVENT
BEGIN:VEVENT
DTSTART;TZID=America/New_York:20300704T163000
DTEND;TZID=America/New_York:20300704T173000
DTSTAMP:20260425T092529
CREATED:20251213T200839Z
LAST-MODIFIED:20260110T143439Z
UID:10002000-1909413000-1909416600@fasdunited.org
SUMMARY:Affiliate Access
DESCRIPTION:The FASD United Affiliate Network Executive Council Meeting is held the 1st Thursday of each month at 4:30 pm Eastern.  This meeting is open to Affiliate Executive Council Members only.  To view a list of your Executive Council Members\, click here: Affiliate Executive Council \nMembers of the FASD United Affiliate Executive Council will be emailed a zoom link prior to the meeting.  To add an agenda item or for questions about the Affiliate Executive Council\, email baldwin@fasdunited.org. \nFor more information on becoming an FASD United Affiliate\, go to www.nofasaffiliatenetwork.org/join/
URL:https://fasdunited.org/event/affiliate-access-127/
LOCATION:Online
CATEGORIES:Affiliate Events,NAEC Monthly Meeting
ATTACH;FMTTYPE=image/png:https://fasdunited.org/wp-content/uploads/2022/07/FASD-UNITED-Affiliate-Network-STACKED-FULL_COLOR-ekKkNk.tmp_.png
ORGANIZER;CN="FASD United":MAILTO:affiliate@fasdunited.org
END:VEVENT
BEGIN:VEVENT
DTSTART;TZID=America/New_York:20300718T150000
DTEND;TZID=America/New_York:20300718T160000
DTSTAMP:20260425T092529
CREATED:20251213T200841Z
LAST-MODIFIED:20260110T143444Z
UID:10002001-1910617200-1910620800@fasdunited.org
SUMMARY:Affiliate Network Meeting
DESCRIPTION:The FASD United Affiliate Meeting is held on the third Thursday of each month at 3 p.m. Eastern.  It is open to individuals from Affiliate organizations only. \nAffiliate members will receive an email with Zoom information prior to the meeting.  For more information on becoming an FASD United Affiliate\, go to www.nofasaffiliatenetwork.org/join/
URL:https://fasdunited.org/event/affiliate-network-meeting-94/
LOCATION:Online
CATEGORIES:Affiliate Events,Monthly Affiliate Meeting
ATTACH;FMTTYPE=image/png:https://fasdunited.org/wp-content/uploads/2022/07/FASD-UNITED-Affiliate-Network-STACKED-FULL_COLOR-ekKkNk.tmp_.png
ORGANIZER;CN="FASD United":MAILTO:affiliate@fasdunited.org
END:VEVENT
BEGIN:VEVENT
DTSTART;TZID=America/New_York:20300801T163000
DTEND;TZID=America/New_York:20300801T173000
DTSTAMP:20260425T092529
CREATED:20251213T200851Z
LAST-MODIFIED:20260110T143456Z
UID:10002002-1911832200-1911835800@fasdunited.org
SUMMARY:Affiliate Access
DESCRIPTION:The FASD United Affiliate Network Executive Council Meeting is held the 1st Thursday of each month at 4:30 pm Eastern.  This meeting is open to Affiliate Executive Council Members only.  To view a list of your Executive Council Members\, click here: Affiliate Executive Council \nMembers of the FASD United Affiliate Executive Council will be emailed a zoom link prior to the meeting.  To add an agenda item or for questions about the Affiliate Executive Council\, email baldwin@fasdunited.org. \nFor more information on becoming an FASD United Affiliate\, go to www.nofasaffiliatenetwork.org/join/
URL:https://fasdunited.org/event/affiliate-access-128/
LOCATION:Online
CATEGORIES:Affiliate Events,NAEC Monthly Meeting
ATTACH;FMTTYPE=image/png:https://fasdunited.org/wp-content/uploads/2022/07/FASD-UNITED-Affiliate-Network-STACKED-FULL_COLOR-ekKkNk.tmp_.png
ORGANIZER;CN="FASD United":MAILTO:affiliate@fasdunited.org
END:VEVENT
BEGIN:VEVENT
DTSTART;TZID=America/New_York:20300815T150000
DTEND;TZID=America/New_York:20300815T160000
DTSTAMP:20260425T092529
CREATED:20251213T200856Z
LAST-MODIFIED:20260110T143523Z
UID:10002003-1913036400-1913040000@fasdunited.org
SUMMARY:Affiliate Network Meeting
DESCRIPTION:The FASD United Affiliate Meeting is held on the third Thursday of each month at 3 p.m. Eastern.  It is open to individuals from Affiliate organizations only. \nAffiliate members will receive an email with Zoom information prior to the meeting.  For more information on becoming an FASD United Affiliate\, go to www.nofasaffiliatenetwork.org/join/
URL:https://fasdunited.org/event/affiliate-network-meeting-95/
LOCATION:Online
CATEGORIES:Affiliate Events,Monthly Affiliate Meeting
ATTACH;FMTTYPE=image/png:https://fasdunited.org/wp-content/uploads/2022/07/FASD-UNITED-Affiliate-Network-STACKED-FULL_COLOR-ekKkNk.tmp_.png
ORGANIZER;CN="FASD United":MAILTO:affiliate@fasdunited.org
END:VEVENT
BEGIN:VEVENT
DTSTART;TZID=America/New_York:20300905T163000
DTEND;TZID=America/New_York:20300905T173000
DTSTAMP:20260425T092529
CREATED:20251213T200858Z
LAST-MODIFIED:20260110T143545Z
UID:10002004-1914856200-1914859800@fasdunited.org
SUMMARY:Affiliate Access
DESCRIPTION:The FASD United Affiliate Network Executive Council Meeting is held the 1st Thursday of each month at 4:30 pm Eastern.  This meeting is open to Affiliate Executive Council Members only.  To view a list of your Executive Council Members\, click here: Affiliate Executive Council \nMembers of the FASD United Affiliate Executive Council will be emailed a zoom link prior to the meeting.  To add an agenda item or for questions about the Affiliate Executive Council\, email baldwin@fasdunited.org. \nFor more information on becoming an FASD United Affiliate\, go to www.nofasaffiliatenetwork.org/join/
URL:https://fasdunited.org/event/affiliate-access-129/
LOCATION:Online
CATEGORIES:Affiliate Events,NAEC Monthly Meeting
ATTACH;FMTTYPE=image/png:https://fasdunited.org/wp-content/uploads/2022/07/FASD-UNITED-Affiliate-Network-STACKED-FULL_COLOR-ekKkNk.tmp_.png
ORGANIZER;CN="FASD United":MAILTO:affiliate@fasdunited.org
END:VEVENT
BEGIN:VEVENT
DTSTART;TZID=America/New_York:20300919T150000
DTEND;TZID=America/New_York:20300919T160000
DTSTAMP:20260425T092529
CREATED:20251213T200900Z
LAST-MODIFIED:20260110T143549Z
UID:10002005-1916060400-1916064000@fasdunited.org
SUMMARY:Affiliate Network Meeting
DESCRIPTION:The FASD United Affiliate Meeting is held on the third Thursday of each month at 3 p.m. Eastern.  It is open to individuals from Affiliate organizations only. \nAffiliate members will receive an email with Zoom information prior to the meeting.  For more information on becoming an FASD United Affiliate\, go to www.nofasaffiliatenetwork.org/join/
URL:https://fasdunited.org/event/affiliate-network-meeting-96/
LOCATION:Online
CATEGORIES:Affiliate Events,Monthly Affiliate Meeting
ATTACH;FMTTYPE=image/png:https://fasdunited.org/wp-content/uploads/2022/07/FASD-UNITED-Affiliate-Network-STACKED-FULL_COLOR-ekKkNk.tmp_.png
ORGANIZER;CN="FASD United":MAILTO:affiliate@fasdunited.org
END:VEVENT
BEGIN:VEVENT
DTSTART;TZID=America/New_York:20301003T163000
DTEND;TZID=America/New_York:20301003T173000
DTSTAMP:20260425T092529
CREATED:20251213T200904Z
LAST-MODIFIED:20260110T143600Z
UID:10002006-1917275400-1917279000@fasdunited.org
SUMMARY:Affiliate Access
DESCRIPTION:The FASD United Affiliate Network Executive Council Meeting is held the 1st Thursday of each month at 4:30 pm Eastern.  This meeting is open to Affiliate Executive Council Members only.  To view a list of your Executive Council Members\, click here: Affiliate Executive Council \nMembers of the FASD United Affiliate Executive Council will be emailed a zoom link prior to the meeting.  To add an agenda item or for questions about the Affiliate Executive Council\, email baldwin@fasdunited.org. \nFor more information on becoming an FASD United Affiliate\, go to www.nofasaffiliatenetwork.org/join/
URL:https://fasdunited.org/event/affiliate-access-130/
LOCATION:Online
CATEGORIES:Affiliate Events,NAEC Monthly Meeting
ATTACH;FMTTYPE=image/png:https://fasdunited.org/wp-content/uploads/2022/07/FASD-UNITED-Affiliate-Network-STACKED-FULL_COLOR-ekKkNk.tmp_.png
ORGANIZER;CN="FASD United":MAILTO:affiliate@fasdunited.org
END:VEVENT
BEGIN:VEVENT
DTSTART;TZID=America/New_York:20301017T150000
DTEND;TZID=America/New_York:20301017T160000
DTSTAMP:20260425T092529
CREATED:20251213T200906Z
LAST-MODIFIED:20260110T143626Z
UID:10002007-1918479600-1918483200@fasdunited.org
SUMMARY:Affiliate Network Meeting
DESCRIPTION:The FASD United Affiliate Meeting is held on the third Thursday of each month at 3 p.m. Eastern.  It is open to individuals from Affiliate organizations only. \nAffiliate members will receive an email with Zoom information prior to the meeting.  For more information on becoming an FASD United Affiliate\, go to www.nofasaffiliatenetwork.org/join/
URL:https://fasdunited.org/event/affiliate-network-meeting-97/
LOCATION:Online
CATEGORIES:Affiliate Events,Monthly Affiliate Meeting
ATTACH;FMTTYPE=image/png:https://fasdunited.org/wp-content/uploads/2022/07/FASD-UNITED-Affiliate-Network-STACKED-FULL_COLOR-ekKkNk.tmp_.png
ORGANIZER;CN="FASD United":MAILTO:affiliate@fasdunited.org
END:VEVENT
BEGIN:VEVENT
DTSTART;TZID=America/New_York:20301107T163000
DTEND;TZID=America/New_York:20301107T173000
DTSTAMP:20260425T092529
CREATED:20251213T200913Z
LAST-MODIFIED:20260110T143647Z
UID:10002008-1920299400-1920303000@fasdunited.org
SUMMARY:Affiliate Access
DESCRIPTION:The FASD United Affiliate Network Executive Council Meeting is held the 1st Thursday of each month at 4:30 pm Eastern.  This meeting is open to Affiliate Executive Council Members only.  To view a list of your Executive Council Members\, click here: Affiliate Executive Council \nMembers of the FASD United Affiliate Executive Council will be emailed a zoom link prior to the meeting.  To add an agenda item or for questions about the Affiliate Executive Council\, email baldwin@fasdunited.org. \nFor more information on becoming an FASD United Affiliate\, go to www.nofasaffiliatenetwork.org/join/
URL:https://fasdunited.org/event/affiliate-access-131/
LOCATION:Online
CATEGORIES:Affiliate Events,NAEC Monthly Meeting
ATTACH;FMTTYPE=image/png:https://fasdunited.org/wp-content/uploads/2022/07/FASD-UNITED-Affiliate-Network-STACKED-FULL_COLOR-ekKkNk.tmp_.png
ORGANIZER;CN="FASD United":MAILTO:affiliate@fasdunited.org
END:VEVENT
BEGIN:VEVENT
DTSTART;TZID=America/New_York:20301121T150000
DTEND;TZID=America/New_York:20301121T160000
DTSTAMP:20260425T092529
CREATED:20251213T200915Z
LAST-MODIFIED:20260110T143651Z
UID:10002009-1921503600-1921507200@fasdunited.org
SUMMARY:Affiliate Network Meeting
DESCRIPTION:The FASD United Affiliate Meeting is held on the third Thursday of each month at 3 p.m. Eastern.  It is open to individuals from Affiliate organizations only. \nAffiliate members will receive an email with Zoom information prior to the meeting.  For more information on becoming an FASD United Affiliate\, go to www.nofasaffiliatenetwork.org/join/
URL:https://fasdunited.org/event/affiliate-network-meeting-98/
LOCATION:Online
CATEGORIES:Affiliate Events,Monthly Affiliate Meeting
ATTACH;FMTTYPE=image/png:https://fasdunited.org/wp-content/uploads/2022/07/FASD-UNITED-Affiliate-Network-STACKED-FULL_COLOR-ekKkNk.tmp_.png
ORGANIZER;CN="FASD United":MAILTO:affiliate@fasdunited.org
END:VEVENT
BEGIN:VEVENT
DTSTART;TZID=America/New_York:20301205T163000
DTEND;TZID=America/New_York:20301205T173000
DTSTAMP:20260425T092529
CREATED:20251213T200917Z
LAST-MODIFIED:20260110T143703Z
UID:10002010-1922718600-1922722200@fasdunited.org
SUMMARY:Affiliate Access
DESCRIPTION:The FASD United Affiliate Network Executive Council Meeting is held the 1st Thursday of each month at 4:30 pm Eastern.  This meeting is open to Affiliate Executive Council Members only.  To view a list of your Executive Council Members\, click here: Affiliate Executive Council \nMembers of the FASD United Affiliate Executive Council will be emailed a zoom link prior to the meeting.  To add an agenda item or for questions about the Affiliate Executive Council\, email baldwin@fasdunited.org. \nFor more information on becoming an FASD United Affiliate\, go to www.nofasaffiliatenetwork.org/join/
URL:https://fasdunited.org/event/affiliate-access-132/
LOCATION:Online
CATEGORIES:Affiliate Events,NAEC Monthly Meeting
ATTACH;FMTTYPE=image/png:https://fasdunited.org/wp-content/uploads/2022/07/FASD-UNITED-Affiliate-Network-STACKED-FULL_COLOR-ekKkNk.tmp_.png
ORGANIZER;CN="FASD United":MAILTO:affiliate@fasdunited.org
END:VEVENT
END:VCALENDAR