BEGIN:VCALENDAR
VERSION:2.0
PRODID:-//FASD United - ECPv6.15.20//NONSGML v1.0//EN
CALSCALE:GREGORIAN
METHOD:PUBLISH
X-WR-CALNAME:FASD United
X-ORIGINAL-URL:https://fasdunited.org
X-WR-CALDESC:Events for FASD United
REFRESH-INTERVAL;VALUE=DURATION:PT1H
X-Robots-Tag:noindex
X-PUBLISHED-TTL:PT1H
BEGIN:VTIMEZONE
TZID:UTC
BEGIN:STANDARD
TZOFFSETFROM:+0000
TZOFFSETTO:+0000
TZNAME:UTC
DTSTART:20240101T000000
END:STANDARD
END:VTIMEZONE
BEGIN:VEVENT
DTSTART;TZID=UTC:20250617T130000
DTEND;TZID=UTC:20250617T140000
DTSTAMP:20260425T100437
CREATED:20250508T003021Z
LAST-MODIFIED:20250508T003021Z
UID:10001645-1750165200-1750168800@fasdunited.org
SUMMARY:University of Minnesota - Prenatal Alcohol Exposure Web-based Brain Assessment Study
DESCRIPTION:Fetal alcohol spectrum disorders (FASD) affect an estimated 2 to 5 percent of children nationwide\, yet many go undiagnosed due to high assessment costs\, long wait times\, stigma\, and limited trained providers. Few interventions exist for this population. In this presentation\, Drs. Blake Gimbel and Jeffrey Wozniak—child psychologists and FASD researchers—will share details about their study testing an online neuropsychological screening tool designed to improve diagnostic access\, especially in rural areas. They will outline the research\, explain how families can participate\, and discuss findings on choline as a brain-health intervention for young children with FASD. Audience questions on these and related topics will be welcomed.
URL:https://fasdunited.org/event/university-of-minnesota-prenatal-alcohol-exposure-web-based-brain-assessment-study/
LOCATION:Via Zoom
CATEGORIES:FASD Intervention,Open to the Public
ATTACH;FMTTYPE=image/png:https://fasdunited.org/wp-content/uploads/2025/05/Univ-of-Minn-photo-for-flyer.png
END:VEVENT
END:VCALENDAR