BEGIN:VCALENDAR
VERSION:2.0
PRODID:-//FASD United - ECPv6.15.20//NONSGML v1.0//EN
CALSCALE:GREGORIAN
METHOD:PUBLISH
X-ORIGINAL-URL:https://fasdunited.org
X-WR-CALDESC:Events for FASD United
REFRESH-INTERVAL;VALUE=DURATION:PT1H
X-Robots-Tag:noindex
X-PUBLISHED-TTL:PT1H
BEGIN:VTIMEZONE
TZID:America/Chicago
BEGIN:DAYLIGHT
TZOFFSETFROM:-0600
TZOFFSETTO:-0500
TZNAME:CDT
DTSTART:20250309T080000
END:DAYLIGHT
BEGIN:STANDARD
TZOFFSETFROM:-0500
TZOFFSETTO:-0600
TZNAME:CST
DTSTART:20251102T070000
END:STANDARD
BEGIN:DAYLIGHT
TZOFFSETFROM:-0600
TZOFFSETTO:-0500
TZNAME:CDT
DTSTART:20260308T080000
END:DAYLIGHT
BEGIN:STANDARD
TZOFFSETFROM:-0500
TZOFFSETTO:-0600
TZNAME:CST
DTSTART:20261101T070000
END:STANDARD
BEGIN:DAYLIGHT
TZOFFSETFROM:-0600
TZOFFSETTO:-0500
TZNAME:CDT
DTSTART:20270314T080000
END:DAYLIGHT
BEGIN:STANDARD
TZOFFSETFROM:-0500
TZOFFSETTO:-0600
TZNAME:CST
DTSTART:20271107T070000
END:STANDARD
END:VTIMEZONE
BEGIN:VEVENT
DTSTART;TZID=America/Chicago:20260226T120000
DTEND;TZID=America/Chicago:20260226T130000
DTSTAMP:20260423T194822
CREATED:20260213T193207Z
LAST-MODIFIED:20260213T193207Z
UID:10002031-1772107200-1772110800@fasdunited.org
SUMMARY:How the Texas FASD Network Helps: Tools\, Training\, and Advocacy
DESCRIPTION:Learn how the Texas FASD Network connects families and professionals to critical FASD resources. This session will walk through the Network’s website resources\, provider directory\, training opportunities\, and advocacy initiatives designed to improve awareness\, access to services\, and outcomes for Texans with FASD.
URL:https://fasdunited.org/event/how-the-texas-fasd-network-helps-tools-training-and-advocacy/
LOCATION:Virtual
CATEGORIES:Affiliate Events,FASD Policy Related Event,Open to the Public,Public - Affiliate Sponsored
ATTACH;FMTTYPE=image/jpeg:https://fasdunited.org/wp-content/uploads/2026/02/February-2026-Webinar-Flyer.jpg
ORGANIZER;CN="Texas FASD Network":MAILTO:texasfasd@gmail.com
END:VEVENT
END:VCALENDAR