BEGIN:VCALENDAR
VERSION:2.0
PRODID:-//FASD United - ECPv6.15.20//NONSGML v1.0//EN
CALSCALE:GREGORIAN
METHOD:PUBLISH
X-WR-CALNAME:FASD United
X-ORIGINAL-URL:https://fasdunited.org
X-WR-CALDESC:Events for FASD United
REFRESH-INTERVAL;VALUE=DURATION:PT1H
X-Robots-Tag:noindex
X-PUBLISHED-TTL:PT1H
BEGIN:VTIMEZONE
TZID:America/New_York
BEGIN:DAYLIGHT
TZOFFSETFROM:-0500
TZOFFSETTO:-0400
TZNAME:EDT
DTSTART:20280312T070000
END:DAYLIGHT
BEGIN:STANDARD
TZOFFSETFROM:-0400
TZOFFSETTO:-0500
TZNAME:EST
DTSTART:20281105T060000
END:STANDARD
BEGIN:DAYLIGHT
TZOFFSETFROM:-0500
TZOFFSETTO:-0400
TZNAME:EDT
DTSTART:20290311T070000
END:DAYLIGHT
BEGIN:STANDARD
TZOFFSETFROM:-0400
TZOFFSETTO:-0500
TZNAME:EST
DTSTART:20291104T060000
END:STANDARD
BEGIN:DAYLIGHT
TZOFFSETFROM:-0500
TZOFFSETTO:-0400
TZNAME:EDT
DTSTART:20300310T070000
END:DAYLIGHT
BEGIN:STANDARD
TZOFFSETFROM:-0400
TZOFFSETTO:-0500
TZNAME:EST
DTSTART:20301103T060000
END:STANDARD
BEGIN:DAYLIGHT
TZOFFSETFROM:-0500
TZOFFSETTO:-0400
TZNAME:EDT
DTSTART:20310309T070000
END:DAYLIGHT
BEGIN:STANDARD
TZOFFSETFROM:-0400
TZOFFSETTO:-0500
TZNAME:EST
DTSTART:20311102T060000
END:STANDARD
END:VTIMEZONE
BEGIN:VEVENT
DTSTART;TZID=America/New_York:20290503T163000
DTEND;TZID=America/New_York:20290503T173000
DTSTAMP:20260425T084225
CREATED:20251123T234142Z
LAST-MODIFIED:20260110T142717Z
UID:10001949-1872520200-1872523800@fasdunited.org
SUMMARY:Affiliate Access
DESCRIPTION:The FASD United Affiliate Network Executive Council Meeting is held the 1st Thursday of each month at 4:30 pm Eastern.  This meeting is open to Affiliate Executive Council Members only.  To view a list of your Executive Council Members\, click here: Affiliate Executive Council \nMembers of the FASD United Affiliate Executive Council will be emailed a zoom link prior to the meeting.  To add an agenda item or for questions about the Affiliate Executive Council\, email baldwin@fasdunited.org. \nFor more information on becoming an FASD United Affiliate\, go to www.nofasaffiliatenetwork.org/join/
URL:https://fasdunited.org/event/affiliate-access-103/
LOCATION:Online
CATEGORIES:Affiliate Events,NAEC Monthly Meeting
ATTACH;FMTTYPE=image/png:https://fasdunited.org/wp-content/uploads/2022/07/FASD-UNITED-Affiliate-Network-STACKED-FULL_COLOR-ekKkNk.tmp_.png
ORGANIZER;CN="FASD United":MAILTO:affiliate@fasdunited.org
END:VEVENT
BEGIN:VEVENT
DTSTART;TZID=America/New_York:20290607T163000
DTEND;TZID=America/New_York:20290607T173000
DTSTAMP:20260425T084225
CREATED:20251123T234212Z
LAST-MODIFIED:20260110T142732Z
UID:10001952-1875544200-1875547800@fasdunited.org
SUMMARY:Affiliate Access
DESCRIPTION:The FASD United Affiliate Network Executive Council Meeting is held the 1st Thursday of each month at 4:30 pm Eastern.  This meeting is open to Affiliate Executive Council Members only.  To view a list of your Executive Council Members\, click here: Affiliate Executive Council \nMembers of the FASD United Affiliate Executive Council will be emailed a zoom link prior to the meeting.  To add an agenda item or for questions about the Affiliate Executive Council\, email baldwin@fasdunited.org. \nFor more information on becoming an FASD United Affiliate\, go to www.nofasaffiliatenetwork.org/join/
URL:https://fasdunited.org/event/affiliate-access-105/
LOCATION:Online
CATEGORIES:Affiliate Events,NAEC Monthly Meeting
ATTACH;FMTTYPE=image/png:https://fasdunited.org/wp-content/uploads/2022/07/FASD-UNITED-Affiliate-Network-STACKED-FULL_COLOR-ekKkNk.tmp_.png
ORGANIZER;CN="FASD United":MAILTO:affiliate@fasdunited.org
END:VEVENT
BEGIN:VEVENT
DTSTART;TZID=America/New_York:20290705T163000
DTEND;TZID=America/New_York:20290705T173000
DTSTAMP:20260425T084225
CREATED:20251123T234228Z
LAST-MODIFIED:20260110T142820Z
UID:10001955-1877963400-1877967000@fasdunited.org
SUMMARY:Affiliate Access
DESCRIPTION:The FASD United Affiliate Network Executive Council Meeting is held the 1st Thursday of each month at 4:30 pm Eastern.  This meeting is open to Affiliate Executive Council Members only.  To view a list of your Executive Council Members\, click here: Affiliate Executive Council \nMembers of the FASD United Affiliate Executive Council will be emailed a zoom link prior to the meeting.  To add an agenda item or for questions about the Affiliate Executive Council\, email baldwin@fasdunited.org. \nFor more information on becoming an FASD United Affiliate\, go to www.nofasaffiliatenetwork.org/join/
URL:https://fasdunited.org/event/affiliate-access-107/
LOCATION:Online
CATEGORIES:Affiliate Events,NAEC Monthly Meeting
ATTACH;FMTTYPE=image/png:https://fasdunited.org/wp-content/uploads/2022/07/FASD-UNITED-Affiliate-Network-STACKED-FULL_COLOR-ekKkNk.tmp_.png
ORGANIZER;CN="FASD United":MAILTO:affiliate@fasdunited.org
END:VEVENT
BEGIN:VEVENT
DTSTART;TZID=America/New_York:20290802T163000
DTEND;TZID=America/New_York:20290802T173000
DTSTAMP:20260425T084225
CREATED:20251123T234242Z
LAST-MODIFIED:20260110T142836Z
UID:10001958-1880382600-1880386200@fasdunited.org
SUMMARY:Affiliate Access
DESCRIPTION:The FASD United Affiliate Network Executive Council Meeting is held the 1st Thursday of each month at 4:30 pm Eastern.  This meeting is open to Affiliate Executive Council Members only.  To view a list of your Executive Council Members\, click here: Affiliate Executive Council \nMembers of the FASD United Affiliate Executive Council will be emailed a zoom link prior to the meeting.  To add an agenda item or for questions about the Affiliate Executive Council\, email baldwin@fasdunited.org. \nFor more information on becoming an FASD United Affiliate\, go to www.nofasaffiliatenetwork.org/join/
URL:https://fasdunited.org/event/affiliate-access-109/
LOCATION:Online
CATEGORIES:Affiliate Events,NAEC Monthly Meeting
ATTACH;FMTTYPE=image/png:https://fasdunited.org/wp-content/uploads/2022/07/FASD-UNITED-Affiliate-Network-STACKED-FULL_COLOR-ekKkNk.tmp_.png
ORGANIZER;CN="FASD United":MAILTO:affiliate@fasdunited.org
END:VEVENT
BEGIN:VEVENT
DTSTART;TZID=America/New_York:20290906T163000
DTEND;TZID=America/New_York:20290906T173000
DTSTAMP:20260425T084225
CREATED:20251123T234322Z
LAST-MODIFIED:20260110T142923Z
UID:10001961-1883406600-1883410200@fasdunited.org
SUMMARY:Affiliate Access
DESCRIPTION:The FASD United Affiliate Network Executive Council Meeting is held the 1st Thursday of each month at 4:30 pm Eastern.  This meeting is open to Affiliate Executive Council Members only.  To view a list of your Executive Council Members\, click here: Affiliate Executive Council \nMembers of the FASD United Affiliate Executive Council will be emailed a zoom link prior to the meeting.  To add an agenda item or for questions about the Affiliate Executive Council\, email baldwin@fasdunited.org. \nFor more information on becoming an FASD United Affiliate\, go to www.nofasaffiliatenetwork.org/join/
URL:https://fasdunited.org/event/affiliate-access-111/
LOCATION:Online
CATEGORIES:Affiliate Events,NAEC Monthly Meeting
ATTACH;FMTTYPE=image/png:https://fasdunited.org/wp-content/uploads/2022/07/FASD-UNITED-Affiliate-Network-STACKED-FULL_COLOR-ekKkNk.tmp_.png
ORGANIZER;CN="FASD United":MAILTO:affiliate@fasdunited.org
END:VEVENT
BEGIN:VEVENT
DTSTART;TZID=America/New_York:20291004T163000
DTEND;TZID=America/New_York:20291004T173000
DTSTAMP:20260425T084225
CREATED:20251123T234336Z
LAST-MODIFIED:20260110T142939Z
UID:10001964-1885825800-1885829400@fasdunited.org
SUMMARY:Affiliate Access
DESCRIPTION:The FASD United Affiliate Network Executive Council Meeting is held the 1st Thursday of each month at 4:30 pm Eastern.  This meeting is open to Affiliate Executive Council Members only.  To view a list of your Executive Council Members\, click here: Affiliate Executive Council \nMembers of the FASD United Affiliate Executive Council will be emailed a zoom link prior to the meeting.  To add an agenda item or for questions about the Affiliate Executive Council\, email baldwin@fasdunited.org. \nFor more information on becoming an FASD United Affiliate\, go to www.nofasaffiliatenetwork.org/join/
URL:https://fasdunited.org/event/affiliate-access-113/
LOCATION:Online
CATEGORIES:Affiliate Events,NAEC Monthly Meeting
ATTACH;FMTTYPE=image/png:https://fasdunited.org/wp-content/uploads/2022/07/FASD-UNITED-Affiliate-Network-STACKED-FULL_COLOR-ekKkNk.tmp_.png
ORGANIZER;CN="FASD United":MAILTO:affiliate@fasdunited.org
END:VEVENT
BEGIN:VEVENT
DTSTART;TZID=America/New_York:20291101T163000
DTEND;TZID=America/New_York:20291101T173000
DTSTAMP:20260425T084225
CREATED:20251123T234348Z
LAST-MODIFIED:20260110T143028Z
UID:10001967-1888245000-1888248600@fasdunited.org
SUMMARY:Affiliate Access
DESCRIPTION:The FASD United Affiliate Network Executive Council Meeting is held the 1st Thursday of each month at 4:30 pm Eastern.  This meeting is open to Affiliate Executive Council Members only.  To view a list of your Executive Council Members\, click here: Affiliate Executive Council \nMembers of the FASD United Affiliate Executive Council will be emailed a zoom link prior to the meeting.  To add an agenda item or for questions about the Affiliate Executive Council\, email baldwin@fasdunited.org. \nFor more information on becoming an FASD United Affiliate\, go to www.nofasaffiliatenetwork.org/join/
URL:https://fasdunited.org/event/affiliate-access-115/
LOCATION:Online
CATEGORIES:Affiliate Events,NAEC Monthly Meeting
ATTACH;FMTTYPE=image/png:https://fasdunited.org/wp-content/uploads/2022/07/FASD-UNITED-Affiliate-Network-STACKED-FULL_COLOR-ekKkNk.tmp_.png
ORGANIZER;CN="FASD United":MAILTO:affiliate@fasdunited.org
END:VEVENT
BEGIN:VEVENT
DTSTART;TZID=America/New_York:20291206T163000
DTEND;TZID=America/New_York:20291206T173000
DTSTAMP:20260425T084225
CREATED:20251123T234417Z
LAST-MODIFIED:20260110T143044Z
UID:10001970-1891269000-1891272600@fasdunited.org
SUMMARY:Affiliate Access
DESCRIPTION:The FASD United Affiliate Network Executive Council Meeting is held the 1st Thursday of each month at 4:30 pm Eastern.  This meeting is open to Affiliate Executive Council Members only.  To view a list of your Executive Council Members\, click here: Affiliate Executive Council \nMembers of the FASD United Affiliate Executive Council will be emailed a zoom link prior to the meeting.  To add an agenda item or for questions about the Affiliate Executive Council\, email baldwin@fasdunited.org. \nFor more information on becoming an FASD United Affiliate\, go to www.nofasaffiliatenetwork.org/join/
URL:https://fasdunited.org/event/affiliate-access-117/
LOCATION:Online
CATEGORIES:Affiliate Events,NAEC Monthly Meeting
ATTACH;FMTTYPE=image/png:https://fasdunited.org/wp-content/uploads/2022/07/FASD-UNITED-Affiliate-Network-STACKED-FULL_COLOR-ekKkNk.tmp_.png
ORGANIZER;CN="FASD United":MAILTO:affiliate@fasdunited.org
END:VEVENT
BEGIN:VEVENT
DTSTART;TZID=America/New_York:20300103T163000
DTEND;TZID=America/New_York:20300103T173000
DTSTAMP:20260425T084225
CREATED:20251213T200814Z
LAST-MODIFIED:20260110T143132Z
UID:10001990-1893688200-1893691800@fasdunited.org
SUMMARY:Affiliate Access
DESCRIPTION:The FASD United Affiliate Network Executive Council Meeting is held the 1st Thursday of each month at 4:30 pm Eastern.  This meeting is open to Affiliate Executive Council Members only.  To view a list of your Executive Council Members\, click here: Affiliate Executive Council \nMembers of the FASD United Affiliate Executive Council will be emailed a zoom link prior to the meeting.  To add an agenda item or for questions about the Affiliate Executive Council\, email baldwin@fasdunited.org. \nFor more information on becoming an FASD United Affiliate\, go to www.nofasaffiliatenetwork.org/join/
URL:https://fasdunited.org/event/affiliate-access-121/
LOCATION:Online
CATEGORIES:Affiliate Events,NAEC Monthly Meeting
ATTACH;FMTTYPE=image/png:https://fasdunited.org/wp-content/uploads/2022/07/FASD-UNITED-Affiliate-Network-STACKED-FULL_COLOR-ekKkNk.tmp_.png
ORGANIZER;CN="FASD United":MAILTO:affiliate@fasdunited.org
END:VEVENT
BEGIN:VEVENT
DTSTART;TZID=America/New_York:20300207T163000
DTEND;TZID=America/New_York:20300207T173000
DTSTAMP:20260425T084225
CREATED:20251213T200818Z
LAST-MODIFIED:20260110T143148Z
UID:10001991-1896712200-1896715800@fasdunited.org
SUMMARY:Affiliate Access
DESCRIPTION:The FASD United Affiliate Network Executive Council Meeting is held the 1st Thursday of each month at 4:30 pm Eastern.  This meeting is open to Affiliate Executive Council Members only.  To view a list of your Executive Council Members\, click here: Affiliate Executive Council \nMembers of the FASD United Affiliate Executive Council will be emailed a zoom link prior to the meeting.  To add an agenda item or for questions about the Affiliate Executive Council\, email baldwin@fasdunited.org. \nFor more information on becoming an FASD United Affiliate\, go to www.nofasaffiliatenetwork.org/join/
URL:https://fasdunited.org/event/affiliate-access-122/
LOCATION:Online
CATEGORIES:Affiliate Events,NAEC Monthly Meeting
ATTACH;FMTTYPE=image/png:https://fasdunited.org/wp-content/uploads/2022/07/FASD-UNITED-Affiliate-Network-STACKED-FULL_COLOR-ekKkNk.tmp_.png
ORGANIZER;CN="FASD United":MAILTO:affiliate@fasdunited.org
END:VEVENT
BEGIN:VEVENT
DTSTART;TZID=America/New_York:20300307T163000
DTEND;TZID=America/New_York:20300307T173000
DTSTAMP:20260425T084225
CREATED:20251213T200824Z
LAST-MODIFIED:20260110T143235Z
UID:10001992-1899131400-1899135000@fasdunited.org
SUMMARY:Affiliate Access
DESCRIPTION:The FASD United Affiliate Network Executive Council Meeting is held the 1st Thursday of each month at 4:30 pm Eastern.  This meeting is open to Affiliate Executive Council Members only.  To view a list of your Executive Council Members\, click here: Affiliate Executive Council \nMembers of the FASD United Affiliate Executive Council will be emailed a zoom link prior to the meeting.  To add an agenda item or for questions about the Affiliate Executive Council\, email baldwin@fasdunited.org. \nFor more information on becoming an FASD United Affiliate\, go to www.nofasaffiliatenetwork.org/join/
URL:https://fasdunited.org/event/affiliate-access-123/
LOCATION:Online
CATEGORIES:Affiliate Events,NAEC Monthly Meeting
ATTACH;FMTTYPE=image/png:https://fasdunited.org/wp-content/uploads/2022/07/FASD-UNITED-Affiliate-Network-STACKED-FULL_COLOR-ekKkNk.tmp_.png
ORGANIZER;CN="FASD United":MAILTO:affiliate@fasdunited.org
END:VEVENT
BEGIN:VEVENT
DTSTART;TZID=America/New_York:20300404T163000
DTEND;TZID=America/New_York:20300404T173000
DTSTAMP:20260425T084225
CREATED:20251213T200829Z
LAST-MODIFIED:20260110T143251Z
UID:10001994-1901550600-1901554200@fasdunited.org
SUMMARY:Affiliate Access
DESCRIPTION:The FASD United Affiliate Network Executive Council Meeting is held the 1st Thursday of each month at 4:30 pm Eastern.  This meeting is open to Affiliate Executive Council Members only.  To view a list of your Executive Council Members\, click here: Affiliate Executive Council \nMembers of the FASD United Affiliate Executive Council will be emailed a zoom link prior to the meeting.  To add an agenda item or for questions about the Affiliate Executive Council\, email baldwin@fasdunited.org. \nFor more information on becoming an FASD United Affiliate\, go to www.nofasaffiliatenetwork.org/join/
URL:https://fasdunited.org/event/affiliate-access-124/
LOCATION:Online
CATEGORIES:Affiliate Events,NAEC Monthly Meeting
ATTACH;FMTTYPE=image/png:https://fasdunited.org/wp-content/uploads/2022/07/FASD-UNITED-Affiliate-Network-STACKED-FULL_COLOR-ekKkNk.tmp_.png
ORGANIZER;CN="FASD United":MAILTO:affiliate@fasdunited.org
END:VEVENT
BEGIN:VEVENT
DTSTART;TZID=America/New_York:20300502T163000
DTEND;TZID=America/New_York:20300502T173000
DTSTAMP:20260425T084225
CREATED:20251213T200833Z
LAST-MODIFIED:20260110T143337Z
UID:10001996-1903969800-1903973400@fasdunited.org
SUMMARY:Affiliate Access
DESCRIPTION:The FASD United Affiliate Network Executive Council Meeting is held the 1st Thursday of each month at 4:30 pm Eastern.  This meeting is open to Affiliate Executive Council Members only.  To view a list of your Executive Council Members\, click here: Affiliate Executive Council \nMembers of the FASD United Affiliate Executive Council will be emailed a zoom link prior to the meeting.  To add an agenda item or for questions about the Affiliate Executive Council\, email baldwin@fasdunited.org. \nFor more information on becoming an FASD United Affiliate\, go to www.nofasaffiliatenetwork.org/join/
URL:https://fasdunited.org/event/affiliate-access-125/
LOCATION:Online
CATEGORIES:Affiliate Events,NAEC Monthly Meeting
ATTACH;FMTTYPE=image/png:https://fasdunited.org/wp-content/uploads/2022/07/FASD-UNITED-Affiliate-Network-STACKED-FULL_COLOR-ekKkNk.tmp_.png
ORGANIZER;CN="FASD United":MAILTO:affiliate@fasdunited.org
END:VEVENT
BEGIN:VEVENT
DTSTART;TZID=America/New_York:20300606T163000
DTEND;TZID=America/New_York:20300606T173000
DTSTAMP:20260425T084225
CREATED:20251213T200836Z
LAST-MODIFIED:20260110T143352Z
UID:10001998-1906993800-1906997400@fasdunited.org
SUMMARY:Affiliate Access
DESCRIPTION:The FASD United Affiliate Network Executive Council Meeting is held the 1st Thursday of each month at 4:30 pm Eastern.  This meeting is open to Affiliate Executive Council Members only.  To view a list of your Executive Council Members\, click here: Affiliate Executive Council \nMembers of the FASD United Affiliate Executive Council will be emailed a zoom link prior to the meeting.  To add an agenda item or for questions about the Affiliate Executive Council\, email baldwin@fasdunited.org. \nFor more information on becoming an FASD United Affiliate\, go to www.nofasaffiliatenetwork.org/join/
URL:https://fasdunited.org/event/affiliate-access-126/
LOCATION:Online
CATEGORIES:Affiliate Events,NAEC Monthly Meeting
ATTACH;FMTTYPE=image/png:https://fasdunited.org/wp-content/uploads/2022/07/FASD-UNITED-Affiliate-Network-STACKED-FULL_COLOR-ekKkNk.tmp_.png
ORGANIZER;CN="FASD United":MAILTO:affiliate@fasdunited.org
END:VEVENT
BEGIN:VEVENT
DTSTART;TZID=America/New_York:20300704T163000
DTEND;TZID=America/New_York:20300704T173000
DTSTAMP:20260425T084225
CREATED:20251213T200839Z
LAST-MODIFIED:20260110T143439Z
UID:10002000-1909413000-1909416600@fasdunited.org
SUMMARY:Affiliate Access
DESCRIPTION:The FASD United Affiliate Network Executive Council Meeting is held the 1st Thursday of each month at 4:30 pm Eastern.  This meeting is open to Affiliate Executive Council Members only.  To view a list of your Executive Council Members\, click here: Affiliate Executive Council \nMembers of the FASD United Affiliate Executive Council will be emailed a zoom link prior to the meeting.  To add an agenda item or for questions about the Affiliate Executive Council\, email baldwin@fasdunited.org. \nFor more information on becoming an FASD United Affiliate\, go to www.nofasaffiliatenetwork.org/join/
URL:https://fasdunited.org/event/affiliate-access-127/
LOCATION:Online
CATEGORIES:Affiliate Events,NAEC Monthly Meeting
ATTACH;FMTTYPE=image/png:https://fasdunited.org/wp-content/uploads/2022/07/FASD-UNITED-Affiliate-Network-STACKED-FULL_COLOR-ekKkNk.tmp_.png
ORGANIZER;CN="FASD United":MAILTO:affiliate@fasdunited.org
END:VEVENT
BEGIN:VEVENT
DTSTART;TZID=America/New_York:20300801T163000
DTEND;TZID=America/New_York:20300801T173000
DTSTAMP:20260425T084225
CREATED:20251213T200851Z
LAST-MODIFIED:20260110T143456Z
UID:10002002-1911832200-1911835800@fasdunited.org
SUMMARY:Affiliate Access
DESCRIPTION:The FASD United Affiliate Network Executive Council Meeting is held the 1st Thursday of each month at 4:30 pm Eastern.  This meeting is open to Affiliate Executive Council Members only.  To view a list of your Executive Council Members\, click here: Affiliate Executive Council \nMembers of the FASD United Affiliate Executive Council will be emailed a zoom link prior to the meeting.  To add an agenda item or for questions about the Affiliate Executive Council\, email baldwin@fasdunited.org. \nFor more information on becoming an FASD United Affiliate\, go to www.nofasaffiliatenetwork.org/join/
URL:https://fasdunited.org/event/affiliate-access-128/
LOCATION:Online
CATEGORIES:Affiliate Events,NAEC Monthly Meeting
ATTACH;FMTTYPE=image/png:https://fasdunited.org/wp-content/uploads/2022/07/FASD-UNITED-Affiliate-Network-STACKED-FULL_COLOR-ekKkNk.tmp_.png
ORGANIZER;CN="FASD United":MAILTO:affiliate@fasdunited.org
END:VEVENT
BEGIN:VEVENT
DTSTART;TZID=America/New_York:20300905T163000
DTEND;TZID=America/New_York:20300905T173000
DTSTAMP:20260425T084225
CREATED:20251213T200858Z
LAST-MODIFIED:20260110T143545Z
UID:10002004-1914856200-1914859800@fasdunited.org
SUMMARY:Affiliate Access
DESCRIPTION:The FASD United Affiliate Network Executive Council Meeting is held the 1st Thursday of each month at 4:30 pm Eastern.  This meeting is open to Affiliate Executive Council Members only.  To view a list of your Executive Council Members\, click here: Affiliate Executive Council \nMembers of the FASD United Affiliate Executive Council will be emailed a zoom link prior to the meeting.  To add an agenda item or for questions about the Affiliate Executive Council\, email baldwin@fasdunited.org. \nFor more information on becoming an FASD United Affiliate\, go to www.nofasaffiliatenetwork.org/join/
URL:https://fasdunited.org/event/affiliate-access-129/
LOCATION:Online
CATEGORIES:Affiliate Events,NAEC Monthly Meeting
ATTACH;FMTTYPE=image/png:https://fasdunited.org/wp-content/uploads/2022/07/FASD-UNITED-Affiliate-Network-STACKED-FULL_COLOR-ekKkNk.tmp_.png
ORGANIZER;CN="FASD United":MAILTO:affiliate@fasdunited.org
END:VEVENT
BEGIN:VEVENT
DTSTART;TZID=America/New_York:20301003T163000
DTEND;TZID=America/New_York:20301003T173000
DTSTAMP:20260425T084225
CREATED:20251213T200904Z
LAST-MODIFIED:20260110T143600Z
UID:10002006-1917275400-1917279000@fasdunited.org
SUMMARY:Affiliate Access
DESCRIPTION:The FASD United Affiliate Network Executive Council Meeting is held the 1st Thursday of each month at 4:30 pm Eastern.  This meeting is open to Affiliate Executive Council Members only.  To view a list of your Executive Council Members\, click here: Affiliate Executive Council \nMembers of the FASD United Affiliate Executive Council will be emailed a zoom link prior to the meeting.  To add an agenda item or for questions about the Affiliate Executive Council\, email baldwin@fasdunited.org. \nFor more information on becoming an FASD United Affiliate\, go to www.nofasaffiliatenetwork.org/join/
URL:https://fasdunited.org/event/affiliate-access-130/
LOCATION:Online
CATEGORIES:Affiliate Events,NAEC Monthly Meeting
ATTACH;FMTTYPE=image/png:https://fasdunited.org/wp-content/uploads/2022/07/FASD-UNITED-Affiliate-Network-STACKED-FULL_COLOR-ekKkNk.tmp_.png
ORGANIZER;CN="FASD United":MAILTO:affiliate@fasdunited.org
END:VEVENT
BEGIN:VEVENT
DTSTART;TZID=America/New_York:20301107T163000
DTEND;TZID=America/New_York:20301107T173000
DTSTAMP:20260425T084225
CREATED:20251213T200913Z
LAST-MODIFIED:20260110T143647Z
UID:10002008-1920299400-1920303000@fasdunited.org
SUMMARY:Affiliate Access
DESCRIPTION:The FASD United Affiliate Network Executive Council Meeting is held the 1st Thursday of each month at 4:30 pm Eastern.  This meeting is open to Affiliate Executive Council Members only.  To view a list of your Executive Council Members\, click here: Affiliate Executive Council \nMembers of the FASD United Affiliate Executive Council will be emailed a zoom link prior to the meeting.  To add an agenda item or for questions about the Affiliate Executive Council\, email baldwin@fasdunited.org. \nFor more information on becoming an FASD United Affiliate\, go to www.nofasaffiliatenetwork.org/join/
URL:https://fasdunited.org/event/affiliate-access-131/
LOCATION:Online
CATEGORIES:Affiliate Events,NAEC Monthly Meeting
ATTACH;FMTTYPE=image/png:https://fasdunited.org/wp-content/uploads/2022/07/FASD-UNITED-Affiliate-Network-STACKED-FULL_COLOR-ekKkNk.tmp_.png
ORGANIZER;CN="FASD United":MAILTO:affiliate@fasdunited.org
END:VEVENT
BEGIN:VEVENT
DTSTART;TZID=America/New_York:20301205T163000
DTEND;TZID=America/New_York:20301205T173000
DTSTAMP:20260425T084225
CREATED:20251213T200917Z
LAST-MODIFIED:20260110T143703Z
UID:10002010-1922718600-1922722200@fasdunited.org
SUMMARY:Affiliate Access
DESCRIPTION:The FASD United Affiliate Network Executive Council Meeting is held the 1st Thursday of each month at 4:30 pm Eastern.  This meeting is open to Affiliate Executive Council Members only.  To view a list of your Executive Council Members\, click here: Affiliate Executive Council \nMembers of the FASD United Affiliate Executive Council will be emailed a zoom link prior to the meeting.  To add an agenda item or for questions about the Affiliate Executive Council\, email baldwin@fasdunited.org. \nFor more information on becoming an FASD United Affiliate\, go to www.nofasaffiliatenetwork.org/join/
URL:https://fasdunited.org/event/affiliate-access-132/
LOCATION:Online
CATEGORIES:Affiliate Events,NAEC Monthly Meeting
ATTACH;FMTTYPE=image/png:https://fasdunited.org/wp-content/uploads/2022/07/FASD-UNITED-Affiliate-Network-STACKED-FULL_COLOR-ekKkNk.tmp_.png
ORGANIZER;CN="FASD United":MAILTO:affiliate@fasdunited.org
END:VEVENT
END:VCALENDAR