BEGIN:VCALENDAR
VERSION:2.0
PRODID:-//FASD United - ECPv6.15.20//NONSGML v1.0//EN
CALSCALE:GREGORIAN
METHOD:PUBLISH
X-WR-CALNAME:FASD United
X-ORIGINAL-URL:https://fasdunited.org
X-WR-CALDESC:Events for FASD United
REFRESH-INTERVAL;VALUE=DURATION:PT1H
X-Robots-Tag:noindex
X-PUBLISHED-TTL:PT1H
BEGIN:VTIMEZONE
TZID:America/Chicago
BEGIN:DAYLIGHT
TZOFFSETFROM:-0600
TZOFFSETTO:-0500
TZNAME:CDT
DTSTART:20250309T080000
END:DAYLIGHT
BEGIN:STANDARD
TZOFFSETFROM:-0500
TZOFFSETTO:-0600
TZNAME:CST
DTSTART:20251102T070000
END:STANDARD
BEGIN:DAYLIGHT
TZOFFSETFROM:-0600
TZOFFSETTO:-0500
TZNAME:CDT
DTSTART:20260308T080000
END:DAYLIGHT
BEGIN:STANDARD
TZOFFSETFROM:-0500
TZOFFSETTO:-0600
TZNAME:CST
DTSTART:20261101T070000
END:STANDARD
BEGIN:DAYLIGHT
TZOFFSETFROM:-0600
TZOFFSETTO:-0500
TZNAME:CDT
DTSTART:20270314T080000
END:DAYLIGHT
BEGIN:STANDARD
TZOFFSETFROM:-0500
TZOFFSETTO:-0600
TZNAME:CST
DTSTART:20271107T070000
END:STANDARD
END:VTIMEZONE
BEGIN:VEVENT
DTSTART;TZID=America/Chicago:20260130T120000
DTEND;TZID=America/Chicago:20260130T130000
DTSTAMP:20260423T222513
CREATED:20260114T174807Z
LAST-MODIFIED:20260114T174807Z
UID:10002020-1769774400-1769778000@fasdunited.org
SUMMARY:The Critical Role of Trauma-Informed Pediatric Occupational Therapy
DESCRIPTION:Children with fetal alcohol spectrum disorders (FASD) experience brain-based challenges with sensory processing\, emotional regulation\, and participation. This one-hour training explains why trauma-informed pediatric OTs are uniquely positioned to help–and how regulation-first care changes outcomes.
URL:https://fasdunited.org/event/the-critical-role-of-trauma-informed-pediatric-occupational-therapy/
LOCATION:Via Zoom
CATEGORIES:Open to the Public,Public - Affiliate Sponsored,Training
ATTACH;FMTTYPE=image/png:https://fasdunited.org/wp-content/uploads/2026/01/January-2026-Webinar-Flyer.png
ORGANIZER;CN="Texas FASD Network":MAILTO:texasfasd@gmail.com
END:VEVENT
END:VCALENDAR