BEGIN:VCALENDAR
VERSION:2.0
PRODID:-//FASD United - ECPv6.15.20//NONSGML v1.0//EN
CALSCALE:GREGORIAN
METHOD:PUBLISH
X-WR-CALNAME:FASD United
X-ORIGINAL-URL:https://fasdunited.org
X-WR-CALDESC:Events for FASD United
REFRESH-INTERVAL;VALUE=DURATION:PT1H
X-Robots-Tag:noindex
X-PUBLISHED-TTL:PT1H
BEGIN:VTIMEZONE
TZID:America/New_York
BEGIN:DAYLIGHT
TZOFFSETFROM:-0500
TZOFFSETTO:-0400
TZNAME:EDT
DTSTART:20250309T070000
END:DAYLIGHT
BEGIN:STANDARD
TZOFFSETFROM:-0400
TZOFFSETTO:-0500
TZNAME:EST
DTSTART:20251102T060000
END:STANDARD
BEGIN:DAYLIGHT
TZOFFSETFROM:-0500
TZOFFSETTO:-0400
TZNAME:EDT
DTSTART:20260308T070000
END:DAYLIGHT
BEGIN:STANDARD
TZOFFSETFROM:-0400
TZOFFSETTO:-0500
TZNAME:EST
DTSTART:20261101T060000
END:STANDARD
BEGIN:DAYLIGHT
TZOFFSETFROM:-0500
TZOFFSETTO:-0400
TZNAME:EDT
DTSTART:20270314T070000
END:DAYLIGHT
BEGIN:STANDARD
TZOFFSETFROM:-0400
TZOFFSETTO:-0500
TZNAME:EST
DTSTART:20271107T060000
END:STANDARD
END:VTIMEZONE
BEGIN:VTIMEZONE
TZID:America/Chicago
BEGIN:DAYLIGHT
TZOFFSETFROM:-0600
TZOFFSETTO:-0500
TZNAME:CDT
DTSTART:20250309T080000
END:DAYLIGHT
BEGIN:STANDARD
TZOFFSETFROM:-0500
TZOFFSETTO:-0600
TZNAME:CST
DTSTART:20251102T070000
END:STANDARD
BEGIN:DAYLIGHT
TZOFFSETFROM:-0600
TZOFFSETTO:-0500
TZNAME:CDT
DTSTART:20260308T080000
END:DAYLIGHT
BEGIN:STANDARD
TZOFFSETFROM:-0500
TZOFFSETTO:-0600
TZNAME:CST
DTSTART:20261101T070000
END:STANDARD
BEGIN:DAYLIGHT
TZOFFSETFROM:-0600
TZOFFSETTO:-0500
TZNAME:CDT
DTSTART:20270314T080000
END:DAYLIGHT
BEGIN:STANDARD
TZOFFSETFROM:-0500
TZOFFSETTO:-0600
TZNAME:CST
DTSTART:20271107T070000
END:STANDARD
END:VTIMEZONE
BEGIN:VTIMEZONE
TZID:America/Los_Angeles
BEGIN:DAYLIGHT
TZOFFSETFROM:-0800
TZOFFSETTO:-0700
TZNAME:PDT
DTSTART:20250309T100000
END:DAYLIGHT
BEGIN:STANDARD
TZOFFSETFROM:-0700
TZOFFSETTO:-0800
TZNAME:PST
DTSTART:20251102T090000
END:STANDARD
BEGIN:DAYLIGHT
TZOFFSETFROM:-0800
TZOFFSETTO:-0700
TZNAME:PDT
DTSTART:20260308T100000
END:DAYLIGHT
BEGIN:STANDARD
TZOFFSETFROM:-0700
TZOFFSETTO:-0800
TZNAME:PST
DTSTART:20261101T090000
END:STANDARD
BEGIN:DAYLIGHT
TZOFFSETFROM:-0800
TZOFFSETTO:-0700
TZNAME:PDT
DTSTART:20270314T100000
END:DAYLIGHT
BEGIN:STANDARD
TZOFFSETFROM:-0700
TZOFFSETTO:-0800
TZNAME:PST
DTSTART:20271107T090000
END:STANDARD
END:VTIMEZONE
BEGIN:VEVENT
DTSTART;TZID=America/New_York:20260224T183000
DTEND;TZID=America/New_York:20260224T203000
DTSTAMP:20260424T074205
CREATED:20260115T200538Z
LAST-MODIFIED:20260115T200538Z
UID:10002025-1771957800-1771965000@fasdunited.org
SUMMARY:The Big 3: Raging\, Lying\, and Stealing PLUS (+)
DESCRIPTION:Learn innovative approaches for understanding and supporting children and adolescents with a trauma history\, addressing developmental differences\, and improving communication. Some of the most common symptoms with children who have Fetal Alcohol Spectrum Disorders are lying\, stealing\, and raging – “the Big 3”. We will discuss the neuro-developmental aspects of why these behaviors are common and talk about strategies that can help parents and professionals get a handle on these frustrating behaviors. This training will be followed by a monthly coaching series. \nThe Big 3: Raging\, Lying\, and Stealing PLUS (+) \n(2 hour webinar) \nDate: Tuesday\, February 24\, 2026 \nTime: 7:30 pm – 9:30 pm EST / 6:30 pm – 8:30 pm CST \nCost: $27 Early-bird price until February 2nd \n$39 (beginning February 3rd) \nDid you attend or view the recording through the Training Institute\, and wish a refresh\, email Jennifer.Werden@TheFloridaCenter.org for the discount code. \n  \nPLUS (+) \n4 1-Hour Monthly Caregiver Coaching Series \nDates: March 25\, April 22\, May 27\, and June 24\, 2026 \nTime: 8:00-9:00 pm EST / 7:00-8:00 CST \nCost: $80 Early-bird price until February 2nd \n(4 Sessions – $20 each) \n$99 (beginning February 3rd) \nSpace is limited\, early registration highly recommended. \n  \nCertificates Provided. Continuing Education Hours for The Big 3: Raging\, Lying and Stealing webinar. \n2 CEs ($10) for Florida LCSW\, LMHC\, LMFT\, and CMSW through CEBroker. \nFlorida Certification Board recognizes this training for mental health and child-welfare. \nPLUS (+): 4 1-hour monthly Caregiver Coaching Series \nInterested in diving deeper? \nMany caregivers complete training on The Big 3 and then ask\, “How do I take what I’ve learned and handle this at home?” That is where the Plus comes in. With monthly caregiver coaching over four months\, you will be supported by experienced coaches who understand this journey\, not just professionally\, but personally. \nTogether\, we will focus on: \n\nUnderstanding behaviors through a brain-based lens\nFinding strategies that fit your child and your family\nProblem-solving real challenges in real time\nBuilding community with caregivers who get it\nLeaving each session feeling more confident and hopeful\n\nAttending The Big 3 training is a requirement to register for the coaching sessions. Spaces are limited. Register now!
URL:https://fasdunited.org/event/the-big-3-raging-lying-and-stealing-plus/
LOCATION:Virtual
CATEGORIES:Affiliates,Open to the Public,Training
ATTACH;FMTTYPE=image/png:https://fasdunited.org/wp-content/uploads/2026/01/The-Big-3-Plus-photo-1.png
ORGANIZER;CN="The Florida Training Center Institute":MAILTO:training@thefloridacenter.org
END:VEVENT
BEGIN:VEVENT
DTSTART;TZID=America/Chicago:20260226T120000
DTEND;TZID=America/Chicago:20260226T130000
DTSTAMP:20260424T074205
CREATED:20260213T193207Z
LAST-MODIFIED:20260213T193207Z
UID:10002031-1772107200-1772110800@fasdunited.org
SUMMARY:How the Texas FASD Network Helps: Tools\, Training\, and Advocacy
DESCRIPTION:Learn how the Texas FASD Network connects families and professionals to critical FASD resources. This session will walk through the Network’s website resources\, provider directory\, training opportunities\, and advocacy initiatives designed to improve awareness\, access to services\, and outcomes for Texans with FASD.
URL:https://fasdunited.org/event/how-the-texas-fasd-network-helps-tools-training-and-advocacy/
LOCATION:Virtual
CATEGORIES:Affiliate Events,FASD Policy Related Event,Open to the Public,Public - Affiliate Sponsored
ATTACH;FMTTYPE=image/jpeg:https://fasdunited.org/wp-content/uploads/2026/02/February-2026-Webinar-Flyer.jpg
ORGANIZER;CN="Texas FASD Network":MAILTO:texasfasd@gmail.com
END:VEVENT
BEGIN:VEVENT
DTSTART;TZID=America/New_York:20260311T100000
DTEND;TZID=America/New_York:20260311T120000
DTSTAMP:20260424T074205
CREATED:20260217T182637Z
LAST-MODIFIED:20260217T182637Z
UID:10002032-1773223200-1773230400@fasdunited.org
SUMMARY:Exploring the Neurodiversity of FASD
DESCRIPTION:In this session you will learn: \n\nWhat Fetal Alcohol Spectrum Disorder (FASD) is\, the prevalence\, and how it can be prevented\nHow prenatal alcohol exposure affects a developing brain\nThe link between brain function and behaviors- challenges and strengths\nStrategies for changing behaviors\nWhat you can do to prevent FASD and support individuals that may have it\n\nCEU Information: \nThis course provides 2 CEUs. CEUs are Category 1 CEU provided by Indiana State statute 839IAC 1-6-2(F)(86). MHAI Stanley W. DeKemper Training Institute provides CEU’s for the following: \n\nAddiction Counselors\nSocial Workers\nMarriage & Family Therapist\nMental Health Counselors\nCertified Peer Recovery Professionals (CAPRC\, CARC\, CHW/CRS\, CHW\, CCHW)\nCertified Prevention Specialists\n\nPlease allow five business days to receive your CEU certificate. You will receive an email inviting you to download your certificate from Accredible\, our new certificate management platform. \nAdditional information: \n\nThis lunch & learn will be provided via Zoom (www.zoom.us)\nScholarships are available to individuals with financial hardship or parents and caregivers of children with FASD. Please contact us for more information.\nPlease visit https://inalliancepse.org/ for more information on fetal alcohol spectrum disorder (FASD) and fetal alcohol syndrome (FAS).\nYou will be required to be on camera\, participate\, and be available during training hours to receive an attendance certificate. This includes not driving\, shopping\, or other atmospheres that would not be considered like a classroom environment.\nWe recommend that participants have a basic understanding of FASD before attending this training. The session will be interactive\, and we warmly encourage everyone to take part in the discussions and activities.\nContact: Maria Casbon (mcasbon@mhai.net)
URL:https://fasdunited.org/event/exploring-the-neurodiversity-of-fasd/
LOCATION:Virtual
CATEGORIES:Affiliate Events,Open to the Public,Training
ATTACH;FMTTYPE=image/png:https://fasdunited.org/wp-content/uploads/2026/02/Heading-13.png
ORGANIZER;CN="Indiana Alliance on Prenatal Substance Exposure":MAILTO:jfranks@mhai.net
END:VEVENT
BEGIN:VEVENT
DTSTART;TZID=America/Chicago:20260331T080000
DTEND;TZID=America/Chicago:20260331T170000
DTSTAMP:20260424T074205
CREATED:20260325T155841Z
LAST-MODIFIED:20260325T155841Z
UID:10002096-1774944000-1774976400@fasdunited.org
SUMMARY:Sun\, Summer\, Success!
DESCRIPTION:Join Texas FASD Network March 31 at 12:00 Noon (Central) for a free webinar on planning ahead for summer success.
URL:https://fasdunited.org/event/sun-summer-success/2026-03-31/1/
LOCATION:Virtual
CATEGORIES:Open to the Public,Public - Affiliate Sponsored
ATTACH;FMTTYPE=image/png:https://fasdunited.org/wp-content/uploads/2026/03/March-Webinar-Facebook-Post.png
ORGANIZER;CN="Texas FASD Network":MAILTO:texasfasd@gmail.com
END:VEVENT
BEGIN:VEVENT
DTSTART;TZID=America/Chicago:20260331T120000
DTEND;TZID=America/Chicago:20260331T130000
DTSTAMP:20260424T074205
CREATED:20260325T155841Z
LAST-MODIFIED:20260325T155841Z
UID:10002097-1774958400-1774962000@fasdunited.org
SUMMARY:Sun\, Summer\, Success!
DESCRIPTION:Join Texas FASD Network March 31 at 12:00 Noon (Central) for a free webinar on planning ahead for summer success.
URL:https://fasdunited.org/event/sun-summer-success/2026-03-31/2/
LOCATION:Virtual
CATEGORIES:Open to the Public,Public - Affiliate Sponsored
ATTACH;FMTTYPE=image/png:https://fasdunited.org/wp-content/uploads/2026/03/March-Webinar-Facebook-Post.png
ORGANIZER;CN="Texas FASD Network":MAILTO:texasfasd@gmail.com
END:VEVENT
BEGIN:VEVENT
DTSTART;TZID=America/Los_Angeles:20260429T120000
DTEND;TZID=America/Los_Angeles:20260429T140000
DTSTAMP:20260424T074205
CREATED:20260218T160739Z
LAST-MODIFIED:20260218T160739Z
UID:10002093-1777464000-1777471200@fasdunited.org
SUMMARY:International FASD Knowledge Share Collective
DESCRIPTION:An open space to share what you are doing in the field of FASD\, discuss potential interests and ideas regarding recent developments in our states/territories/local areas\, interstate\, international\, or cross-organizational collaborations\, and any other ideas for sharing what has or hasn’t worked\, challenges we’ve experienced\, and how we can learn from one another. The intention is to promote immediate networking and successful connections that can then be furthered through individual collaborations after or in-between Knowledge Share meetings. \nWe meet quarterly via zoom and the day of the week and time of day fluctuate to try to allow participation from various time zones. Meetings are typically recorded so that those who cannot attend can still access the content and discussion. \nSign up instructions at: https://www.fasdcollaborative.com/sig
URL:https://fasdunited.org/event/international-fasd-knowledge-share-collective/
LOCATION:Virtual
CATEGORIES:Open to the Public
ATTACH;FMTTYPE=image/png:https://fasdunited.org/wp-content/uploads/2026/02/Intl-FASDKnowShareLogo.png
ORGANIZER;CN="FASD Collaborative Project":MAILTO:info@fasdcollaborative.com
END:VEVENT
BEGIN:VEVENT
DTSTART;TZID=America/New_York:20260512T130000
DTEND;TZID=America/New_York:20260512T150000
DTSTAMP:20260424T074205
CREATED:20260323T133337Z
LAST-MODIFIED:20260323T133337Z
UID:10002095-1778590800-1778598000@fasdunited.org
SUMMARY:Adult Leadership Collaborative of FASD Changemakers:   Forgotten or Ignored?   FASD as the Adult Orphan of Disability –   Does Anyone Care?
DESCRIPTION:For more than four decades\, adults living with Fetal Alcohol Spectrum Disorder (FASD) have been described as the “orphan child of disability\,” a term originally used by a provincial court judge in British Columbia who repeatedly encountered individuals with FASD in the justice system without appropriate diagnosis\, understanding\, or support. Unfortunately\, this description remains strikingly relevant today. \nIn this workshop\, the FASD Changemakers Adult Leadership Cooperative (ALC) will explore the systemic and societal factors that have contributed to the ongoing marginalization of adults with FASD. Participants will examine how missed or delayed diagnosis\, lack of informed support systems\, and widespread misunderstanding of brain-based disabilities have left many adults with FASD overlooked by service systems designed to help them. \nThrough lived experience perspectives and critical discussion\, the presenters will examine what has gone wrong over the past 40 years and why many adults with FASD continue to fall through the cracks in health care\, social services\, education\, and the justice system. The session will challenge participants to reflect on the roles systems and professionals play in perpetuating or addressing these gaps. \nParticipants will also be encouraged to consider what must change moving forward. By identifying key barriers and exploring practical ways to improve awareness\, response\, and support for adults with FASD\, this workshop aims to shift the conversation from understanding the problem to becoming part of meaningful solutions for the future. \nLearning Objectives: \n\nDefine the concept of the “orphan child of disability” as it relates to adults living with Fetal Alcohol Spectrum Disorder (FASD).\nIdentify systemic barriers that contribute to missed diagnosis\, misunderstanding\, and lack of appropriate support for adults with FASD.\nDescribe how gaps across service systems (health care\, education\, social services\, and justice) impact outcomes for individuals with FASD.\nDiscuss strategies professionals can use to improve recognition\, support\, and response for adults living with FASD.
URL:https://fasdunited.org/event/adult-leadership-collaborative-of-fasd-changemakers-forgotten-or-ignored-fasd-as-the-adult-orphan-of-disability-does-anyone-care/
LOCATION:Virtual
CATEGORIES:Open to the Public,Training
ATTACH;FMTTYPE=image/png:https://fasdunited.org/wp-content/uploads/2026/03/2026-05-12-Changemakers-Forgotton-or-Ignored-PHOTO.png
END:VEVENT
END:VCALENDAR