BEGIN:VCALENDAR
VERSION:2.0
PRODID:-//FASD United - ECPv6.15.20//NONSGML v1.0//EN
CALSCALE:GREGORIAN
METHOD:PUBLISH
X-WR-CALNAME:FASD United
X-ORIGINAL-URL:https://fasdunited.org
X-WR-CALDESC:Events for FASD United
REFRESH-INTERVAL;VALUE=DURATION:PT1H
X-Robots-Tag:noindex
X-PUBLISHED-TTL:PT1H
BEGIN:VTIMEZONE
TZID:America/New_York
BEGIN:DAYLIGHT
TZOFFSETFROM:-0500
TZOFFSETTO:-0400
TZNAME:EDT
DTSTART:20240310T070000
END:DAYLIGHT
BEGIN:STANDARD
TZOFFSETFROM:-0400
TZOFFSETTO:-0500
TZNAME:EST
DTSTART:20241103T060000
END:STANDARD
BEGIN:DAYLIGHT
TZOFFSETFROM:-0500
TZOFFSETTO:-0400
TZNAME:EDT
DTSTART:20250309T070000
END:DAYLIGHT
BEGIN:STANDARD
TZOFFSETFROM:-0400
TZOFFSETTO:-0500
TZNAME:EST
DTSTART:20251102T060000
END:STANDARD
BEGIN:DAYLIGHT
TZOFFSETFROM:-0500
TZOFFSETTO:-0400
TZNAME:EDT
DTSTART:20260308T070000
END:DAYLIGHT
BEGIN:STANDARD
TZOFFSETFROM:-0400
TZOFFSETTO:-0500
TZNAME:EST
DTSTART:20261101T060000
END:STANDARD
END:VTIMEZONE
BEGIN:VEVENT
DTSTART;TZID=America/New_York:20251112T120000
DTEND;TZID=America/New_York:20251112T123000
DTSTAMP:20260423T235304
CREATED:20250913T233854Z
LAST-MODIFIED:20251112T225031Z
UID:10001718-1762948800-1762950600@fasdunited.org
SUMMARY:FASD United Weekly Policy Drop-in
DESCRIPTION:Do you have a question about advocating for The FASD Respect Act?  Want to give and receive updates? This weekly Zoom drop-in session is a great space to do it. The dedicated staff of the FASD United Policy Team will be on hand to answer your questions\, give support\, and cheer you on!\n\n\nThe Zoom drop-in is held on Wednesdays at Noon Eastern\, 11 am Central\, 10 am Mountain\, 9 am Pacific\, 8 am Alaskan\, and 6 am Hawaiian time. https://zoom.us/j/94210118165?pwd=VlVLcW01U29BTi9NTytVS1pzWVE3dz09&from=addon  \nMeeting ID: 942 1011 8165 Passcode: 337897
URL:https://fasdunited.org/event/fasd-united-weekly-policy-drop-in-46/
LOCATION:Via Zoom
CATEGORIES:Respect Act Drop In
ORGANIZER;CN="FASD United":MAILTO:affiliate@fasdunited.org
END:VEVENT
BEGIN:VEVENT
DTSTART;TZID=America/New_York:20251105T120000
DTEND;TZID=America/New_York:20251105T123000
DTSTAMP:20260423T235304
CREATED:20250906T232354Z
LAST-MODIFIED:20251104T235335Z
UID:10001715-1762344000-1762345800@fasdunited.org
SUMMARY:FASD United Weekly Policy Drop-in
DESCRIPTION:Do you have a question about advocating for The FASD Respect Act?  Want to give and receive updates? This weekly Zoom drop-in session is a great space to do it. The dedicated staff of the FASD United Policy Team will be on hand to answer your questions\, give support\, and cheer you on!\n\n\nThe Zoom drop-in is held on Wednesdays at Noon Eastern\, 11 am Central\, 10 am Mountain\, 9 am Pacific\, 8 am Alaskan\, and 6 am Hawaiian time. https://zoom.us/j/94210118165?pwd=VlVLcW01U29BTi9NTytVS1pzWVE3dz09&from=addon  \nMeeting ID: 942 1011 8165 Passcode: 337897
URL:https://fasdunited.org/event/fasd-united-weekly-policy-drop-in-45/
LOCATION:Via Zoom
CATEGORIES:Respect Act Drop In
ORGANIZER;CN="FASD United":MAILTO:affiliate@fasdunited.org
END:VEVENT
BEGIN:VEVENT
DTSTART;TZID=America/New_York:20251022T120000
DTEND;TZID=America/New_York:20251022T123000
DTSTAMP:20260423T235304
CREATED:20250823T225342Z
LAST-MODIFIED:20251022T225335Z
UID:10001696-1761134400-1761136200@fasdunited.org
SUMMARY:FASD United Weekly Policy Drop-in
DESCRIPTION:Do you have a question about advocating for The FASD Respect Act?  Want to give and receive updates? This weekly Zoom drop-in session is a great space to do it. The dedicated staff of the FASD United Policy Team will be on hand to answer your questions\, give support\, and cheer you on!\n\n\nThe Zoom drop-in is held on Wednesdays at Noon Eastern\, 11 am Central\, 10 am Mountain\, 9 am Pacific\, 8 am Alaskan\, and 6 am Hawaiian time. https://zoom.us/j/94210118165?pwd=VlVLcW01U29BTi9NTytVS1pzWVE3dz09&from=addon  \nMeeting ID: 942 1011 8165 Passcode: 337897
URL:https://fasdunited.org/event/fasd-united-weekly-policy-drop-in-44/
LOCATION:Via Zoom
CATEGORIES:Respect Act Drop In
ORGANIZER;CN="FASD United":MAILTO:affiliate@fasdunited.org
END:VEVENT
BEGIN:VEVENT
DTSTART;TZID=America/New_York:20251015T120000
DTEND;TZID=America/New_York:20251015T123000
DTSTAMP:20260423T235304
CREATED:20250816T233846Z
LAST-MODIFIED:20251008T235358Z
UID:10001695-1760529600-1760531400@fasdunited.org
SUMMARY:FASD United Weekly Policy Drop-in
DESCRIPTION:Do you have a question about advocating for The FASD Respect Act?  Want to give and receive updates? This weekly Zoom drop-in session is a great space to do it. The dedicated staff of the FASD United Policy Team will be on hand to answer your questions\, give support\, and cheer you on!\n\n\nThe Zoom drop-in is held on Wednesdays at Noon Eastern\, 11 am Central\, 10 am Mountain\, 9 am Pacific\, 8 am Alaskan\, and 6 am Hawaiian time. https://zoom.us/j/94210118165?pwd=VlVLcW01U29BTi9NTytVS1pzWVE3dz09&from=addon  \nMeeting ID: 942 1011 8165 Passcode: 337897
URL:https://fasdunited.org/event/fasd-united-weekly-policy-drop-in-43/
LOCATION:Via Zoom
CATEGORIES:Respect Act Drop In
ORGANIZER;CN="FASD United":MAILTO:affiliate@fasdunited.org
END:VEVENT
BEGIN:VEVENT
DTSTART;TZID=America/New_York:20251008T120000
DTEND;TZID=America/New_York:20251008T123000
DTSTAMP:20260423T235304
CREATED:20250809T230857Z
LAST-MODIFIED:20251008T235349Z
UID:10001693-1759924800-1759926600@fasdunited.org
SUMMARY:FASD United Weekly Policy Drop-in
DESCRIPTION:Do you have a question about advocating for The FASD Respect Act?  Want to give and receive updates? This weekly Zoom drop-in session is a great space to do it. The dedicated staff of the FASD United Policy Team will be on hand to answer your questions\, give support\, and cheer you on!\n\n\nThe Zoom drop-in is held on Wednesdays at Noon Eastern\, 11 am Central\, 10 am Mountain\, 9 am Pacific\, 8 am Alaskan\, and 6 am Hawaiian time. https://zoom.us/j/94210118165?pwd=VlVLcW01U29BTi9NTytVS1pzWVE3dz09&from=addon  \nMeeting ID: 942 1011 8165 Passcode: 337897
URL:https://fasdunited.org/event/fasd-united-weekly-policy-drop-in-42/
LOCATION:Via Zoom
CATEGORIES:Respect Act Drop In
ORGANIZER;CN="FASD United":MAILTO:affiliate@fasdunited.org
END:VEVENT
BEGIN:VEVENT
DTSTART;TZID=America/New_York:20251001T120000
DTEND;TZID=America/New_York:20251001T123000
DTSTAMP:20260423T235304
CREATED:20250802T225358Z
LAST-MODIFIED:20251001T233827Z
UID:10001684-1759320000-1759321800@fasdunited.org
SUMMARY:FASD United Weekly Policy Drop-in
DESCRIPTION:Do you have a question about advocating for The FASD Respect Act?  Want to give and receive updates? This weekly Zoom drop-in session is a great space to do it. The dedicated staff of the FASD United Policy Team will be on hand to answer your questions\, give support\, and cheer you on!\n\n\nThe Zoom drop-in is held on Wednesdays at Noon Eastern\, 11 am Central\, 10 am Mountain\, 9 am Pacific\, 8 am Alaskan\, and 6 am Hawaiian time. https://zoom.us/j/94210118165?pwd=VlVLcW01U29BTi9NTytVS1pzWVE3dz09&from=addon  \nMeeting ID: 942 1011 8165 Passcode: 337897
URL:https://fasdunited.org/event/fasd-united-weekly-policy-drop-in-41/
LOCATION:Via Zoom
CATEGORIES:Respect Act Drop In
ORGANIZER;CN="FASD United":MAILTO:affiliate@fasdunited.org
END:VEVENT
BEGIN:VEVENT
DTSTART;TZID=America/New_York:20250917T120000
DTEND;TZID=America/New_York:20250917T123000
DTSTAMP:20260423T235304
CREATED:20250719T230910Z
LAST-MODIFIED:20250917T233827Z
UID:10001680-1758110400-1758112200@fasdunited.org
SUMMARY:FASD United Weekly Policy Drop-in
DESCRIPTION:Do you have a question about advocating for The FASD Respect Act?  Want to give and receive updates? This weekly Zoom drop-in session is a great space to do it. The dedicated staff of the FASD United Policy Team will be on hand to answer your questions\, give support\, and cheer you on!\n\n\nThe Zoom drop-in is held on Wednesdays at Noon Eastern\, 11 am Central\, 10 am Mountain\, 9 am Pacific\, 8 am Alaskan\, and 6 am Hawaiian time. https://zoom.us/j/94210118165?pwd=VlVLcW01U29BTi9NTytVS1pzWVE3dz09&from=addon  \nMeeting ID: 942 1011 8165 Passcode: 337897
URL:https://fasdunited.org/event/fasd-united-weekly-policy-drop-in-40/
LOCATION:Via Zoom
CATEGORIES:Respect Act Drop In
ORGANIZER;CN="FASD United":MAILTO:affiliate@fasdunited.org
END:VEVENT
BEGIN:VEVENT
DTSTART;TZID=America/New_York:20250910T120000
DTEND;TZID=America/New_York:20250910T123000
DTSTAMP:20260423T235304
CREATED:20250712T230857Z
LAST-MODIFIED:20250910T232333Z
UID:10001677-1757505600-1757507400@fasdunited.org
SUMMARY:FASD United Weekly Policy Drop-in
DESCRIPTION:Do you have a question about advocating for The FASD Respect Act?  Want to give and receive updates? This weekly Zoom drop-in session is a great space to do it. The dedicated staff of the FASD United Policy Team will be on hand to answer your questions\, give support\, and cheer you on!\n\n\nThe Zoom drop-in is held on Wednesdays at Noon Eastern\, 11 am Central\, 10 am Mountain\, 9 am Pacific\, 8 am Alaskan\, and 6 am Hawaiian time. https://zoom.us/j/94210118165?pwd=VlVLcW01U29BTi9NTytVS1pzWVE3dz09&from=addon  \nMeeting ID: 942 1011 8165 Passcode: 337897
URL:https://fasdunited.org/event/fasd-united-weekly-policy-drop-in-39/
LOCATION:Via Zoom
CATEGORIES:Respect Act Drop In
ORGANIZER;CN="FASD United":MAILTO:affiliate@fasdunited.org
END:VEVENT
BEGIN:VEVENT
DTSTART;TZID=America/New_York:20250903T120000
DTEND;TZID=America/New_York:20250903T123000
DTSTAMP:20260423T235304
CREATED:20250705T232357Z
LAST-MODIFIED:20250903T232321Z
UID:10001670-1756900800-1756902600@fasdunited.org
SUMMARY:FASD United Weekly Policy Drop-in
DESCRIPTION:Do you have a question about advocating for The FASD Respect Act?  Want to give and receive updates? This weekly Zoom drop-in session is a great space to do it. The dedicated staff of the FASD United Policy Team will be on hand to answer your questions\, give support\, and cheer you on!\n\n\nThe Zoom drop-in is held on Wednesdays at Noon Eastern\, 11 am Central\, 10 am Mountain\, 9 am Pacific\, 8 am Alaskan\, and 6 am Hawaiian time. https://zoom.us/j/94210118165?pwd=VlVLcW01U29BTi9NTytVS1pzWVE3dz09&from=addon  \nMeeting ID: 942 1011 8165 Passcode: 337897
URL:https://fasdunited.org/event/fasd-united-weekly-policy-drop-in-38/
LOCATION:Via Zoom
CATEGORIES:Respect Act Drop In
ORGANIZER;CN="FASD United":MAILTO:affiliate@fasdunited.org
END:VEVENT
BEGIN:VEVENT
DTSTART;TZID=America/New_York:20250820T120000
DTEND;TZID=America/New_York:20250820T123000
DTSTAMP:20260423T235304
CREATED:20250622T225356Z
LAST-MODIFIED:20250820T235330Z
UID:10001666-1755691200-1755693000@fasdunited.org
SUMMARY:FASD United Weekly Policy Drop-in
DESCRIPTION:Do you have a question about advocating for The FASD Respect Act?  Want to give and receive updates? This weekly Zoom drop-in session is a great space to do it. The dedicated staff of the FASD United Policy Team will be on hand to answer your questions\, give support\, and cheer you on!\n\n\nThe Zoom drop-in is held on Wednesdays at Noon Eastern\, 11 am Central\, 10 am Mountain\, 9 am Pacific\, 8 am Alaskan\, and 6 am Hawaiian time. https://zoom.us/j/94210118165?pwd=VlVLcW01U29BTi9NTytVS1pzWVE3dz09&from=addon  \nMeeting ID: 942 1011 8165 Passcode: 337897
URL:https://fasdunited.org/event/fasd-united-weekly-policy-drop-in-37/
LOCATION:Via Zoom
CATEGORIES:Respect Act Drop In
ORGANIZER;CN="FASD United":MAILTO:affiliate@fasdunited.org
END:VEVENT
BEGIN:VEVENT
DTSTART;TZID=America/New_York:20250813T120000
DTEND;TZID=America/New_York:20250813T123000
DTSTAMP:20260423T235304
CREATED:20250614T230900Z
LAST-MODIFIED:20250813T230823Z
UID:10001663-1755086400-1755088200@fasdunited.org
SUMMARY:FASD United Weekly Policy Drop-in
DESCRIPTION:Do you have a question about advocating for The FASD Respect Act?  Want to give and receive updates? This weekly Zoom drop-in session is a great space to do it. The dedicated staff of the FASD United Policy Team will be on hand to answer your questions\, give support\, and cheer you on!\n\n\nThe Zoom drop-in is held on Wednesdays at Noon Eastern\, 11 am Central\, 10 am Mountain\, 9 am Pacific\, 8 am Alaskan\, and 6 am Hawaiian time. https://zoom.us/j/94210118165?pwd=VlVLcW01U29BTi9NTytVS1pzWVE3dz09&from=addon  \nMeeting ID: 942 1011 8165 Passcode: 337897
URL:https://fasdunited.org/event/fasd-united-weekly-policy-drop-in-36/
LOCATION:Via Zoom
CATEGORIES:Respect Act Drop In
ORGANIZER;CN="FASD United":MAILTO:affiliate@fasdunited.org
END:VEVENT
BEGIN:VEVENT
DTSTART;TZID=America/New_York:20250806T120000
DTEND;TZID=America/New_York:20250806T123000
DTSTAMP:20260423T235304
CREATED:20250607T233859Z
LAST-MODIFIED:20250806T230857Z
UID:10001661-1754481600-1754483400@fasdunited.org
SUMMARY:FASD United Weekly Policy Drop-in
DESCRIPTION:Do you have a question about advocating for The FASD Respect Act?  Want to give and receive updates? This weekly Zoom drop-in session is a great space to do it. The dedicated staff of the FASD United Policy Team will be on hand to answer your questions\, give support\, and cheer you on!\n\n\nThe Zoom drop-in is held on Wednesdays at Noon Eastern\, 11 am Central\, 10 am Mountain\, 9 am Pacific\, 8 am Alaskan\, and 6 am Hawaiian time. https://zoom.us/j/94210118165?pwd=VlVLcW01U29BTi9NTytVS1pzWVE3dz09&from=addon  \nMeeting ID: 942 1011 8165 Passcode: 337897
URL:https://fasdunited.org/event/fasd-united-weekly-policy-drop-in-35/
LOCATION:Via Zoom
CATEGORIES:Respect Act Drop In
ORGANIZER;CN="FASD United":MAILTO:affiliate@fasdunited.org
END:VEVENT
BEGIN:VEVENT
DTSTART;TZID=America/New_York:20250723T120000
DTEND;TZID=America/New_York:20250723T123000
DTSTAMP:20260423T235304
CREATED:20250525T032403Z
LAST-MODIFIED:20250723T232325Z
UID:10001659-1753272000-1753273800@fasdunited.org
SUMMARY:FASD United Weekly Policy Drop-in
DESCRIPTION:Do you have a question about advocating for The FASD Respect Act?  Want to give and receive updates? This weekly Zoom drop-in session is a great space to do it. The dedicated staff of the FASD United Policy Team will be on hand to answer your questions\, give support\, and cheer you on!\n\n\nThe Zoom drop-in is held on Wednesdays at Noon Eastern\, 11 am Central\, 10 am Mountain\, 9 am Pacific\, 8 am Alaskan\, and 6 am Hawaiian time. https://zoom.us/j/94210118165?pwd=VlVLcW01U29BTi9NTytVS1pzWVE3dz09&from=addon  \nMeeting ID: 942 1011 8165 Passcode: 337897
URL:https://fasdunited.org/event/fasd-united-weekly-policy-drop-in-34/
LOCATION:Via Zoom
CATEGORIES:Respect Act Drop In
ORGANIZER;CN="FASD United":MAILTO:affiliate@fasdunited.org
END:VEVENT
BEGIN:VEVENT
DTSTART;TZID=America/New_York:20250716T120000
DTEND;TZID=America/New_York:20250716T123000
DTSTAMP:20260423T235304
CREATED:20250518T030912Z
LAST-MODIFIED:20250716T230826Z
UID:10001658-1752667200-1752669000@fasdunited.org
SUMMARY:FASD United Weekly Policy Drop-in
DESCRIPTION:Do you have a question about advocating for The FASD Respect Act?  Want to give and receive updates? This weekly Zoom drop-in session is a great space to do it. The dedicated staff of the FASD United Policy Team will be on hand to answer your questions\, give support\, and cheer you on!\n\n\nThe Zoom drop-in is held on Wednesdays at Noon Eastern\, 11 am Central\, 10 am Mountain\, 9 am Pacific\, 8 am Alaskan\, and 6 am Hawaiian time. https://zoom.us/j/94210118165?pwd=VlVLcW01U29BTi9NTytVS1pzWVE3dz09&from=addon  \nMeeting ID: 942 1011 8165 Passcode: 337897
URL:https://fasdunited.org/event/fasd-united-weekly-policy-drop-in-33/
LOCATION:Via Zoom
CATEGORIES:Respect Act Drop In
ORGANIZER;CN="FASD United":MAILTO:affiliate@fasdunited.org
END:VEVENT
BEGIN:VEVENT
DTSTART;TZID=America/New_York:20250709T120000
DTEND;TZID=America/New_York:20250709T123000
DTSTAMP:20260423T235304
CREATED:20250511T025353Z
LAST-MODIFIED:20250709T235324Z
UID:10001654-1752062400-1752064200@fasdunited.org
SUMMARY:FASD United Weekly Policy Drop-in
DESCRIPTION:Do you have a question about advocating for The FASD Respect Act?  Want to give and receive updates? This weekly Zoom drop-in session is a great space to do it. The dedicated staff of the FASD United Policy Team will be on hand to answer your questions\, give support\, and cheer you on!\n\n\nThe Zoom drop-in is held on Wednesdays at Noon Eastern\, 11 am Central\, 10 am Mountain\, 9 am Pacific\, 8 am Alaskan\, and 6 am Hawaiian time. https://zoom.us/j/94210118165?pwd=VlVLcW01U29BTi9NTytVS1pzWVE3dz09&from=addon  \nMeeting ID: 942 1011 8165 Passcode: 337897
URL:https://fasdunited.org/event/fasd-united-weekly-policy-drop-in-32/
LOCATION:Via Zoom
CATEGORIES:Respect Act Drop In
ORGANIZER;CN="FASD United":MAILTO:affiliate@fasdunited.org
END:VEVENT
BEGIN:VEVENT
DTSTART;TZID=America/New_York:20250702T120000
DTEND;TZID=America/New_York:20250702T123000
DTSTAMP:20260423T235304
CREATED:20250504T033844Z
LAST-MODIFIED:20250702T230828Z
UID:10001644-1751457600-1751459400@fasdunited.org
SUMMARY:FASD United Weekly Policy Drop-in
DESCRIPTION:Do you have a question about advocating for The FASD Respect Act?  Want to give and receive updates? This weekly Zoom drop-in session is a great space to do it. The dedicated staff of the FASD United Policy Team will be on hand to answer your questions\, give support\, and cheer you on!\n\n\nThe Zoom drop-in is held on Wednesdays at Noon Eastern\, 11 am Central\, 10 am Mountain\, 9 am Pacific\, 8 am Alaskan\, and 6 am Hawaiian time. https://zoom.us/j/94210118165?pwd=VlVLcW01U29BTi9NTytVS1pzWVE3dz09&from=addon  \nMeeting ID: 942 1011 8165 Passcode: 337897
URL:https://fasdunited.org/event/fasd-united-weekly-policy-drop-in-31/
LOCATION:Via Zoom
CATEGORIES:Respect Act Drop In
ORGANIZER;CN="FASD United":MAILTO:affiliate@fasdunited.org
END:VEVENT
BEGIN:VEVENT
DTSTART;TZID=America/New_York:20250618T120000
DTEND;TZID=America/New_York:20250618T123000
DTSTAMP:20260423T235304
CREATED:20250420T033855Z
LAST-MODIFIED:20250618T233844Z
UID:10001641-1750248000-1750249800@fasdunited.org
SUMMARY:FASD United Weekly Policy Drop-in
DESCRIPTION:Do you have a question about advocating for The FASD Respect Act?  Want to give and receive updates? This weekly Zoom drop-in session is a great space to do it. The dedicated staff of the FASD United Policy Team will be on hand to answer your questions\, give support\, and cheer you on!\n\n\nThe Zoom drop-in is held on Wednesdays at Noon Eastern\, 11 am Central\, 10 am Mountain\, 9 am Pacific\, 8 am Alaskan\, and 6 am Hawaiian time. https://zoom.us/j/94210118165?pwd=VlVLcW01U29BTi9NTytVS1pzWVE3dz09&from=addon  \nMeeting ID: 942 1011 8165 Passcode: 337897
URL:https://fasdunited.org/event/fasd-united-weekly-policy-drop-in-30/
LOCATION:Via Zoom
CATEGORIES:Respect Act Drop In
ORGANIZER;CN="FASD United":MAILTO:affiliate@fasdunited.org
END:VEVENT
BEGIN:VEVENT
DTSTART;TZID=America/New_York:20250611T120000
DTEND;TZID=America/New_York:20250611T123000
DTSTAMP:20260423T235304
CREATED:20250413T030958Z
LAST-MODIFIED:20250611T235358Z
UID:10001639-1749643200-1749645000@fasdunited.org
SUMMARY:FASD United Weekly Policy Drop-in
DESCRIPTION:Do you have a question about advocating for The FASD Respect Act?  Want to give and receive updates? This weekly Zoom drop-in session is a great space to do it. The dedicated staff of the FASD United Policy Team will be on hand to answer your questions\, give support\, and cheer you on!\n\n\nThe Zoom drop-in is held on Wednesdays at Noon Eastern\, 11 am Central\, 10 am Mountain\, 9 am Pacific\, 8 am Alaskan\, and 6 am Hawaiian time. https://zoom.us/j/94210118165?pwd=VlVLcW01U29BTi9NTytVS1pzWVE3dz09&from=addon  \nMeeting ID: 942 1011 8165 Passcode: 337897
URL:https://fasdunited.org/event/fasd-united-weekly-policy-drop-in-29/
LOCATION:Via Zoom
CATEGORIES:Respect Act Drop In
ORGANIZER;CN="FASD United":MAILTO:affiliate@fasdunited.org
END:VEVENT
BEGIN:VEVENT
DTSTART;TZID=America/New_York:20250604T120000
DTEND;TZID=America/New_York:20250604T123000
DTSTAMP:20260423T235304
CREATED:20250406T034052Z
LAST-MODIFIED:20250604T232320Z
UID:10001638-1749038400-1749040200@fasdunited.org
SUMMARY:FASD United Weekly Policy Drop-in
DESCRIPTION:Do you have a question about advocating for The FASD Respect Act?  Want to give and receive updates? This weekly Zoom drop-in session is a great space to do it. The dedicated staff of the FASD United Policy Team will be on hand to answer your questions\, give support\, and cheer you on!\n\n\nThe Zoom drop-in is held on Wednesdays at Noon Eastern\, 11 am Central\, 10 am Mountain\, 9 am Pacific\, 8 am Alaskan\, and 6 am Hawaiian time. https://zoom.us/j/94210118165?pwd=VlVLcW01U29BTi9NTytVS1pzWVE3dz09&from=addon  \nMeeting ID: 942 1011 8165 Passcode: 337897
URL:https://fasdunited.org/event/fasd-united-weekly-policy-drop-in-28/
LOCATION:Via Zoom
CATEGORIES:Respect Act Drop In
ORGANIZER;CN="FASD United":MAILTO:affiliate@fasdunited.org
END:VEVENT
BEGIN:VEVENT
DTSTART;TZID=America/New_York:20250521T120000
DTEND;TZID=America/New_York:20250521T123000
DTSTAMP:20260423T235304
CREATED:20250323T035400Z
LAST-MODIFIED:20250522T032330Z
UID:10001636-1747828800-1747830600@fasdunited.org
SUMMARY:FASD United Weekly Policy Drop-in
DESCRIPTION:Do you have a question about advocating for The FASD Respect Act?  Want to give and receive updates? This weekly Zoom drop-in session is a great space to do it. The dedicated staff of the FASD United Policy Team will be on hand to answer your questions\, give support\, and cheer you on!\n\n\nThe Zoom drop-in is held on Wednesdays at Noon Eastern\, 11 am Central\, 10 am Mountain\, 9 am Pacific\, 8 am Alaskan\, and 6 am Hawaiian time. https://zoom.us/j/94210118165?pwd=VlVLcW01U29BTi9NTytVS1pzWVE3dz09&from=addon  \nMeeting ID: 942 1011 8165 Passcode: 337897
URL:https://fasdunited.org/event/fasd-united-weekly-policy-drop-in-27/
LOCATION:Via Zoom
CATEGORIES:Respect Act Drop In
ORGANIZER;CN="FASD United":MAILTO:affiliate@fasdunited.org
END:VEVENT
BEGIN:VEVENT
DTSTART;TZID=America/New_York:20250514T120000
DTEND;TZID=America/New_York:20250514T123000
DTSTAMP:20260423T235304
CREATED:20250316T030856Z
LAST-MODIFIED:20250515T025323Z
UID:10001629-1747224000-1747225800@fasdunited.org
SUMMARY:FASD United Weekly Policy Drop-in
DESCRIPTION:Do you have a question about advocating for The FASD Respect Act?  Want to give and receive updates? This weekly Zoom drop-in session is a great space to do it. The dedicated staff of the FASD United Policy Team will be on hand to answer your questions\, give support\, and cheer you on!\n\n\nThe Zoom drop-in is held on Wednesdays at Noon Eastern\, 11 am Central\, 10 am Mountain\, 9 am Pacific\, 8 am Alaskan\, and 6 am Hawaiian time. https://zoom.us/j/94210118165?pwd=VlVLcW01U29BTi9NTytVS1pzWVE3dz09&from=addon  \nMeeting ID: 942 1011 8165 Passcode: 337897
URL:https://fasdunited.org/event/fasd-united-weekly-policy-drop-in-26/
LOCATION:Via Zoom
CATEGORIES:Respect Act Drop In
ORGANIZER;CN="FASD United":MAILTO:affiliate@fasdunited.org
END:VEVENT
BEGIN:VEVENT
DTSTART;TZID=America/New_York:20250507T120000
DTEND;TZID=America/New_York:20250507T123000
DTSTAMP:20260423T235304
CREATED:20250309T045417Z
LAST-MODIFIED:20250508T035325Z
UID:10001621-1746619200-1746621000@fasdunited.org
SUMMARY:FASD United Weekly Policy Drop-in
DESCRIPTION:Do you have a question about advocating for The FASD Respect Act?  Want to give and receive updates? This weekly Zoom drop-in session is a great space to do it. The dedicated staff of the FASD United Policy Team will be on hand to answer your questions\, give support\, and cheer you on!\n\n\nThe Zoom drop-in is held on Wednesdays at Noon Eastern\, 11 am Central\, 10 am Mountain\, 9 am Pacific\, 8 am Alaskan\, and 6 am Hawaiian time. https://zoom.us/j/94210118165?pwd=VlVLcW01U29BTi9NTytVS1pzWVE3dz09&from=addon  \nMeeting ID: 942 1011 8165 Passcode: 337897
URL:https://fasdunited.org/event/fasd-united-weekly-policy-drop-in-25/
LOCATION:Via Zoom
CATEGORIES:Respect Act Drop In
ORGANIZER;CN="FASD United":MAILTO:affiliate@fasdunited.org
END:VEVENT
END:VCALENDAR