BEGIN:VCALENDAR
VERSION:2.0
PRODID:-//FASD United - ECPv6.15.20//NONSGML v1.0//EN
CALSCALE:GREGORIAN
METHOD:PUBLISH
X-WR-CALNAME:FASD United
X-ORIGINAL-URL:https://fasdunited.org
X-WR-CALDESC:Events for FASD United
REFRESH-INTERVAL;VALUE=DURATION:PT1H
X-Robots-Tag:noindex
X-PUBLISHED-TTL:PT1H
BEGIN:VTIMEZONE
TZID:America/Los_Angeles
BEGIN:DAYLIGHT
TZOFFSETFROM:-0800
TZOFFSETTO:-0700
TZNAME:PDT
DTSTART:20240310T100000
END:DAYLIGHT
BEGIN:STANDARD
TZOFFSETFROM:-0700
TZOFFSETTO:-0800
TZNAME:PST
DTSTART:20241103T090000
END:STANDARD
BEGIN:DAYLIGHT
TZOFFSETFROM:-0800
TZOFFSETTO:-0700
TZNAME:PDT
DTSTART:20250309T100000
END:DAYLIGHT
BEGIN:STANDARD
TZOFFSETFROM:-0700
TZOFFSETTO:-0800
TZNAME:PST
DTSTART:20251102T090000
END:STANDARD
BEGIN:DAYLIGHT
TZOFFSETFROM:-0800
TZOFFSETTO:-0700
TZNAME:PDT
DTSTART:20260308T100000
END:DAYLIGHT
BEGIN:STANDARD
TZOFFSETFROM:-0700
TZOFFSETTO:-0800
TZNAME:PST
DTSTART:20261101T090000
END:STANDARD
END:VTIMEZONE
BEGIN:VTIMEZONE
TZID:UTC
BEGIN:STANDARD
TZOFFSETFROM:+0000
TZOFFSETTO:+0000
TZNAME:UTC
DTSTART:20240101T000000
END:STANDARD
END:VTIMEZONE
BEGIN:VTIMEZONE
TZID:America/New_York
BEGIN:DAYLIGHT
TZOFFSETFROM:-0500
TZOFFSETTO:-0400
TZNAME:EDT
DTSTART:20240310T070000
END:DAYLIGHT
BEGIN:STANDARD
TZOFFSETFROM:-0400
TZOFFSETTO:-0500
TZNAME:EST
DTSTART:20241103T060000
END:STANDARD
BEGIN:DAYLIGHT
TZOFFSETFROM:-0500
TZOFFSETTO:-0400
TZNAME:EDT
DTSTART:20250309T070000
END:DAYLIGHT
BEGIN:STANDARD
TZOFFSETFROM:-0400
TZOFFSETTO:-0500
TZNAME:EST
DTSTART:20251102T060000
END:STANDARD
BEGIN:DAYLIGHT
TZOFFSETFROM:-0500
TZOFFSETTO:-0400
TZNAME:EDT
DTSTART:20260308T070000
END:DAYLIGHT
BEGIN:STANDARD
TZOFFSETFROM:-0400
TZOFFSETTO:-0500
TZNAME:EST
DTSTART:20261101T060000
END:STANDARD
END:VTIMEZONE
BEGIN:VEVENT
DTSTART;TZID=America/Los_Angeles:20250814T100000
DTEND;TZID=America/Los_Angeles:20250814T130000
DTSTAMP:20260424T223520
CREATED:20250710T161442Z
LAST-MODIFIED:20250710T161442Z
UID:10001671-1755165600-1755176400@fasdunited.org
SUMMARY:FASCETS Center for Neurodiversity TRAINING: Brain-Based Conditions Including FASD
DESCRIPTION:The FASCETS brain-based approach explores the concept that we each have strengths and challenges based on how our brain works. These can be directly informed by our genetic make-up or by pre or postnatal events. In our upcoming trainings\, we discuss the FASCETS brain-based or neurobehavioral approach which links brain function with behaviors\, leading to supports that work and make a difference for all brain-based differences such as FASD\, ADHD\, Autism\, Dementia\, TBI and more! \nJoin us for our Live webinar to learn more about the FASCETS brain-based approach and discover tools to implement it in all settings in order to create person-specific supports regardless of the source of the brain-based difference: FASD\, ASD\, ADHD\, autism\, dementia\, acquired brain injuries…) It is effective for all people across their entire lifespan. \nIf you are someone who lives with\, works with or knows someone with a confirmed or suspected brain-based difference\, this workshop is for you! \nTo learn more about these and all of our other upcoming trainings and to register\, visit: https://www.fascets.org/book-online
URL:https://fasdunited.org/event/fascets-center-for-neurodiversity-training-brain-based-conditions-including-fasd/
CATEGORIES:Education and Schools,Training
ATTACH;FMTTYPE=image/png:https://fasdunited.org/wp-content/uploads/2025/07/Blue-And-Yellow-Minimalist-FOMO-Fear-Of-Missing-Out-Instagram-Post.png
ORGANIZER;CN="FASCETS":MAILTO:schart@fascets.org
END:VEVENT
BEGIN:VEVENT
DTSTART;TZID=UTC:20250818T103000
DTEND;TZID=UTC:20250818T163000
DTSTAMP:20260424T223520
CREATED:20250508T224419Z
LAST-MODIFIED:20250508T224845Z
UID:10001648-1755513000-1755534600@fasdunited.org
SUMMARY:Families Moving Forward (FMF) Specialist Training
DESCRIPTION:FMF Foundations is a CDC-recommended\, evidence-based behavioral intervention for families raising children (ages 3 to 13) with prenatal alcohol exposure (PAE) or FASD\, and challenging behavior. Best suited for mental health providers\, it offers ready-to-use materials and clinical strategies that are well organized to support families navigating complex situations\, including early adversity and family stress. You’ll receive an application after completing the registration.. The application deadline is July 28\, 2025. \nTraining dates are Aug 18\, 19\, 26 & Sept 2\, 12* or 19*\, 2025. (* dependent on size) \nJoin an International Movement in FASD Intervention \nFamilies Moving Forward Foundations (formerly Families Moving Forward Program) stands as one of only four CDC-recommended interventions for FASD\, representing a breakthrough in supporting families affected by prenatal alcohol exposure. As an FMF Specialist\, you’ll be equipped to transform challenging behaviors into manageable solutions\, while providing families with hope and practical strategies that work. \nComprehensive Training Experience \n  \nOver five intensive days\, you’ll master an evidence-based intervention that combines: \n\nPositive Behavior Support (PBS) approaches\nMotivational Interviewing techniques\nCognitive Behavioral Therapy strategies\nNeurodevelopmentally-informed care practices\n\nWhat You’ll Learn: \n\nPractical understanding of FASD’s brain-based impact on behavior\nAdvanced techniques for reframing challenging behaviors\nCustomizable intervention strategies for diverse family needs\nRealistic behavior planning and development of accommodations\nEvidence-based methods to increase parenting efficacy\nStrategies to decrease disruptive behaviors through understanding\n\nProgram Structure: \n\nCore Training Dates: August 18\, 19\, 26 & September 2\, 12 or 19*\, 2025 (9/12 or 9/19 depending on training size)\nDaily Schedule: 10:30 a.m. to 4:30 p.m.\nFormat: Virtual\, interactive sessions\nFMF Specialist Training Cost: $2\,500\nIntervention Fidelity Training: 12-18-hour ($150/hour)\n\nThe FMF Advantage \nJoin a dedicated group of professionals equipped to: \n\nDeliver specialized care for a critically underserved population\nAccess comprehensive intervention materials through the FMF Website Portal\nImplement flexible sessions adaptable to both in-person and telehealth delivery\nReceive ongoing support from leading experts in the field\nConnect with a national network of FASD-informed providers (FASD United)\n\nExpert Guidance: \nTrain with Dr. Anika Trancik\, a pioneering force in FASD intervention: \n\n20+ years of specialized FASD expertise\nOriginal FMF Program development team member\nFormer Clinical Psychologist at Florida’s premier FASD Clinic\nPrimary National FMF Trainer\n\nProfessional Recognition: \n\n30 CE credits for Florida providers (LCSW\, LMHC\, LMFT\, CMSW)\nCDC-recommended intervention\nListed in the California Evidence-Based ClearingHouse for Child Welfare\nApproved to deliver evidence-based intervention\n\nEligibility Requirements: \n\nMaster’s or Doctoral degree in counseling\, social work\, psychology\, or related field\nProfessional licensure (or in supervision process)\nClinical service delivery qualification\nTraining in Motivational Interviewing and CBT\n\nValued Experience: \n\nPrevious FASD training or clinical work\nExperience with standardized testing\nAdvocacy experience in FASD community\n\nYour Path to Becoming an FMF Specialist \n\nRequest an application through the “Request” button below (no fee)\nYou will receive the training application by email\nSubmit your application and resume to Training@TheFloridaCenter.org\nApplication deadline: Monday\, July 28\, 2025\nUpon approval\, secure your spot with payment\nBegin your journey! We’re so excited to have you join us\n\nLimited to 12 participants – Early application strongly recommended \nBeyond Training \nAs an FMF Specialist\, you’ll be equipped to: \n\nTransform family dynamics in your community\nProvide evidence-based support for complex cases\nBuild a specialized practice in FASD intervention\nJoin a supportive network of FASD professionals\nMake a lasting impact on families affected by FASD/PAE\n\nFMF Specialists report transformative results: \n“Caregivers experience profound ‘light bulb moments’ when they finally understand their child’s behavior through the FMF lens. The program provides exactly what families need\, when they need it.”
URL:https://fasdunited.org/event/families-moving-forward-fmf-specialist-training/2025-08-18/
LOCATION:Via Zoom
CATEGORIES:FASD Intervention,Training
ATTACH;FMTTYPE=image/png:https://fasdunited.org/wp-content/uploads/2025/05/FMF-landscape-logo.png
END:VEVENT
BEGIN:VEVENT
DTSTART;TZID=UTC:20250819T103000
DTEND;TZID=UTC:20250819T163000
DTSTAMP:20260424T223520
CREATED:20250508T224419Z
LAST-MODIFIED:20250508T224845Z
UID:10001649-1755599400-1755621000@fasdunited.org
SUMMARY:Families Moving Forward (FMF) Specialist Training
DESCRIPTION:FMF Foundations is a CDC-recommended\, evidence-based behavioral intervention for families raising children (ages 3 to 13) with prenatal alcohol exposure (PAE) or FASD\, and challenging behavior. Best suited for mental health providers\, it offers ready-to-use materials and clinical strategies that are well organized to support families navigating complex situations\, including early adversity and family stress. You’ll receive an application after completing the registration.. The application deadline is July 28\, 2025. \nTraining dates are Aug 18\, 19\, 26 & Sept 2\, 12* or 19*\, 2025. (* dependent on size) \nJoin an International Movement in FASD Intervention \nFamilies Moving Forward Foundations (formerly Families Moving Forward Program) stands as one of only four CDC-recommended interventions for FASD\, representing a breakthrough in supporting families affected by prenatal alcohol exposure. As an FMF Specialist\, you’ll be equipped to transform challenging behaviors into manageable solutions\, while providing families with hope and practical strategies that work. \nComprehensive Training Experience \n  \nOver five intensive days\, you’ll master an evidence-based intervention that combines: \n\nPositive Behavior Support (PBS) approaches\nMotivational Interviewing techniques\nCognitive Behavioral Therapy strategies\nNeurodevelopmentally-informed care practices\n\nWhat You’ll Learn: \n\nPractical understanding of FASD’s brain-based impact on behavior\nAdvanced techniques for reframing challenging behaviors\nCustomizable intervention strategies for diverse family needs\nRealistic behavior planning and development of accommodations\nEvidence-based methods to increase parenting efficacy\nStrategies to decrease disruptive behaviors through understanding\n\nProgram Structure: \n\nCore Training Dates: August 18\, 19\, 26 & September 2\, 12 or 19*\, 2025 (9/12 or 9/19 depending on training size)\nDaily Schedule: 10:30 a.m. to 4:30 p.m.\nFormat: Virtual\, interactive sessions\nFMF Specialist Training Cost: $2\,500\nIntervention Fidelity Training: 12-18-hour ($150/hour)\n\nThe FMF Advantage \nJoin a dedicated group of professionals equipped to: \n\nDeliver specialized care for a critically underserved population\nAccess comprehensive intervention materials through the FMF Website Portal\nImplement flexible sessions adaptable to both in-person and telehealth delivery\nReceive ongoing support from leading experts in the field\nConnect with a national network of FASD-informed providers (FASD United)\n\nExpert Guidance: \nTrain with Dr. Anika Trancik\, a pioneering force in FASD intervention: \n\n20+ years of specialized FASD expertise\nOriginal FMF Program development team member\nFormer Clinical Psychologist at Florida’s premier FASD Clinic\nPrimary National FMF Trainer\n\nProfessional Recognition: \n\n30 CE credits for Florida providers (LCSW\, LMHC\, LMFT\, CMSW)\nCDC-recommended intervention\nListed in the California Evidence-Based ClearingHouse for Child Welfare\nApproved to deliver evidence-based intervention\n\nEligibility Requirements: \n\nMaster’s or Doctoral degree in counseling\, social work\, psychology\, or related field\nProfessional licensure (or in supervision process)\nClinical service delivery qualification\nTraining in Motivational Interviewing and CBT\n\nValued Experience: \n\nPrevious FASD training or clinical work\nExperience with standardized testing\nAdvocacy experience in FASD community\n\nYour Path to Becoming an FMF Specialist \n\nRequest an application through the “Request” button below (no fee)\nYou will receive the training application by email\nSubmit your application and resume to Training@TheFloridaCenter.org\nApplication deadline: Monday\, July 28\, 2025\nUpon approval\, secure your spot with payment\nBegin your journey! We’re so excited to have you join us\n\nLimited to 12 participants – Early application strongly recommended \nBeyond Training \nAs an FMF Specialist\, you’ll be equipped to: \n\nTransform family dynamics in your community\nProvide evidence-based support for complex cases\nBuild a specialized practice in FASD intervention\nJoin a supportive network of FASD professionals\nMake a lasting impact on families affected by FASD/PAE\n\nFMF Specialists report transformative results: \n“Caregivers experience profound ‘light bulb moments’ when they finally understand their child’s behavior through the FMF lens. The program provides exactly what families need\, when they need it.”
URL:https://fasdunited.org/event/families-moving-forward-fmf-specialist-training/2025-08-19/
LOCATION:Via Zoom
CATEGORIES:FASD Intervention,Training
ATTACH;FMTTYPE=image/png:https://fasdunited.org/wp-content/uploads/2025/05/FMF-landscape-logo.png
END:VEVENT
BEGIN:VEVENT
DTSTART;TZID=UTC:20250826T103000
DTEND;TZID=UTC:20250826T163000
DTSTAMP:20260424T223520
CREATED:20250508T224419Z
LAST-MODIFIED:20250508T224845Z
UID:10001650-1756204200-1756225800@fasdunited.org
SUMMARY:Families Moving Forward (FMF) Specialist Training
DESCRIPTION:FMF Foundations is a CDC-recommended\, evidence-based behavioral intervention for families raising children (ages 3 to 13) with prenatal alcohol exposure (PAE) or FASD\, and challenging behavior. Best suited for mental health providers\, it offers ready-to-use materials and clinical strategies that are well organized to support families navigating complex situations\, including early adversity and family stress. You’ll receive an application after completing the registration.. The application deadline is July 28\, 2025. \nTraining dates are Aug 18\, 19\, 26 & Sept 2\, 12* or 19*\, 2025. (* dependent on size) \nJoin an International Movement in FASD Intervention \nFamilies Moving Forward Foundations (formerly Families Moving Forward Program) stands as one of only four CDC-recommended interventions for FASD\, representing a breakthrough in supporting families affected by prenatal alcohol exposure. As an FMF Specialist\, you’ll be equipped to transform challenging behaviors into manageable solutions\, while providing families with hope and practical strategies that work. \nComprehensive Training Experience \n  \nOver five intensive days\, you’ll master an evidence-based intervention that combines: \n\nPositive Behavior Support (PBS) approaches\nMotivational Interviewing techniques\nCognitive Behavioral Therapy strategies\nNeurodevelopmentally-informed care practices\n\nWhat You’ll Learn: \n\nPractical understanding of FASD’s brain-based impact on behavior\nAdvanced techniques for reframing challenging behaviors\nCustomizable intervention strategies for diverse family needs\nRealistic behavior planning and development of accommodations\nEvidence-based methods to increase parenting efficacy\nStrategies to decrease disruptive behaviors through understanding\n\nProgram Structure: \n\nCore Training Dates: August 18\, 19\, 26 & September 2\, 12 or 19*\, 2025 (9/12 or 9/19 depending on training size)\nDaily Schedule: 10:30 a.m. to 4:30 p.m.\nFormat: Virtual\, interactive sessions\nFMF Specialist Training Cost: $2\,500\nIntervention Fidelity Training: 12-18-hour ($150/hour)\n\nThe FMF Advantage \nJoin a dedicated group of professionals equipped to: \n\nDeliver specialized care for a critically underserved population\nAccess comprehensive intervention materials through the FMF Website Portal\nImplement flexible sessions adaptable to both in-person and telehealth delivery\nReceive ongoing support from leading experts in the field\nConnect with a national network of FASD-informed providers (FASD United)\n\nExpert Guidance: \nTrain with Dr. Anika Trancik\, a pioneering force in FASD intervention: \n\n20+ years of specialized FASD expertise\nOriginal FMF Program development team member\nFormer Clinical Psychologist at Florida’s premier FASD Clinic\nPrimary National FMF Trainer\n\nProfessional Recognition: \n\n30 CE credits for Florida providers (LCSW\, LMHC\, LMFT\, CMSW)\nCDC-recommended intervention\nListed in the California Evidence-Based ClearingHouse for Child Welfare\nApproved to deliver evidence-based intervention\n\nEligibility Requirements: \n\nMaster’s or Doctoral degree in counseling\, social work\, psychology\, or related field\nProfessional licensure (or in supervision process)\nClinical service delivery qualification\nTraining in Motivational Interviewing and CBT\n\nValued Experience: \n\nPrevious FASD training or clinical work\nExperience with standardized testing\nAdvocacy experience in FASD community\n\nYour Path to Becoming an FMF Specialist \n\nRequest an application through the “Request” button below (no fee)\nYou will receive the training application by email\nSubmit your application and resume to Training@TheFloridaCenter.org\nApplication deadline: Monday\, July 28\, 2025\nUpon approval\, secure your spot with payment\nBegin your journey! We’re so excited to have you join us\n\nLimited to 12 participants – Early application strongly recommended \nBeyond Training \nAs an FMF Specialist\, you’ll be equipped to: \n\nTransform family dynamics in your community\nProvide evidence-based support for complex cases\nBuild a specialized practice in FASD intervention\nJoin a supportive network of FASD professionals\nMake a lasting impact on families affected by FASD/PAE\n\nFMF Specialists report transformative results: \n“Caregivers experience profound ‘light bulb moments’ when they finally understand their child’s behavior through the FMF lens. The program provides exactly what families need\, when they need it.”
URL:https://fasdunited.org/event/families-moving-forward-fmf-specialist-training/2025-08-26/
LOCATION:Via Zoom
CATEGORIES:FASD Intervention,Training
ATTACH;FMTTYPE=image/png:https://fasdunited.org/wp-content/uploads/2025/05/FMF-landscape-logo.png
END:VEVENT
BEGIN:VEVENT
DTSTART;TZID=America/New_York:20250828T120000
DTEND;TZID=America/New_York:20250828T133000
DTSTAMP:20260424T223520
CREATED:20250808T143651Z
LAST-MODIFIED:20250808T143651Z
UID:10001690-1756382400-1756387800@fasdunited.org
SUMMARY:Tackling Technology: Navigating Safety for Neurodiverse Kids in the Digital World
DESCRIPTION:Learn strategies to help neurodiverse and trauma-affected children navigate online safety and digital challenges.\nWho else misses the days before parenting came with digital dilemmas?  Technology safety is a concern for all families\, but even more so for those raising children with trauma histories or neurodiverse needs.  These children may be more vulnerable to the risks of the online world\, including overstimulation\, unsafe interactions\, and difficulty with boundaries.  In this session\, we’ll explore why digital spaces can be especially tricky for these kids and provide caregivers with practical\, effective strategies to support online safety\, healthy tech habits\, and open communication.  Learning Objectives: Gain insight into why children with trauma histories or neurodiversity often face greater difficulties with technology.  Learn effective strategies to enhance online safety for children. Develop techniques for having meaningful and constructive conversations with children about technology use.  Presenter:  Barb Clark is the Director of Training at Families Rising and head coach of the International FASD Caregiver Kickstart program.  She is the parent of five young children\, including one diagnosed with FASD.  In April 2025\, Barb herself was also diagnosed with FASD\, bringing personal insight and authenticity to her work.  Barb specializes in training and coaching on Fetal Alcohol Spectrum Disorders (FASD)\, with a focus on challenging behaviours such as raging\, lying\, and stealing.  Her presentations blend practical strategies with humor\, honesty\, and lived experience.  A graduate of the University of Minnesota in Youth Development\, Barb is passionate about changing systems and shifting mindsets.  Her first book\, Raising Kinds and Teens with FASD: Advice and Strategies to Help Your Family Thrive\, will be published on October 21\, 2025.
URL:https://fasdunited.org/event/tackling-technology-navigating-safety-for-neurodiverse-kids-in-the-digital-world/
LOCATION:Via Zoom
CATEGORIES:Open to the Public,Training
ATTACH;FMTTYPE=image/png:https://fasdunited.org/wp-content/uploads/2025/08/2-2025-08-28-Tackling-Technology-1-1.png
END:VEVENT
END:VCALENDAR