BEGIN:VCALENDAR
VERSION:2.0
PRODID:-//FASD United - ECPv6.15.20//NONSGML v1.0//EN
CALSCALE:GREGORIAN
METHOD:PUBLISH
X-ORIGINAL-URL:https://fasdunited.org
X-WR-CALDESC:Events for FASD United
REFRESH-INTERVAL;VALUE=DURATION:PT1H
X-Robots-Tag:noindex
X-PUBLISHED-TTL:PT1H
BEGIN:VTIMEZONE
TZID:America/New_York
BEGIN:DAYLIGHT
TZOFFSETFROM:-0500
TZOFFSETTO:-0400
TZNAME:EDT
DTSTART:20240310T070000
END:DAYLIGHT
BEGIN:STANDARD
TZOFFSETFROM:-0400
TZOFFSETTO:-0500
TZNAME:EST
DTSTART:20241103T060000
END:STANDARD
BEGIN:DAYLIGHT
TZOFFSETFROM:-0500
TZOFFSETTO:-0400
TZNAME:EDT
DTSTART:20250309T070000
END:DAYLIGHT
BEGIN:STANDARD
TZOFFSETFROM:-0400
TZOFFSETTO:-0500
TZNAME:EST
DTSTART:20251102T060000
END:STANDARD
BEGIN:DAYLIGHT
TZOFFSETFROM:-0500
TZOFFSETTO:-0400
TZNAME:EDT
DTSTART:20260308T070000
END:DAYLIGHT
BEGIN:STANDARD
TZOFFSETFROM:-0400
TZOFFSETTO:-0500
TZNAME:EST
DTSTART:20261101T060000
END:STANDARD
END:VTIMEZONE
BEGIN:VTIMEZONE
TZID:America/Chicago
BEGIN:DAYLIGHT
TZOFFSETFROM:-0600
TZOFFSETTO:-0500
TZNAME:CDT
DTSTART:20240310T080000
END:DAYLIGHT
BEGIN:STANDARD
TZOFFSETFROM:-0500
TZOFFSETTO:-0600
TZNAME:CST
DTSTART:20241103T070000
END:STANDARD
BEGIN:DAYLIGHT
TZOFFSETFROM:-0600
TZOFFSETTO:-0500
TZNAME:CDT
DTSTART:20250309T080000
END:DAYLIGHT
BEGIN:STANDARD
TZOFFSETFROM:-0500
TZOFFSETTO:-0600
TZNAME:CST
DTSTART:20251102T070000
END:STANDARD
BEGIN:DAYLIGHT
TZOFFSETFROM:-0600
TZOFFSETTO:-0500
TZNAME:CDT
DTSTART:20260308T080000
END:DAYLIGHT
BEGIN:STANDARD
TZOFFSETFROM:-0500
TZOFFSETTO:-0600
TZNAME:CST
DTSTART:20261101T070000
END:STANDARD
END:VTIMEZONE
BEGIN:VEVENT
DTSTART;TZID=America/New_York:20251118T130000
DTEND;TZID=America/New_York:20251118T143000
DTSTAMP:20260424T010240
CREATED:20251107T161422Z
LAST-MODIFIED:20251107T161422Z
UID:10001739-1763470800-1763476200@fasdunited.org
SUMMARY:Adult Leadership Collaborative of FASD Changemakers: Lay of the Land Survey #2 Quality of Life Survey in 460+ Adults with FASD
DESCRIPTION:Do not miss this opportunity to hear from the Adult Leadership Collaborative members CJ Lutke\, Maggie May\, and Katrina Griffin as they present the results of “Lay of the Land Survey #2 Quality of Life Survey in 460+ Adults with FASD”. \nIn 2019\, the ALC did its second Lay of the Land Survey on the quality of life of teens and adults with FASD because they believed there was a significant problem in this area\, and that no data existed on the lives of those with FASD in adulthood.  This workshop will provide the results of this survey which was completed in 2020.   Using the same format as in Survey #1\, the survey was designed and developed by the ALC\, with questions the ALC knew were important to answer.  It includes information on Adverse Childhood Experiences (ACES) and something they developed and call Adverse Continuing Experiences in Adulthood or ACES-A.\, housing\, homelessness\, parenting\, relationships\, education\, employment\, finances\, victimization\, etc.  The results on 461 adults have been widely presented\, including to NIAAA.
URL:https://fasdunited.org/event/adult-leadership-collaborative-of-fasd-changemakers-lay-of-the-land-survey-2-quality-of-life-survey-in-460-adults-with-fasd/
LOCATION:Virtual
CATEGORIES:Open to the Public,Training
ATTACH;FMTTYPE=image/png:https://fasdunited.org/wp-content/uploads/2025/11/Photo-for-CHangemakers-Lay-of-Land-2-11182025.png
END:VEVENT
BEGIN:VEVENT
DTSTART;TZID=America/Chicago:20251120T110000
DTEND;TZID=America/Chicago:20251120T120000
DTSTAMP:20260424T010240
CREATED:20250827T182615Z
LAST-MODIFIED:20250827T182615Z
UID:10001699-1763636400-1763640000@fasdunited.org
SUMMARY:Strong Fathers Building Safe Homes: A Coaching Circle for Dads Navigating FASD
DESCRIPTION:The Papillion Center for FASD is collaborating with Joshua Legg\, Pastoral Care & Life Coach to offer a five-week group\, TOOL TIME\, for fathers parenting children affected by FASD.  Completed over a lunch hour via zoom\, this is a time to learn\, connect and grow with others. \nAre you a dad to a child who has been diagnosed with or you suspect is affected by Fetal Alcohol Spectrum Disorders?  If so\, this training is for you.  Grab your spot\, group size is limited!
URL:https://fasdunited.org/event/strong-fathers-building-safe-homes-a-coaching-circle-for-dads-navigating-fasd/2025-11-20/
CATEGORIES:Training
ATTACH;FMTTYPE=image/png:https://fasdunited.org/wp-content/uploads/2025/08/Dads.png
END:VEVENT
END:VCALENDAR