BEGIN:VCALENDAR
VERSION:2.0
PRODID:-//FASD United - ECPv6.15.20//NONSGML v1.0//EN
CALSCALE:GREGORIAN
METHOD:PUBLISH
X-WR-CALNAME:FASD United
X-ORIGINAL-URL:https://fasdunited.org
X-WR-CALDESC:Events for FASD United
REFRESH-INTERVAL;VALUE=DURATION:PT1H
X-Robots-Tag:noindex
X-PUBLISHED-TTL:PT1H
BEGIN:VTIMEZONE
TZID:America/Los_Angeles
BEGIN:DAYLIGHT
TZOFFSETFROM:-0800
TZOFFSETTO:-0700
TZNAME:PDT
DTSTART:20250309T100000
END:DAYLIGHT
BEGIN:STANDARD
TZOFFSETFROM:-0700
TZOFFSETTO:-0800
TZNAME:PST
DTSTART:20251102T090000
END:STANDARD
BEGIN:DAYLIGHT
TZOFFSETFROM:-0800
TZOFFSETTO:-0700
TZNAME:PDT
DTSTART:20260308T100000
END:DAYLIGHT
BEGIN:STANDARD
TZOFFSETFROM:-0700
TZOFFSETTO:-0800
TZNAME:PST
DTSTART:20261101T090000
END:STANDARD
BEGIN:DAYLIGHT
TZOFFSETFROM:-0800
TZOFFSETTO:-0700
TZNAME:PDT
DTSTART:20270314T100000
END:DAYLIGHT
BEGIN:STANDARD
TZOFFSETFROM:-0700
TZOFFSETTO:-0800
TZNAME:PST
DTSTART:20271107T090000
END:STANDARD
END:VTIMEZONE
BEGIN:VTIMEZONE
TZID:America/Chicago
BEGIN:DAYLIGHT
TZOFFSETFROM:-0600
TZOFFSETTO:-0500
TZNAME:CDT
DTSTART:20250309T080000
END:DAYLIGHT
BEGIN:STANDARD
TZOFFSETFROM:-0500
TZOFFSETTO:-0600
TZNAME:CST
DTSTART:20251102T070000
END:STANDARD
BEGIN:DAYLIGHT
TZOFFSETFROM:-0600
TZOFFSETTO:-0500
TZNAME:CDT
DTSTART:20260308T080000
END:DAYLIGHT
BEGIN:STANDARD
TZOFFSETFROM:-0500
TZOFFSETTO:-0600
TZNAME:CST
DTSTART:20261101T070000
END:STANDARD
BEGIN:DAYLIGHT
TZOFFSETFROM:-0600
TZOFFSETTO:-0500
TZNAME:CDT
DTSTART:20270314T080000
END:DAYLIGHT
BEGIN:STANDARD
TZOFFSETFROM:-0500
TZOFFSETTO:-0600
TZNAME:CST
DTSTART:20271107T070000
END:STANDARD
END:VTIMEZONE
BEGIN:VEVENT
DTSTART;TZID=America/Los_Angeles:20260611T160000
DTEND;TZID=America/Los_Angeles:20260611T173000
DTSTAMP:20260423T203116
CREATED:20260217T205334Z
LAST-MODIFIED:20260217T205334Z
UID:10002036-1781193600-1781199000@fasdunited.org
SUMMARY:FASD & the IEP Mentorship Coalition
DESCRIPTION:The FASD & the IEP Mentorship Coalition is an opportunity for ongoing training designed for people working with students with FASD who have\, or need\, an Individualized Education Program (IEP). This program recognizes and focuses on the need for ongoing growth and education specific to the needs of students with FASD within the special education system. We meet on the second Thursday of every month from 4:00pm – 5:30pm PT. This mentorship opportunity combines direct interaction\, discourse\, case studies\, and education relating to FASD & the IEP. Group participation and respectful dialogue is encouraged. Some prior knowledge of FASD and of IEPs required. Information on prerequisites and registration available at: https://www.healthymindsconsulting.com/fasd-iep-mentorship-coalition/
URL:https://fasdunited.org/event/fasd-the-iep-mentorship-coalition/2026-06-11/
LOCATION:Virtual
CATEGORIES:Education and Schools,Training
ATTACH;FMTTYPE=image/png:https://fasdunited.org/wp-content/uploads/2026/02/Mentorship-Badge-001.png
ORGANIZER;CN="Healthy Minds Consulting":MAILTO:kellyrain@healthymindsconsulting.com
END:VEVENT
BEGIN:VEVENT
DTSTART;TZID=America/Chicago:20260618T110000
DTEND;TZID=America/Chicago:20260618T120000
DTSTAMP:20260423T203116
CREATED:20250827T182615Z
LAST-MODIFIED:20250827T182615Z
UID:10001705-1781780400-1781784000@fasdunited.org
SUMMARY:Strong Fathers Building Safe Homes: A Coaching Circle for Dads Navigating FASD
DESCRIPTION:The Papillion Center for FASD is collaborating with Joshua Legg\, Pastoral Care & Life Coach to offer a five-week group\, TOOL TIME\, for fathers parenting children affected by FASD.  Completed over a lunch hour via zoom\, this is a time to learn\, connect and grow with others. \nAre you a dad to a child who has been diagnosed with or you suspect is affected by Fetal Alcohol Spectrum Disorders?  If so\, this training is for you.  Grab your spot\, group size is limited!
URL:https://fasdunited.org/event/strong-fathers-building-safe-homes-a-coaching-circle-for-dads-navigating-fasd/2026-06-18/
CATEGORIES:Training
ATTACH;FMTTYPE=image/png:https://fasdunited.org/wp-content/uploads/2025/08/Dads.png
END:VEVENT
END:VCALENDAR