BEGIN:VCALENDAR
VERSION:2.0
PRODID:-//FASD United - ECPv6.15.20//NONSGML v1.0//EN
CALSCALE:GREGORIAN
METHOD:PUBLISH
X-WR-CALNAME:FASD United
X-ORIGINAL-URL:https://fasdunited.org
X-WR-CALDESC:Events for FASD United
REFRESH-INTERVAL;VALUE=DURATION:PT1H
X-Robots-Tag:noindex
X-PUBLISHED-TTL:PT1H
BEGIN:VTIMEZONE
TZID:America/New_York
BEGIN:DAYLIGHT
TZOFFSETFROM:-0500
TZOFFSETTO:-0400
TZNAME:EDT
DTSTART:20240310T070000
END:DAYLIGHT
BEGIN:STANDARD
TZOFFSETFROM:-0400
TZOFFSETTO:-0500
TZNAME:EST
DTSTART:20241103T060000
END:STANDARD
BEGIN:DAYLIGHT
TZOFFSETFROM:-0500
TZOFFSETTO:-0400
TZNAME:EDT
DTSTART:20250309T070000
END:DAYLIGHT
BEGIN:STANDARD
TZOFFSETFROM:-0400
TZOFFSETTO:-0500
TZNAME:EST
DTSTART:20251102T060000
END:STANDARD
BEGIN:DAYLIGHT
TZOFFSETFROM:-0500
TZOFFSETTO:-0400
TZNAME:EDT
DTSTART:20260308T070000
END:DAYLIGHT
BEGIN:STANDARD
TZOFFSETFROM:-0400
TZOFFSETTO:-0500
TZNAME:EST
DTSTART:20261101T060000
END:STANDARD
END:VTIMEZONE
BEGIN:VTIMEZONE
TZID:UTC
BEGIN:STANDARD
TZOFFSETFROM:+0000
TZOFFSETTO:+0000
TZNAME:UTC
DTSTART:20240101T000000
END:STANDARD
END:VTIMEZONE
BEGIN:VTIMEZONE
TZID:America/Los_Angeles
BEGIN:DAYLIGHT
TZOFFSETFROM:-0800
TZOFFSETTO:-0700
TZNAME:PDT
DTSTART:20240310T100000
END:DAYLIGHT
BEGIN:STANDARD
TZOFFSETFROM:-0700
TZOFFSETTO:-0800
TZNAME:PST
DTSTART:20241103T090000
END:STANDARD
BEGIN:DAYLIGHT
TZOFFSETFROM:-0800
TZOFFSETTO:-0700
TZNAME:PDT
DTSTART:20250309T100000
END:DAYLIGHT
BEGIN:STANDARD
TZOFFSETFROM:-0700
TZOFFSETTO:-0800
TZNAME:PST
DTSTART:20251102T090000
END:STANDARD
BEGIN:DAYLIGHT
TZOFFSETFROM:-0800
TZOFFSETTO:-0700
TZNAME:PDT
DTSTART:20260308T100000
END:DAYLIGHT
BEGIN:STANDARD
TZOFFSETFROM:-0700
TZOFFSETTO:-0800
TZNAME:PST
DTSTART:20261101T090000
END:STANDARD
END:VTIMEZONE
BEGIN:VEVENT
DTSTART;TZID=America/New_York:20250507T120000
DTEND;TZID=America/New_York:20250507T123000
DTSTAMP:20260425T214223
CREATED:20250309T045417Z
LAST-MODIFIED:20250508T035325Z
UID:10001621-1746619200-1746621000@fasdunited.org
SUMMARY:FASD United Weekly Policy Drop-in
DESCRIPTION:Do you have a question about advocating for The FASD Respect Act?  Want to give and receive updates? This weekly Zoom drop-in session is a great space to do it. The dedicated staff of the FASD United Policy Team will be on hand to answer your questions\, give support\, and cheer you on!\n\n\nThe Zoom drop-in is held on Wednesdays at Noon Eastern\, 11 am Central\, 10 am Mountain\, 9 am Pacific\, 8 am Alaskan\, and 6 am Hawaiian time. https://zoom.us/j/94210118165?pwd=VlVLcW01U29BTi9NTytVS1pzWVE3dz09&from=addon  \nMeeting ID: 942 1011 8165 Passcode: 337897
URL:https://fasdunited.org/event/fasd-united-weekly-policy-drop-in-25/
LOCATION:Via Zoom
CATEGORIES:Respect Act Drop In
ORGANIZER;CN="FASD United":MAILTO:affiliate@fasdunited.org
END:VEVENT
BEGIN:VEVENT
DTSTART;TZID=UTC:20250502T120000
DTEND;TZID=UTC:20250502T140000
DTSTAMP:20260425T214223
CREATED:20250321T224920Z
LAST-MODIFIED:20250414T162810Z
UID:10001633-1746187200-1746194400@fasdunited.org
SUMMARY:FASD and Florida's Criminal Justice System
DESCRIPTION:Register Here \nExplore the intersection of mental health and Florida’s Criminal Justice System with a focus on how Fetal Alcohol Spectrum Disorders (FASD) impact legal outcomes. Gain insights into the gap between courtroom experts and clinical care providers\, the challenges faced by individuals with FASD\, and the critical role of mental health mitigation experts in bridging this gap. Learn strategies to increase FASD awareness among legal professionals\, ensuring more informed and compassionate legal processes.\n \nTakeaways:\n \n\nUnderstand the relationship between mental health and Florida’s Criminal Justice System\, with a focus on mitigation/sentencing.\nLearn about the knowledge gap between courtroom experts and clinical care providers regarding FASD.\nIdentify the unique challenges of FASD in this environment.\nLearn how mental health mitigation experts play a vital role in bridging this gap.\nUnderstand how increasing FASD awareness among legal professionals can lead to more equitable outcomes.\n\nMatthew S. Boomershine\, Esq. is a criminal defense attorney with Bogin\, Munns & Munns serving the Orlando area. Mr. Boomershine obtained his Bachelor of Arts degree from Brown University in Public Policy in 2002\, and his Juris Doctor from the University of Florida\, Levin College of Law in 2007\, and was admitted into the Florida Bar in 2007. Before working with Bogin\, Munns & Munns\, Mr. Boomershine was an Assistant Public Defender for the 5th Judicial Circuit. If he had not chosen to practice law\, he states he would have become an educator. He is a former LSAT instructor with Kaplan Test Prep. In his spare time\, he plays guitar in a local Orlando cover band\, “Boomershine.” \n  \n 
URL:https://fasdunited.org/event/fasd-and-floridas-criminal-justice-system-2/
LOCATION:Via Zoom
CATEGORIES:FASD Intervention,Justice,Training
ATTACH;FMTTYPE=image/png:https://fasdunited.org/wp-content/uploads/2025/03/FASD-and-Floridas-Criminal-Justice-System-Photo.png
END:VEVENT
BEGIN:VEVENT
DTSTART;TZID=America/New_York:20250501T163000
DTEND;TZID=America/New_York:20250501T173000
DTSTAMP:20260425T214223
CREATED:20251123T232148Z
LAST-MODIFIED:20260110T140413Z
UID:10001804-1746117000-1746120600@fasdunited.org
SUMMARY:Affiliate Access
DESCRIPTION:The FASD United Affiliate Executive Council Meeting is held the 1st Thursday of each month at 4:30 pm Eastern.  This meeting is open to Affiliate Executive Council Members only.  To view a list of your Executive Council Members\, click here: Affiliate Executive Council \nMembers of the FASD United Affiliate Executive Council will be emailed a zoom link prior to the meeting.  To add an agenda item or for questions about the Affiliate Executive Council\, email baldwin@fasdunited.org.
URL:https://fasdunited.org/event/affiliate-access-6/
LOCATION:Online
CATEGORIES:NAEC Monthly Meeting
ATTACH;FMTTYPE=image/png:https://fasdunited.org/wp-content/uploads/2025/11/FASD-UNITED-Affiliate-Network-STACKED-FULL_COLOR-587bAs.png
END:VEVENT
BEGIN:VEVENT
DTSTART;TZID=America/New_York:20250501T163000
DTEND;TZID=America/New_York:20250501T173000
DTSTAMP:20260425T214223
CREATED:20251123T232143Z
LAST-MODIFIED:20260110T140352Z
UID:10001803-1746117000-1746120600@fasdunited.org
SUMMARY:Affiliate Access
DESCRIPTION:The FASD United Affiliate Network Executive Council Meeting is held the 1st Thursday of each month at 4:30 pm Eastern.  This meeting is open to Affiliate Executive Council Members only.  To view a list of your Executive Council Members\, click here: Affiliate Executive Council \nMembers of the FASD United Affiliate Executive Council will be emailed a zoom link prior to the meeting.  To add an agenda item or for questions about the Affiliate Executive Council\, email baldwin@fasdunited.org. \nFor more information on becoming an FASD United Affiliate\, go to www.nofasaffiliatenetwork.org/join/
URL:https://fasdunited.org/event/affiliate-access-5/
LOCATION:Online
CATEGORIES:Affiliate Events,NAEC Monthly Meeting
ATTACH;FMTTYPE=image/png:https://fasdunited.org/wp-content/uploads/2022/07/FASD-UNITED-Affiliate-Network-STACKED-FULL_COLOR-ekKkNk.tmp_.png
ORGANIZER;CN="FASD United":MAILTO:affiliate@fasdunited.org
END:VEVENT
BEGIN:VEVENT
DTSTART;TZID=America/New_York:20250430T140000
DTEND;TZID=America/New_York:20250430T150000
DTSTAMP:20260425T214223
CREATED:20250302T043851Z
LAST-MODIFIED:20250501T032323Z
UID:10001615-1746021600-1746025200@fasdunited.org
SUMMARY:FASD United Policy Forum
DESCRIPTION:The monthly forum is a regularly scheduled virtual meeting to brief advocates and guide policy outreach. The meetings are open to all FASD advocates. You can help ensure action on critical FASD legislation by joining the monthly FASD policy virtual forum and preparing to engage with your senators and representatives. Click to join the forums live on Zoom or participate by phone using the number nearest your location. \nMeeting ID: 892 5829 4486 Passcode: 454311 \nDial by your location +1 312 626 6799 US (Chicago) ++1 253 215 8782 US (Tacoma) +1 346 248 7799 US (Houston) +1 720 707 2699 US (Denver) +1 312 626 6799 US (Chicago) +1 646 558 8656 US (New York) +1 301 715 8592 US (Washington DC)
URL:https://fasdunited.org/event/fasd-united-policy-forum-7/
LOCATION:Via Zoom
CATEGORIES:Monthly Forum
ORGANIZER;CN="FASD United":MAILTO:affiliate@fasdunited.org
END:VEVENT
BEGIN:VEVENT
DTSTART;TZID=America/Los_Angeles:20250430T090000
DTEND;TZID=America/Los_Angeles:20250430T120000
DTSTAMP:20260425T214223
CREATED:20250308T015525Z
LAST-MODIFIED:20250308T015525Z
UID:10001620-1746003600-1746014400@fasdunited.org
SUMMARY:FASCETS Center for Neurodiversity TRAINING Brain-Based Conditions Including FASD: Understanding & Application of the FASCETS Brain-Based Approach
DESCRIPTION:This 5-week/15-hour workshop provides information about the FASCETS Brain-Based Approach and the tools to implement it in all settings in order to create person-specific supports regardless of the source of the brain-based difference (e.g.\, FASD\, autism\, ADHD\, dementia\, acquired brain injuries\, other diagnoses\, or perhaps unknown). Some information is dedicated specifically to Fetal Alcohol Spectrum Disorder to increase awareness of the condition and dispel common myths.
URL:https://fasdunited.org/event/fascets-center-for-neurodiversity-training-brain-based-conditions-including-fasd-understanding-application-of-the-fascets-brain-based-approach/2025-04-30/
CATEGORIES:Education and Schools,FASD Intervention,Training
ATTACH;FMTTYPE=image/png:https://fasdunited.org/wp-content/uploads/2025/03/FASCETS_Logo_Black-1.png
ORGANIZER;CN="FASCETS Center for Neurodiversity":MAILTO:info@fascets.org
END:VEVENT
END:VCALENDAR