BEGIN:VCALENDAR
VERSION:2.0
PRODID:-//FASD United - ECPv6.15.20//NONSGML v1.0//EN
CALSCALE:GREGORIAN
METHOD:PUBLISH
X-ORIGINAL-URL:https://fasdunited.org
X-WR-CALDESC:Events for FASD United
REFRESH-INTERVAL;VALUE=DURATION:PT1H
X-Robots-Tag:noindex
X-PUBLISHED-TTL:PT1H
BEGIN:VTIMEZONE
TZID:America/New_York
BEGIN:DAYLIGHT
TZOFFSETFROM:-0500
TZOFFSETTO:-0400
TZNAME:EDT
DTSTART:20240310T070000
END:DAYLIGHT
BEGIN:STANDARD
TZOFFSETFROM:-0400
TZOFFSETTO:-0500
TZNAME:EST
DTSTART:20241103T060000
END:STANDARD
BEGIN:DAYLIGHT
TZOFFSETFROM:-0500
TZOFFSETTO:-0400
TZNAME:EDT
DTSTART:20250309T070000
END:DAYLIGHT
BEGIN:STANDARD
TZOFFSETFROM:-0400
TZOFFSETTO:-0500
TZNAME:EST
DTSTART:20251102T060000
END:STANDARD
BEGIN:DAYLIGHT
TZOFFSETFROM:-0500
TZOFFSETTO:-0400
TZNAME:EDT
DTSTART:20260308T070000
END:DAYLIGHT
BEGIN:STANDARD
TZOFFSETFROM:-0400
TZOFFSETTO:-0500
TZNAME:EST
DTSTART:20261101T060000
END:STANDARD
END:VTIMEZONE
BEGIN:VTIMEZONE
TZID:America/Vancouver
BEGIN:DAYLIGHT
TZOFFSETFROM:-0800
TZOFFSETTO:-0700
TZNAME:PDT
DTSTART:20240310T100000
END:DAYLIGHT
BEGIN:STANDARD
TZOFFSETFROM:-0700
TZOFFSETTO:-0800
TZNAME:PST
DTSTART:20241103T090000
END:STANDARD
BEGIN:DAYLIGHT
TZOFFSETFROM:-0800
TZOFFSETTO:-0700
TZNAME:PDT
DTSTART:20250309T100000
END:DAYLIGHT
BEGIN:STANDARD
TZOFFSETFROM:-0700
TZOFFSETTO:-0800
TZNAME:PST
DTSTART:20251102T090000
END:STANDARD
BEGIN:DAYLIGHT
TZOFFSETFROM:-0800
TZOFFSETTO:-0700
TZNAME:PDT
DTSTART:20260308T100000
END:DAYLIGHT
BEGIN:STANDARD
TZOFFSETFROM:-0700
TZOFFSETTO:-0800
TZNAME:PST
DTSTART:20261101T090000
END:STANDARD
END:VTIMEZONE
BEGIN:VTIMEZONE
TZID:America/Chicago
BEGIN:DAYLIGHT
TZOFFSETFROM:-0600
TZOFFSETTO:-0500
TZNAME:CDT
DTSTART:20240310T080000
END:DAYLIGHT
BEGIN:STANDARD
TZOFFSETFROM:-0500
TZOFFSETTO:-0600
TZNAME:CST
DTSTART:20241103T070000
END:STANDARD
BEGIN:DAYLIGHT
TZOFFSETFROM:-0600
TZOFFSETTO:-0500
TZNAME:CDT
DTSTART:20250309T080000
END:DAYLIGHT
BEGIN:STANDARD
TZOFFSETFROM:-0500
TZOFFSETTO:-0600
TZNAME:CST
DTSTART:20251102T070000
END:STANDARD
BEGIN:DAYLIGHT
TZOFFSETFROM:-0600
TZOFFSETTO:-0500
TZNAME:CDT
DTSTART:20260308T080000
END:DAYLIGHT
BEGIN:STANDARD
TZOFFSETFROM:-0500
TZOFFSETTO:-0600
TZNAME:CST
DTSTART:20261101T070000
END:STANDARD
END:VTIMEZONE
BEGIN:VEVENT
DTSTART;TZID=America/New_York:20251203T120000
DTEND;TZID=America/New_York:20251203T123000
DTSTAMP:20260424T010239
CREATED:20251004T233907Z
LAST-MODIFIED:20251203T231040Z
UID:10001733-1764763200-1764765000@fasdunited.org
SUMMARY:FASD United Weekly Policy Drop-in
DESCRIPTION:Do you have a question about advocating for The FASD Respect Act?  Want to give and receive updates? This weekly Zoom drop-in session is a great space to do it. The dedicated staff of the FASD United Policy Team will be on hand to answer your questions\, give support\, and cheer you on!\n\n\nThe Zoom drop-in is held on Wednesdays at Noon Eastern\, 11 am Central\, 10 am Mountain\, 9 am Pacific\, 8 am Alaskan\, and 6 am Hawaiian time. https://zoom.us/j/94210118165?pwd=VlVLcW01U29BTi9NTytVS1pzWVE3dz09&from=addon  \nMeeting ID: 942 1011 8165 Passcode: 337897
URL:https://fasdunited.org/event/fasd-united-weekly-policy-drop-in-48/
LOCATION:Via Zoom
CATEGORIES:Respect Act Drop In
ORGANIZER;CN="FASD United":MAILTO:affiliate@fasdunited.org
END:VEVENT
BEGIN:VEVENT
DTSTART;TZID=America/New_York:20251204T163000
DTEND;TZID=America/New_York:20251204T173000
DTSTAMP:20260424T010239
CREATED:20251123T232411Z
LAST-MODIFIED:20260110T140747Z
UID:10001826-1764865800-1764869400@fasdunited.org
SUMMARY:Affiliate Access
DESCRIPTION:The FASD United Affiliate Network Executive Council Meeting is held the 1st Thursday of each month at 4:30 pm Eastern.  This meeting is open to Affiliate Executive Council Members only.  To view a list of your Executive Council Members\, click here: Affiliate Executive Council \nMembers of the FASD United Affiliate Executive Council will be emailed a zoom link prior to the meeting.  To add an agenda item or for questions about the Affiliate Executive Council\, email baldwin@fasdunited.org. \nFor more information on becoming an FASD United Affiliate\, go to www.nofasaffiliatenetwork.org/join/
URL:https://fasdunited.org/event/affiliate-access-21/
LOCATION:Online
CATEGORIES:Affiliate Events,NAEC Monthly Meeting
ATTACH;FMTTYPE=image/png:https://fasdunited.org/wp-content/uploads/2022/07/FASD-UNITED-Affiliate-Network-STACKED-FULL_COLOR-ekKkNk.tmp_.png
ORGANIZER;CN="FASD United":MAILTO:affiliate@fasdunited.org
END:VEVENT
BEGIN:VEVENT
DTSTART;TZID=America/Vancouver:20251205T100000
DTEND;TZID=America/Vancouver:20251205T113000
DTSTAMP:20260424T010239
CREATED:20241028T033720Z
LAST-MODIFIED:20241028T033720Z
UID:10001570-1764928800-1764934200@fasdunited.org
SUMMARY:Caregiver Support and Resource Navigation Group
DESCRIPTION:Participants will help determine the themes and topics covered to best support their needs. Topics may include: \n· Sharing the joys and challenges of caregiving for adults or youth transitioning into adulthood who have FASD or similar neurodiversity/disability. \n· Exchanging ideas and sharing successes. \n· Strengthening the caregiver-child relationship through a better understanding of your youth or young adult. \n· Caregiver resource systems navigation (employment\, disability services\, financial\, medical\, educational). \n· Supporting transitions and helping to navigate changes in school\, employment\, life\, and daily routines. \n· Supporting employment\, interpersonal skills\, recreation\, friendships\, relationships\, regulation\, and interdependence. \n· Managing caregiver fatigue and avoiding burnout. \n  \nFacilitated by Parent Consultant and now retired Key Worker Coordinator Jill Crichton with additional support provided by practicum student clinicians Jasleen Mann and Dana Patterson. \n  \nCreating a safe\, interactive space for caregivers to connect\, share\, and celebrate the journey of Caregiving. \n  \nWHEN: BI-WEEKLY MEETINGS ON FRIDAYS 10:00 – 11:30 AM\, BEGINNING NOV. 8 2024\, UNTIL APR. 25 2025 \nWHERE: VIA ZOOM \nCOST: $20.00 (+GST) DROP-IN FEE (IF COST IS A CONCERN\, CONTACT US FOR ALTERNATIVE OPTIONS.) \nFor group access and more information\, please email admin@fasdinstitute.com
URL:https://fasdunited.org/event/caregiver-support-and-resource-navigation-group/2025-12-05/
LOCATION:Virtual
ATTACH;FMTTYPE=image/png:https://fasdunited.org/wp-content/uploads/2024/10/Caregiver-Group-Flyer.png
ORGANIZER;CN="FASD Institute Inc.":MAILTO:admin@fasdinstitute.com
END:VEVENT
BEGIN:VEVENT
DTSTART;TZID=America/Chicago:20251208T080000
DTEND;TZID=America/Chicago:20251208T120000
DTSTAMP:20260424T010239
CREATED:20251201T010223Z
LAST-MODIFIED:20251201T010223Z
UID:10001978-1765180800-1765195200@fasdunited.org
SUMMARY:Surviving the Holidays Webinar
DESCRIPTION:A panel of parents and professionals will offer practical tips to prepare for the holidays\, since we know it can be a difficult time. Bring your questions and a friend.
URL:https://fasdunited.org/event/surviving-the-holidays-webinar/
LOCATION:Via Zoom
CATEGORIES:Affiliate Events,Open to the Public
ATTACH;FMTTYPE=image/jpeg:https://fasdunited.org/wp-content/uploads/2025/11/587700451_1156787193302900_6238884732329006336_n-1.jpg
ORGANIZER;CN="Texas FASD Network":MAILTO:texasfasd@gmail.com
END:VEVENT
BEGIN:VEVENT
DTSTART;TZID=America/New_York:20251208T100000
DTEND;TZID=America/New_York:20251208T120000
DTSTAMP:20260424T010239
CREATED:20250930T161021Z
LAST-MODIFIED:20250930T161021Z
UID:10001732-1765188000-1765195200@fasdunited.org
SUMMARY:Fetal Alcohol Spectrum Disorders (FASD): What Is It and What Do We Do About It?
DESCRIPTION:From Florida to the world — The Florida Center Training Institute brings FASD support everywhere.\nEmpowering caregivers and professionals globally with tools that make a difference.\nNo matter where you are\, you belong here. \nOf all substances of abuse\, alcohol causes the most serious long-term effects in a fetus\, resulting in permanent brain damage. Many children with FASDs often go undiagnosed and suffer lifelong social challenges\, serious mental health problems\, and involvement with the juvenile justice system. Proper identification and intervention can help prevent many of these challenges.This webinar will help attendees identify red flags and signs that may indicate a child has brain-based behaviors as a result of prenatal alcohol exposure. Additionally\, it will also help shift one’s perspective\, viewing social/emotional problems\, difficult behaviors\, and learning challenges of these individuals as a symptom of brain dysfunction and not willful defiance and opposition. \nLearning Objectives include: \n\nLearn what FASD is and how it is often misdiagnosed.\nLearn how FASD impacts brain development and behaviors.\nLearn to identify FASD red-flags.\nGain a shift in perspective about those with social/emotional problems\, difficult behaviors\, or learning challenges.\n\nPresenters are: \nTamra Cajo\, LCSW\, Statewide Director of FASD Services \nTamra Cajo\, LCSW\, is a bilingual licensed clinical social worker with nearly 20 years of experience in early childhood development and prevention. Tamra is actively involved in national efforts to support individuals and families affected by Fetal Alcohol Spectrum Disorders (FASD). \nShe serves on the Executive Council of FASD United and the Board of FASCETS. She is a certified facilitator in the FASCETS Neurobehavioral Model\, a TBRI Practitioner\, and previously served as the Midwest lead trainer for ACT Raising Safe Kids. Her training also includes Circle of Security Parenting\, Families Moving Forward\, Helping the Non-Compliant Child\, Chicago Parent Program\, and Youth Mental Health First Aid. \n  \nCrystal Dethlefs\, FASD Parent Advocate at The Florida Center \nCrystal Dethlefs is the proud biological & adoptive mother of seven\, including four siblings who joined the family as infants\, after prenatal alcohol exposure. She is passionate about providing caregivers and professionals with the knowledge and tolls necessary to support individuals with Fetal Alcohol Spectrum Disorders\, recognizing that informed care will bring about positive outcomes for those with FASD. Crystal is a Parent Advocate with The Florida Center for Early Childhood FASD Clinic. \nThe Florida Center for Early Childhood operates the only FASD Diagnostic Clinics in the State of Florida in Sarasota\, Orlando\, and the panhandle.  
URL:https://fasdunited.org/event/fetal-alcohol-spectrum-disorders-fasd-what-is-it-and-what-do-we-do-about-it/
LOCATION:Virtual
CATEGORIES:Open to the Public,Training
ATTACH;FMTTYPE=image/png:https://fasdunited.org/wp-content/uploads/2025/09/Intro-to-FASD-for-constant-contact.png
END:VEVENT
BEGIN:VEVENT
DTSTART;TZID=America/New_York:20251210T120000
DTEND;TZID=America/New_York:20251210T123000
DTSTAMP:20260424T010239
CREATED:20251021T225336Z
LAST-MODIFIED:20251210T225532Z
UID:10001734-1765368000-1765369800@fasdunited.org
SUMMARY:FASD United Weekly Policy Drop-in
DESCRIPTION:Do you have a question about advocating for The FASD Respect Act?  Want to give and receive updates? This weekly Zoom drop-in session is a great space to do it. The dedicated staff of the FASD United Policy Team will be on hand to answer your questions\, give support\, and cheer you on!\n\n\nThe Zoom drop-in is held on Wednesdays at Noon Eastern\, 11 am Central\, 10 am Mountain\, 9 am Pacific\, 8 am Alaskan\, and 6 am Hawaiian time. https://zoom.us/j/94210118165?pwd=VlVLcW01U29BTi9NTytVS1pzWVE3dz09&from=addon  \nMeeting ID: 942 1011 8165 Passcode: 337897
URL:https://fasdunited.org/event/fasd-united-weekly-policy-drop-in-49/
LOCATION:Via Zoom
CATEGORIES:Respect Act Drop In
ORGANIZER;CN="FASD United":MAILTO:affiliate@fasdunited.org
END:VEVENT
BEGIN:VEVENT
DTSTART;TZID=America/New_York:20251217T120000
DTEND;TZID=America/New_York:20251217T123000
DTSTAMP:20260424T010239
CREATED:20251021T225340Z
LAST-MODIFIED:20251217T234037Z
UID:10001735-1765972800-1765974600@fasdunited.org
SUMMARY:FASD United Weekly Policy Drop-in
DESCRIPTION:Do you have a question about advocating for The FASD Respect Act?  Want to give and receive updates? This weekly Zoom drop-in session is a great space to do it. The dedicated staff of the FASD United Policy Team will be on hand to answer your questions\, give support\, and cheer you on!\n\n\nThe Zoom drop-in is held on Wednesdays at Noon Eastern\, 11 am Central\, 10 am Mountain\, 9 am Pacific\, 8 am Alaskan\, and 6 am Hawaiian time. https://zoom.us/j/94210118165?pwd=VlVLcW01U29BTi9NTytVS1pzWVE3dz09&from=addon  \nMeeting ID: 942 1011 8165 Passcode: 337897
URL:https://fasdunited.org/event/fasd-united-weekly-policy-drop-in-50/
LOCATION:Via Zoom
CATEGORIES:Respect Act Drop In
ORGANIZER;CN="FASD United":MAILTO:affiliate@fasdunited.org
END:VEVENT
BEGIN:VEVENT
DTSTART;TZID=America/New_York:20251218T150000
DTEND;TZID=America/New_York:20251218T160000
DTSTAMP:20260424T010239
CREATED:20251123T232416Z
LAST-MODIFIED:20251212T193041Z
UID:10001827-1766070000-1766073600@fasdunited.org
SUMMARY:Affiliate Access
DESCRIPTION:
URL:https://fasdunited.org/event/affiliate-access-22/
LOCATION:Online
END:VEVENT
BEGIN:VEVENT
DTSTART;TZID=America/New_York:20251218T150000
DTEND;TZID=America/New_York:20251218T160000
DTSTAMP:20260424T010239
CREATED:20251123T232428Z
LAST-MODIFIED:20251212T193048Z
UID:10001828-1766070000-1766073600@fasdunited.org
SUMMARY:Affiliate Network Meeting
DESCRIPTION:The FASD United Affiliate Meeting is held on the third Thursday of each month at 3 p.m. Eastern.  It is open to individuals from Affiliate organizations only. \nAffiliate members will receive an email with Zoom information prior to the meeting.  For more information on becoming an FASD United Affiliate\, go to www.nofasaffiliatenetwork.org/join/
URL:https://fasdunited.org/event/affiliate-network-meeting-39/
LOCATION:Online
CATEGORIES:Affiliate Events,Monthly Affiliate Meeting
ATTACH;FMTTYPE=image/png:https://fasdunited.org/wp-content/uploads/2022/07/FASD-UNITED-Affiliate-Network-STACKED-FULL_COLOR-ekKkNk.tmp_.png
ORGANIZER;CN="FASD United":MAILTO:affiliate@fasdunited.org
END:VEVENT
BEGIN:VEVENT
DTSTART;TZID=America/Vancouver:20251219T100000
DTEND;TZID=America/Vancouver:20251219T113000
DTSTAMP:20260424T010239
CREATED:20241028T033720Z
LAST-MODIFIED:20241028T033720Z
UID:10001571-1766138400-1766143800@fasdunited.org
SUMMARY:Caregiver Support and Resource Navigation Group
DESCRIPTION:Participants will help determine the themes and topics covered to best support their needs. Topics may include: \n· Sharing the joys and challenges of caregiving for adults or youth transitioning into adulthood who have FASD or similar neurodiversity/disability. \n· Exchanging ideas and sharing successes. \n· Strengthening the caregiver-child relationship through a better understanding of your youth or young adult. \n· Caregiver resource systems navigation (employment\, disability services\, financial\, medical\, educational). \n· Supporting transitions and helping to navigate changes in school\, employment\, life\, and daily routines. \n· Supporting employment\, interpersonal skills\, recreation\, friendships\, relationships\, regulation\, and interdependence. \n· Managing caregiver fatigue and avoiding burnout. \n  \nFacilitated by Parent Consultant and now retired Key Worker Coordinator Jill Crichton with additional support provided by practicum student clinicians Jasleen Mann and Dana Patterson. \n  \nCreating a safe\, interactive space for caregivers to connect\, share\, and celebrate the journey of Caregiving. \n  \nWHEN: BI-WEEKLY MEETINGS ON FRIDAYS 10:00 – 11:30 AM\, BEGINNING NOV. 8 2024\, UNTIL APR. 25 2025 \nWHERE: VIA ZOOM \nCOST: $20.00 (+GST) DROP-IN FEE (IF COST IS A CONCERN\, CONTACT US FOR ALTERNATIVE OPTIONS.) \nFor group access and more information\, please email admin@fasdinstitute.com
URL:https://fasdunited.org/event/caregiver-support-and-resource-navigation-group/2025-12-19/
LOCATION:Virtual
ATTACH;FMTTYPE=image/png:https://fasdunited.org/wp-content/uploads/2024/10/Caregiver-Group-Flyer.png
ORGANIZER;CN="FASD Institute Inc.":MAILTO:admin@fasdinstitute.com
END:VEVENT
BEGIN:VEVENT
DTSTART;TZID=America/New_York:20251224T120000
DTEND;TZID=America/New_York:20251224T123000
DTSTAMP:20260424T010239
CREATED:20251025T232346Z
LAST-MODIFIED:20251222T235537Z
UID:10001736-1766577600-1766579400@fasdunited.org
SUMMARY:FASD United Weekly Policy Drop-in
DESCRIPTION:Do you have a question about advocating for The FASD Respect Act?  Want to give and receive updates? This weekly Zoom drop-in session is a great space to do it. The dedicated staff of the FASD United Policy Team will be on hand to answer your questions\, give support\, and cheer you on!\n\n\nThe Zoom drop-in is held on Wednesdays at Noon Eastern\, 11 am Central\, 10 am Mountain\, 9 am Pacific\, 8 am Alaskan\, and 6 am Hawaiian time. https://zoom.us/j/94210118165?pwd=VlVLcW01U29BTi9NTytVS1pzWVE3dz09&from=addon  \nMeeting ID: 942 1011 8165 Passcode: 337897
URL:https://fasdunited.org/event/fasd-united-weekly-policy-drop-in-51/
LOCATION:Via Zoom
CATEGORIES:Respect Act Drop In
ORGANIZER;CN="FASD United":MAILTO:affiliate@fasdunited.org
END:VEVENT
BEGIN:VEVENT
DTSTART;TZID=America/Chicago:20251225T110000
DTEND;TZID=America/Chicago:20251225T120000
DTSTAMP:20260424T010239
CREATED:20250827T182615Z
LAST-MODIFIED:20250827T182615Z
UID:10001700-1766660400-1766664000@fasdunited.org
SUMMARY:Strong Fathers Building Safe Homes: A Coaching Circle for Dads Navigating FASD
DESCRIPTION:The Papillion Center for FASD is collaborating with Joshua Legg\, Pastoral Care & Life Coach to offer a five-week group\, TOOL TIME\, for fathers parenting children affected by FASD.  Completed over a lunch hour via zoom\, this is a time to learn\, connect and grow with others. \nAre you a dad to a child who has been diagnosed with or you suspect is affected by Fetal Alcohol Spectrum Disorders?  If so\, this training is for you.  Grab your spot\, group size is limited!
URL:https://fasdunited.org/event/strong-fathers-building-safe-homes-a-coaching-circle-for-dads-navigating-fasd/2025-12-25/
CATEGORIES:Training
ATTACH;FMTTYPE=image/png:https://fasdunited.org/wp-content/uploads/2025/08/Dads.png
END:VEVENT
BEGIN:VEVENT
DTSTART;TZID=America/New_York:20251231T140000
DTEND;TZID=America/New_York:20251231T150000
DTSTAMP:20260424T010239
CREATED:20251101T235340Z
LAST-MODIFIED:20251231T225536Z
UID:10001737-1767189600-1767193200@fasdunited.org
SUMMARY:FASD United Policy Forum
DESCRIPTION:The monthly forum is a regularly scheduled virtual meeting to brief advocates and guide policy outreach. The meetings are open to all FASD advocates. You can help ensure action on critical FASD legislation by joining the monthly FASD policy virtual forum and preparing to engage with your senators and representatives. Click to join the forums live on Zoom or participate by phone using the number nearest your location. \nMeeting ID: 892 5829 4486 Passcode: 454311 \nDial by your location +1 312 626 6799 US (Chicago) ++1 253 215 8782 US (Tacoma) +1 346 248 7799 US (Houston) +1 720 707 2699 US (Denver) +1 312 626 6799 US (Chicago) +1 646 558 8656 US (New York) +1 301 715 8592 US (Washington DC)
URL:https://fasdunited.org/event/fasd-united-policy-forum-15/
LOCATION:Via Zoom
CATEGORIES:Monthly Forum
ORGANIZER;CN="FASD United":MAILTO:affiliate@fasdunited.org
END:VEVENT
END:VCALENDAR