BEGIN:VCALENDAR
VERSION:2.0
PRODID:-//FASD United - ECPv6.15.20//NONSGML v1.0//EN
CALSCALE:GREGORIAN
METHOD:PUBLISH
X-WR-CALNAME:FASD United
X-ORIGINAL-URL:https://fasdunited.org
X-WR-CALDESC:Events for FASD United
REFRESH-INTERVAL;VALUE=DURATION:PT1H
X-Robots-Tag:noindex
X-PUBLISHED-TTL:PT1H
BEGIN:VTIMEZONE
TZID:America/Chicago
BEGIN:DAYLIGHT
TZOFFSETFROM:-0600
TZOFFSETTO:-0500
TZNAME:CDT
DTSTART:20250309T080000
END:DAYLIGHT
BEGIN:STANDARD
TZOFFSETFROM:-0500
TZOFFSETTO:-0600
TZNAME:CST
DTSTART:20251102T070000
END:STANDARD
BEGIN:DAYLIGHT
TZOFFSETFROM:-0600
TZOFFSETTO:-0500
TZNAME:CDT
DTSTART:20260308T080000
END:DAYLIGHT
BEGIN:STANDARD
TZOFFSETFROM:-0500
TZOFFSETTO:-0600
TZNAME:CST
DTSTART:20261101T070000
END:STANDARD
BEGIN:DAYLIGHT
TZOFFSETFROM:-0600
TZOFFSETTO:-0500
TZNAME:CDT
DTSTART:20270314T080000
END:DAYLIGHT
BEGIN:STANDARD
TZOFFSETFROM:-0500
TZOFFSETTO:-0600
TZNAME:CST
DTSTART:20271107T070000
END:STANDARD
END:VTIMEZONE
BEGIN:VTIMEZONE
TZID:America/New_York
BEGIN:DAYLIGHT
TZOFFSETFROM:-0500
TZOFFSETTO:-0400
TZNAME:EDT
DTSTART:20250309T070000
END:DAYLIGHT
BEGIN:STANDARD
TZOFFSETFROM:-0400
TZOFFSETTO:-0500
TZNAME:EST
DTSTART:20251102T060000
END:STANDARD
BEGIN:DAYLIGHT
TZOFFSETFROM:-0500
TZOFFSETTO:-0400
TZNAME:EDT
DTSTART:20260308T070000
END:DAYLIGHT
BEGIN:STANDARD
TZOFFSETFROM:-0400
TZOFFSETTO:-0500
TZNAME:EST
DTSTART:20261101T060000
END:STANDARD
BEGIN:DAYLIGHT
TZOFFSETFROM:-0500
TZOFFSETTO:-0400
TZNAME:EDT
DTSTART:20270314T070000
END:DAYLIGHT
BEGIN:STANDARD
TZOFFSETFROM:-0400
TZOFFSETTO:-0500
TZNAME:EST
DTSTART:20271107T060000
END:STANDARD
END:VTIMEZONE
BEGIN:VTIMEZONE
TZID:America/Los_Angeles
BEGIN:DAYLIGHT
TZOFFSETFROM:-0800
TZOFFSETTO:-0700
TZNAME:PDT
DTSTART:20250309T100000
END:DAYLIGHT
BEGIN:STANDARD
TZOFFSETFROM:-0700
TZOFFSETTO:-0800
TZNAME:PST
DTSTART:20251102T090000
END:STANDARD
BEGIN:DAYLIGHT
TZOFFSETFROM:-0800
TZOFFSETTO:-0700
TZNAME:PDT
DTSTART:20260308T100000
END:DAYLIGHT
BEGIN:STANDARD
TZOFFSETFROM:-0700
TZOFFSETTO:-0800
TZNAME:PST
DTSTART:20261101T090000
END:STANDARD
BEGIN:DAYLIGHT
TZOFFSETFROM:-0800
TZOFFSETTO:-0700
TZNAME:PDT
DTSTART:20270314T100000
END:DAYLIGHT
BEGIN:STANDARD
TZOFFSETFROM:-0700
TZOFFSETTO:-0800
TZNAME:PST
DTSTART:20271107T090000
END:STANDARD
END:VTIMEZONE
BEGIN:VEVENT
DTSTART;TZID=America/Chicago:20261001T110000
DTEND;TZID=America/Chicago:20261001T120000
DTSTAMP:20260424T041132
CREATED:20250827T182615Z
LAST-MODIFIED:20250827T182615Z
UID:10001708-1790852400-1790856000@fasdunited.org
SUMMARY:Strong Fathers Building Safe Homes: A Coaching Circle for Dads Navigating FASD
DESCRIPTION:The Papillion Center for FASD is collaborating with Joshua Legg\, Pastoral Care & Life Coach to offer a five-week group\, TOOL TIME\, for fathers parenting children affected by FASD.  Completed over a lunch hour via zoom\, this is a time to learn\, connect and grow with others. \nAre you a dad to a child who has been diagnosed with or you suspect is affected by Fetal Alcohol Spectrum Disorders?  If so\, this training is for you.  Grab your spot\, group size is limited!
URL:https://fasdunited.org/event/strong-fathers-building-safe-homes-a-coaching-circle-for-dads-navigating-fasd/2026-10-01/
CATEGORIES:Training
ATTACH;FMTTYPE=image/png:https://fasdunited.org/wp-content/uploads/2025/08/Dads.png
END:VEVENT
BEGIN:VEVENT
DTSTART;TZID=America/New_York:20261001T163000
DTEND;TZID=America/New_York:20261001T173000
DTSTAMP:20260424T041132
CREATED:20251123T232811Z
LAST-MODIFIED:20260110T141212Z
UID:10001856-1790872200-1790875800@fasdunited.org
SUMMARY:Affiliate Access
DESCRIPTION:The FASD United Affiliate Network Executive Council Meeting is held the 1st Thursday of each month at 4:30 pm Eastern.  This meeting is open to Affiliate Executive Council Members only.  To view a list of your Executive Council Members\, click here: Affiliate Executive Council \nMembers of the FASD United Affiliate Executive Council will be emailed a zoom link prior to the meeting.  To add an agenda item or for questions about the Affiliate Executive Council\, email baldwin@fasdunited.org. \nFor more information on becoming an FASD United Affiliate\, go to www.nofasaffiliatenetwork.org/join/
URL:https://fasdunited.org/event/affiliate-access-41/
LOCATION:Online
CATEGORIES:Affiliate Events,NAEC Monthly Meeting
ATTACH;FMTTYPE=image/png:https://fasdunited.org/wp-content/uploads/2022/07/FASD-UNITED-Affiliate-Network-STACKED-FULL_COLOR-ekKkNk.tmp_.png
ORGANIZER;CN="FASD United":MAILTO:affiliate@fasdunited.org
END:VEVENT
BEGIN:VEVENT
DTSTART;TZID=America/Los_Angeles:20261008T160000
DTEND;TZID=America/Los_Angeles:20261008T173000
DTSTAMP:20260424T041132
CREATED:20260217T205334Z
LAST-MODIFIED:20260217T205334Z
UID:10002040-1791475200-1791480600@fasdunited.org
SUMMARY:FASD & the IEP Mentorship Coalition
DESCRIPTION:The FASD & the IEP Mentorship Coalition is an opportunity for ongoing training designed for people working with students with FASD who have\, or need\, an Individualized Education Program (IEP). This program recognizes and focuses on the need for ongoing growth and education specific to the needs of students with FASD within the special education system. We meet on the second Thursday of every month from 4:00pm – 5:30pm PT. This mentorship opportunity combines direct interaction\, discourse\, case studies\, and education relating to FASD & the IEP. Group participation and respectful dialogue is encouraged. Some prior knowledge of FASD and of IEPs required. Information on prerequisites and registration available at: https://www.healthymindsconsulting.com/fasd-iep-mentorship-coalition/
URL:https://fasdunited.org/event/fasd-the-iep-mentorship-coalition/2026-10-08/
LOCATION:Virtual
CATEGORIES:Education and Schools,Training
ATTACH;FMTTYPE=image/png:https://fasdunited.org/wp-content/uploads/2026/02/Mentorship-Badge-001.png
ORGANIZER;CN="Healthy Minds Consulting":MAILTO:kellyrain@healthymindsconsulting.com
END:VEVENT
BEGIN:VEVENT
DTSTART;TZID=America/New_York:20261015T150000
DTEND;TZID=America/New_York:20261015T160000
DTSTAMP:20260424T041132
CREATED:20251123T232816Z
LAST-MODIFIED:20251212T193343Z
UID:10001857-1792076400-1792080000@fasdunited.org
SUMMARY:Affiliate Access
DESCRIPTION:
URL:https://fasdunited.org/event/affiliate-access-42/
LOCATION:Online
END:VEVENT
BEGIN:VEVENT
DTSTART;TZID=America/New_York:20261015T150000
DTEND;TZID=America/New_York:20261015T160000
DTSTAMP:20260424T041132
CREATED:20251123T232820Z
LAST-MODIFIED:20260110T141237Z
UID:10001858-1792076400-1792080000@fasdunited.org
SUMMARY:Affiliate Network Meeting
DESCRIPTION:The FASD United Affiliate Meeting is held on the third Thursday of each month at 3 p.m. Eastern.  It is open to individuals from Affiliate organizations only. \nAffiliate members will receive an email with Zoom information prior to the meeting.  For more information on becoming an FASD United Affiliate\, go to www.nofasaffiliatenetwork.org/join/
URL:https://fasdunited.org/event/affiliate-network-meeting-49/
LOCATION:Online
CATEGORIES:Affiliate Events,Monthly Affiliate Meeting
ATTACH;FMTTYPE=image/png:https://fasdunited.org/wp-content/uploads/2022/07/FASD-UNITED-Affiliate-Network-STACKED-FULL_COLOR-ekKkNk.tmp_.png
ORGANIZER;CN="FASD United":MAILTO:affiliate@fasdunited.org
END:VEVENT
END:VCALENDAR