BEGIN:VCALENDAR
VERSION:2.0
PRODID:-//FASD United - ECPv6.15.20//NONSGML v1.0//EN
CALSCALE:GREGORIAN
METHOD:PUBLISH
X-WR-CALNAME:FASD United
X-ORIGINAL-URL:https://fasdunited.org
X-WR-CALDESC:Events for FASD United
REFRESH-INTERVAL;VALUE=DURATION:PT1H
X-Robots-Tag:noindex
X-PUBLISHED-TTL:PT1H
BEGIN:VTIMEZONE
TZID:America/Chicago
BEGIN:DAYLIGHT
TZOFFSETFROM:-0600
TZOFFSETTO:-0500
TZNAME:CDT
DTSTART:20250309T080000
END:DAYLIGHT
BEGIN:STANDARD
TZOFFSETFROM:-0500
TZOFFSETTO:-0600
TZNAME:CST
DTSTART:20251102T070000
END:STANDARD
BEGIN:DAYLIGHT
TZOFFSETFROM:-0600
TZOFFSETTO:-0500
TZNAME:CDT
DTSTART:20260308T080000
END:DAYLIGHT
BEGIN:STANDARD
TZOFFSETFROM:-0500
TZOFFSETTO:-0600
TZNAME:CST
DTSTART:20261101T070000
END:STANDARD
BEGIN:DAYLIGHT
TZOFFSETFROM:-0600
TZOFFSETTO:-0500
TZNAME:CDT
DTSTART:20270314T080000
END:DAYLIGHT
BEGIN:STANDARD
TZOFFSETFROM:-0500
TZOFFSETTO:-0600
TZNAME:CST
DTSTART:20271107T070000
END:STANDARD
END:VTIMEZONE
BEGIN:VEVENT
DTSTART;TZID=America/Chicago:20260514T110000
DTEND;TZID=America/Chicago:20260514T120000
DTSTAMP:20260423T192139
CREATED:20250827T182615Z
LAST-MODIFIED:20250827T182615Z
UID:10001704-1778756400-1778760000@fasdunited.org
SUMMARY:Strong Fathers Building Safe Homes: A Coaching Circle for Dads Navigating FASD
DESCRIPTION:The Papillion Center for FASD is collaborating with Joshua Legg\, Pastoral Care & Life Coach to offer a five-week group\, TOOL TIME\, for fathers parenting children affected by FASD.  Completed over a lunch hour via zoom\, this is a time to learn\, connect and grow with others. \nAre you a dad to a child who has been diagnosed with or you suspect is affected by Fetal Alcohol Spectrum Disorders?  If so\, this training is for you.  Grab your spot\, group size is limited!
URL:https://fasdunited.org/event/strong-fathers-building-safe-homes-a-coaching-circle-for-dads-navigating-fasd/2026-05-14/
CATEGORIES:Training
ATTACH;FMTTYPE=image/png:https://fasdunited.org/wp-content/uploads/2025/08/Dads.png
END:VEVENT
BEGIN:VEVENT
DTSTART;TZID=America/Chicago:20260618T110000
DTEND;TZID=America/Chicago:20260618T120000
DTSTAMP:20260423T192139
CREATED:20250827T182615Z
LAST-MODIFIED:20250827T182615Z
UID:10001705-1781780400-1781784000@fasdunited.org
SUMMARY:Strong Fathers Building Safe Homes: A Coaching Circle for Dads Navigating FASD
DESCRIPTION:The Papillion Center for FASD is collaborating with Joshua Legg\, Pastoral Care & Life Coach to offer a five-week group\, TOOL TIME\, for fathers parenting children affected by FASD.  Completed over a lunch hour via zoom\, this is a time to learn\, connect and grow with others. \nAre you a dad to a child who has been diagnosed with or you suspect is affected by Fetal Alcohol Spectrum Disorders?  If so\, this training is for you.  Grab your spot\, group size is limited!
URL:https://fasdunited.org/event/strong-fathers-building-safe-homes-a-coaching-circle-for-dads-navigating-fasd/2026-06-18/
CATEGORIES:Training
ATTACH;FMTTYPE=image/png:https://fasdunited.org/wp-content/uploads/2025/08/Dads.png
END:VEVENT
BEGIN:VEVENT
DTSTART;TZID=America/Chicago:20260723T110000
DTEND;TZID=America/Chicago:20260723T120000
DTSTAMP:20260423T192139
CREATED:20250827T182615Z
LAST-MODIFIED:20250827T182615Z
UID:10001706-1784804400-1784808000@fasdunited.org
SUMMARY:Strong Fathers Building Safe Homes: A Coaching Circle for Dads Navigating FASD
DESCRIPTION:The Papillion Center for FASD is collaborating with Joshua Legg\, Pastoral Care & Life Coach to offer a five-week group\, TOOL TIME\, for fathers parenting children affected by FASD.  Completed over a lunch hour via zoom\, this is a time to learn\, connect and grow with others. \nAre you a dad to a child who has been diagnosed with or you suspect is affected by Fetal Alcohol Spectrum Disorders?  If so\, this training is for you.  Grab your spot\, group size is limited!
URL:https://fasdunited.org/event/strong-fathers-building-safe-homes-a-coaching-circle-for-dads-navigating-fasd/2026-07-23/
CATEGORIES:Training
ATTACH;FMTTYPE=image/png:https://fasdunited.org/wp-content/uploads/2025/08/Dads.png
END:VEVENT
BEGIN:VEVENT
DTSTART;TZID=America/Chicago:20260827T110000
DTEND;TZID=America/Chicago:20260827T120000
DTSTAMP:20260423T192139
CREATED:20250827T182615Z
LAST-MODIFIED:20250827T182615Z
UID:10001707-1787828400-1787832000@fasdunited.org
SUMMARY:Strong Fathers Building Safe Homes: A Coaching Circle for Dads Navigating FASD
DESCRIPTION:The Papillion Center for FASD is collaborating with Joshua Legg\, Pastoral Care & Life Coach to offer a five-week group\, TOOL TIME\, for fathers parenting children affected by FASD.  Completed over a lunch hour via zoom\, this is a time to learn\, connect and grow with others. \nAre you a dad to a child who has been diagnosed with or you suspect is affected by Fetal Alcohol Spectrum Disorders?  If so\, this training is for you.  Grab your spot\, group size is limited!
URL:https://fasdunited.org/event/strong-fathers-building-safe-homes-a-coaching-circle-for-dads-navigating-fasd/2026-08-27/
CATEGORIES:Training
ATTACH;FMTTYPE=image/png:https://fasdunited.org/wp-content/uploads/2025/08/Dads.png
END:VEVENT
BEGIN:VEVENT
DTSTART;TZID=America/Chicago:20261001T110000
DTEND;TZID=America/Chicago:20261001T120000
DTSTAMP:20260423T192139
CREATED:20250827T182615Z
LAST-MODIFIED:20250827T182615Z
UID:10001708-1790852400-1790856000@fasdunited.org
SUMMARY:Strong Fathers Building Safe Homes: A Coaching Circle for Dads Navigating FASD
DESCRIPTION:The Papillion Center for FASD is collaborating with Joshua Legg\, Pastoral Care & Life Coach to offer a five-week group\, TOOL TIME\, for fathers parenting children affected by FASD.  Completed over a lunch hour via zoom\, this is a time to learn\, connect and grow with others. \nAre you a dad to a child who has been diagnosed with or you suspect is affected by Fetal Alcohol Spectrum Disorders?  If so\, this training is for you.  Grab your spot\, group size is limited!
URL:https://fasdunited.org/event/strong-fathers-building-safe-homes-a-coaching-circle-for-dads-navigating-fasd/2026-10-01/
CATEGORIES:Training
ATTACH;FMTTYPE=image/png:https://fasdunited.org/wp-content/uploads/2025/08/Dads.png
END:VEVENT
BEGIN:VEVENT
DTSTART;TZID=America/Chicago:20261105T110000
DTEND;TZID=America/Chicago:20261105T120000
DTSTAMP:20260423T192139
CREATED:20250827T182615Z
LAST-MODIFIED:20250827T182615Z
UID:10001709-1793876400-1793880000@fasdunited.org
SUMMARY:Strong Fathers Building Safe Homes: A Coaching Circle for Dads Navigating FASD
DESCRIPTION:The Papillion Center for FASD is collaborating with Joshua Legg\, Pastoral Care & Life Coach to offer a five-week group\, TOOL TIME\, for fathers parenting children affected by FASD.  Completed over a lunch hour via zoom\, this is a time to learn\, connect and grow with others. \nAre you a dad to a child who has been diagnosed with or you suspect is affected by Fetal Alcohol Spectrum Disorders?  If so\, this training is for you.  Grab your spot\, group size is limited!
URL:https://fasdunited.org/event/strong-fathers-building-safe-homes-a-coaching-circle-for-dads-navigating-fasd/2026-11-05/
CATEGORIES:Training
ATTACH;FMTTYPE=image/png:https://fasdunited.org/wp-content/uploads/2025/08/Dads.png
END:VEVENT
END:VCALENDAR