BEGIN:VCALENDAR
VERSION:2.0
PRODID:-//FASD United - ECPv6.15.20//NONSGML v1.0//EN
CALSCALE:GREGORIAN
METHOD:PUBLISH
X-ORIGINAL-URL:https://fasdunited.org
X-WR-CALDESC:Events for FASD United
REFRESH-INTERVAL;VALUE=DURATION:PT1H
X-Robots-Tag:noindex
X-PUBLISHED-TTL:PT1H
BEGIN:VTIMEZONE
TZID:America/Los_Angeles
BEGIN:DAYLIGHT
TZOFFSETFROM:-0800
TZOFFSETTO:-0700
TZNAME:PDT
DTSTART:20240310T100000
END:DAYLIGHT
BEGIN:STANDARD
TZOFFSETFROM:-0700
TZOFFSETTO:-0800
TZNAME:PST
DTSTART:20241103T090000
END:STANDARD
BEGIN:DAYLIGHT
TZOFFSETFROM:-0800
TZOFFSETTO:-0700
TZNAME:PDT
DTSTART:20250309T100000
END:DAYLIGHT
BEGIN:STANDARD
TZOFFSETFROM:-0700
TZOFFSETTO:-0800
TZNAME:PST
DTSTART:20251102T090000
END:STANDARD
BEGIN:DAYLIGHT
TZOFFSETFROM:-0800
TZOFFSETTO:-0700
TZNAME:PDT
DTSTART:20260308T100000
END:DAYLIGHT
BEGIN:STANDARD
TZOFFSETFROM:-0700
TZOFFSETTO:-0800
TZNAME:PST
DTSTART:20261101T090000
END:STANDARD
END:VTIMEZONE
BEGIN:VTIMEZONE
TZID:America/New_York
BEGIN:DAYLIGHT
TZOFFSETFROM:-0500
TZOFFSETTO:-0400
TZNAME:EDT
DTSTART:20240310T070000
END:DAYLIGHT
BEGIN:STANDARD
TZOFFSETFROM:-0400
TZOFFSETTO:-0500
TZNAME:EST
DTSTART:20241103T060000
END:STANDARD
BEGIN:DAYLIGHT
TZOFFSETFROM:-0500
TZOFFSETTO:-0400
TZNAME:EDT
DTSTART:20250309T070000
END:DAYLIGHT
BEGIN:STANDARD
TZOFFSETFROM:-0400
TZOFFSETTO:-0500
TZNAME:EST
DTSTART:20251102T060000
END:STANDARD
BEGIN:DAYLIGHT
TZOFFSETFROM:-0500
TZOFFSETTO:-0400
TZNAME:EDT
DTSTART:20260308T070000
END:DAYLIGHT
BEGIN:STANDARD
TZOFFSETFROM:-0400
TZOFFSETTO:-0500
TZNAME:EST
DTSTART:20261101T060000
END:STANDARD
END:VTIMEZONE
BEGIN:VEVENT
DTSTART;TZID=America/Los_Angeles:20251007T100000
DTEND;TZID=America/Los_Angeles:20251007T130000
DTSTAMP:20260424T030837
CREATED:20250710T161503Z
LAST-MODIFIED:20250710T161503Z
UID:10001675-1759831200-1759842000@fasdunited.org
SUMMARY:FASCETS Center for Neurodiversity TRAINING Brain-Based Conditions Including FASD: Understanding & Application of the FASCETS Brain-Based Approach
DESCRIPTION:The FASCETS brain-based approach explores the concept that we each have strengths and challenges based on how our brain works. These can be directly informed by our genetic make-up or by pre or postnatal events. In both our 15-hour upcoming training\, we discuss the FASCETS brain-based or neurobehavioral approach which links brain function with behaviors\, leading to supports that work and make a difference for all brain-based differences such as FASD\, ADHD\, Autism\, Dementia\, TBI and more! \nJoin us for a deep dive into the 15-hour Live webinar to learn more about the FASCETS brain-based approach and discover tools to implement it in all settings in order to create person-specific supports regardless of the source of the brain-based difference: FASD\, ASD\, ADHD\, autism\, dementia\, acquired brain injuries…) It is effective for all people across their entire lifespan. \nIf you are someone who lives with\, works with or knows someone with a confirmed or suspected brain-based difference\, this workshop is for you! \nTo learn more about these and all of our other upcoming trainings and to register\, visit: https://www.fascets.org/book-online
URL:https://fasdunited.org/event/fascets-center-for-neurodiversity-training-brain-based-conditions-including-fasd-understanding-application-of-the-fascets-brain-based-approach-2/2025-10-07/
CATEGORIES:Training
ATTACH;FMTTYPE=image/png:https://fasdunited.org/wp-content/uploads/2025/07/Blue-And-Yellow-Minimalist-FOMO-Fear-Of-Missing-Out-Instagram-Post-1.png
ORGANIZER;CN="FASCETS Center for Neurodiversity":MAILTO:info@fascets.org
END:VEVENT
BEGIN:VEVENT
DTSTART;TZID=America/New_York:20251009T113000
DTEND;TZID=America/New_York:20251009T133000
DTSTAMP:20260424T030837
CREATED:20250916T115553Z
LAST-MODIFIED:20250916T115553Z
UID:10001720-1760009400-1760016600@fasdunited.org
SUMMARY:The Importance of Screening for Prenatal Alcohol Exposure
DESCRIPTION:Presented in collaboration by The Florida Center and Proof Alliance\, this webinar will explore the impact of prenatal alcohol exposure on child development\, learning\, and behavior. Designed for healthcare professionals\, nurses\, public health workers\, health educators\, social workers\, community health workers\, doulas\, and anyone providing prenatal care\, the training highlights the importance of screening and documentation to guide effective support. It includes practical examples\, questions\, and protocols to help connect families with appropriate resources and services.
URL:https://fasdunited.org/event/the-importance-of-screening-for-prenatal-alcohol-exposure/
LOCATION:Virtual
CATEGORIES:Affiliates,FASD Intervention,Training
ATTACH;FMTTYPE=image/png:https://fasdunited.org/wp-content/uploads/2025/09/Photo-for-Importance-of-Screening-for-PAE.png
END:VEVENT
BEGIN:VEVENT
DTSTART;TZID=America/Los_Angeles:20251014T100000
DTEND;TZID=America/Los_Angeles:20251014T130000
DTSTAMP:20260424T030837
CREATED:20250710T161503Z
LAST-MODIFIED:20250710T161503Z
UID:10001676-1760436000-1760446800@fasdunited.org
SUMMARY:FASCETS Center for Neurodiversity TRAINING Brain-Based Conditions Including FASD: Understanding & Application of the FASCETS Brain-Based Approach
DESCRIPTION:The FASCETS brain-based approach explores the concept that we each have strengths and challenges based on how our brain works. These can be directly informed by our genetic make-up or by pre or postnatal events. In both our 15-hour upcoming training\, we discuss the FASCETS brain-based or neurobehavioral approach which links brain function with behaviors\, leading to supports that work and make a difference for all brain-based differences such as FASD\, ADHD\, Autism\, Dementia\, TBI and more! \nJoin us for a deep dive into the 15-hour Live webinar to learn more about the FASCETS brain-based approach and discover tools to implement it in all settings in order to create person-specific supports regardless of the source of the brain-based difference: FASD\, ASD\, ADHD\, autism\, dementia\, acquired brain injuries…) It is effective for all people across their entire lifespan. \nIf you are someone who lives with\, works with or knows someone with a confirmed or suspected brain-based difference\, this workshop is for you! \nTo learn more about these and all of our other upcoming trainings and to register\, visit: https://www.fascets.org/book-online
URL:https://fasdunited.org/event/fascets-center-for-neurodiversity-training-brain-based-conditions-including-fasd-understanding-application-of-the-fascets-brain-based-approach-2/2025-10-14/
CATEGORIES:Training
ATTACH;FMTTYPE=image/png:https://fasdunited.org/wp-content/uploads/2025/07/Blue-And-Yellow-Minimalist-FOMO-Fear-Of-Missing-Out-Instagram-Post-1.png
ORGANIZER;CN="FASCETS Center for Neurodiversity":MAILTO:info@fascets.org
END:VEVENT
BEGIN:VEVENT
DTSTART;TZID=America/New_York:20251021T080000
DTEND;TZID=America/New_York:20251023T130000
DTSTAMP:20260424T030837
CREATED:20250909T154304Z
LAST-MODIFIED:20250909T154304Z
UID:10001717-1761033600-1761224400@fasdunited.org
SUMMARY:Canada FASD Conference 2025
DESCRIPTION:The Canada FASD Conference is coming to Toronto\, Ontario on October 21-23\, 2025. This national conference on FASD brings together different people from across the country and internationally who hold valuable perspectives on FASD and\nprevention of FASD. The theme for Canada FASD Conference 2025 conference is Shaping the Future of FASD: From Evidence to Action. \nWith over 600 attendees expected\, this three-day event brings together healthcare professionals\, social workers\, justice and legal professionals\, educators\, counsellors\, researchers\, policy makers\, and those with direct or indirect lived or living experience to connect and collaborate. This conference provides a secure and open environment to share diverse perspectives\, valuable experiences\, new research\, and best and promising practices. We encourage you to be part of it!
URL:https://fasdunited.org/event/canada-fasd-conference-2025/
LOCATION:Virtual
CATEGORIES:Conference,FASD Intervention,FASD Policy Related Event,Justice,Open to the Public,Policy,Training
ATTACH;FMTTYPE=image/png:https://fasdunited.org/wp-content/uploads/2025/09/CanadaFASDConference_Logo-Transparent-Background.png
ORGANIZER;CN="Canada FASD Research Network":MAILTO:conference@canfasd.ca
END:VEVENT
END:VCALENDAR