BEGIN:VCALENDAR
VERSION:2.0
PRODID:-//FASD United - ECPv6.15.20//NONSGML v1.0//EN
CALSCALE:GREGORIAN
METHOD:PUBLISH
X-ORIGINAL-URL:https://fasdunited.org
X-WR-CALDESC:Events for FASD United
REFRESH-INTERVAL;VALUE=DURATION:PT1H
X-Robots-Tag:noindex
X-PUBLISHED-TTL:PT1H
BEGIN:VTIMEZONE
TZID:America/New_York
BEGIN:DAYLIGHT
TZOFFSETFROM:-0500
TZOFFSETTO:-0400
TZNAME:EDT
DTSTART:20250309T070000
END:DAYLIGHT
BEGIN:STANDARD
TZOFFSETFROM:-0400
TZOFFSETTO:-0500
TZNAME:EST
DTSTART:20251102T060000
END:STANDARD
BEGIN:DAYLIGHT
TZOFFSETFROM:-0500
TZOFFSETTO:-0400
TZNAME:EDT
DTSTART:20260308T070000
END:DAYLIGHT
BEGIN:STANDARD
TZOFFSETFROM:-0400
TZOFFSETTO:-0500
TZNAME:EST
DTSTART:20261101T060000
END:STANDARD
BEGIN:DAYLIGHT
TZOFFSETFROM:-0500
TZOFFSETTO:-0400
TZNAME:EDT
DTSTART:20270314T070000
END:DAYLIGHT
BEGIN:STANDARD
TZOFFSETFROM:-0400
TZOFFSETTO:-0500
TZNAME:EST
DTSTART:20271107T060000
END:STANDARD
END:VTIMEZONE
BEGIN:VEVENT
DTSTART;TZID=America/New_York:20260121T130000
DTEND;TZID=America/New_York:20260121T150000
DTSTAMP:20260423T224140
CREATED:20260115T184954Z
LAST-MODIFIED:20260115T184954Z
UID:10002021-1769000400-1769007600@fasdunited.org
SUMMARY:ALC of FASD Changemakers: Behind the Mask - Unravelling Grief in People with FASD: It’s Complicated
DESCRIPTION:This presentation explores the lifelong and often unrecognized grief experienced by individuals with FASD\, beginning in childhood and continuing into adulthood. Drawing on the lived experience and professional expertise of the ALC of FASD Changemakers\, it examines how ongoing\, unacknowledged losses and “don’t ask\, don’t tell\, never talk about it” patterns of denial impact mental health and quality of life. The presentation highlights complicated grief as a critical yet overlooked issue in FASD practice and emphasizes the importance of recognizing and supporting grief to improve services and outcomes across the lifespan. \nLearning Objectives: \n\nIdentify common forms of lifelong grief experienced by individuals with FASD.\nRecognize denial patterns that prevent acknowledgment of FASD-related grief.\nApply grief-informed approaches to support individuals with FASD in professional practice.\n\nPresenters:  CJ Lutke\, Vancouver\, BC and Maggie May\, Ireland \n 
URL:https://fasdunited.org/event/alc-of-fasd-changemakers-behind-the-mask-unravelling-grief-in-people-with-fasd-its-complicated/
LOCATION:Virtual
CATEGORIES:Open to the Public,Training
ATTACH;FMTTYPE=image/png:https://fasdunited.org/wp-content/uploads/2026/01/2026-01-20-Changemakers-Behind-the-Mask-photo.png
ORGANIZER;CN="The Florida Training Center Institute":MAILTO:training@thefloridacenter.org
END:VEVENT
END:VCALENDAR