BEGIN:VCALENDAR
VERSION:2.0
PRODID:-//FASD United - ECPv6.15.20//NONSGML v1.0//EN
CALSCALE:GREGORIAN
METHOD:PUBLISH
X-ORIGINAL-URL:https://fasdunited.org
X-WR-CALDESC:Events for FASD United
REFRESH-INTERVAL;VALUE=DURATION:PT1H
X-Robots-Tag:noindex
X-PUBLISHED-TTL:PT1H
BEGIN:VTIMEZONE
TZID:America/New_York
BEGIN:DAYLIGHT
TZOFFSETFROM:-0500
TZOFFSETTO:-0400
TZNAME:EDT
DTSTART:20250309T070000
END:DAYLIGHT
BEGIN:STANDARD
TZOFFSETFROM:-0400
TZOFFSETTO:-0500
TZNAME:EST
DTSTART:20251102T060000
END:STANDARD
BEGIN:DAYLIGHT
TZOFFSETFROM:-0500
TZOFFSETTO:-0400
TZNAME:EDT
DTSTART:20260308T070000
END:DAYLIGHT
BEGIN:STANDARD
TZOFFSETFROM:-0400
TZOFFSETTO:-0500
TZNAME:EST
DTSTART:20261101T060000
END:STANDARD
BEGIN:DAYLIGHT
TZOFFSETFROM:-0500
TZOFFSETTO:-0400
TZNAME:EDT
DTSTART:20270314T070000
END:DAYLIGHT
BEGIN:STANDARD
TZOFFSETFROM:-0400
TZOFFSETTO:-0500
TZNAME:EST
DTSTART:20271107T060000
END:STANDARD
END:VTIMEZONE
BEGIN:VEVENT
DTSTART;TZID=America/New_York:20260127T190000
DTEND;TZID=America/New_York:20260127T200000
DTSTAMP:20260423T220748
CREATED:20251206T000205Z
LAST-MODIFIED:20251206T000205Z
UID:10001988-1769540400-1769544000@fasdunited.org
SUMMARY:Formed Families Forward FASD Winter Webinar Series
DESCRIPTION:Formed Families Forward is offering 4 webinars focused on Fetal Alcohol Spectrum Disorders (FASD). \n\nTuesday\, January 6\, 2026\, 7-8pm: FASD 101: Understanding Symptoms and Providing Support with Dr.  Stacia Stribling and Dr. Kelly Henderson (Formed Families Forward)\nTuesday\, January 13\, 2026\, 7-8pm: Diagnosing FASD with Dr. Ali Sturgill (University of Virginia Children’s Hospital)\nTuesday\, January 20\, 2026\, 7-8pm: The Role of Occupational Therapy (OT) in Supporting Those with FASD with Dr. Misty Pruner and Dr. Tracy Jirikowic (University of Washington\, Seattle)\nTuesday\, January 27\, 2026\, 7-8pm: FASD Virginia: Exploring a New Resource for Families with Dr. Stacia Stribling and Dr. Kelly Henderson (Formed Families Forward)\n\nBy registering\, you will receive separate reminder emails with Zoom log-in information for each of the four webinars. Attend those that you are able; you will also receive links to the recordings of all four webinars.
URL:https://fasdunited.org/event/formed-families-forward-fasd-winter-webinar-series/2026-01-27/
LOCATION:Virtual
CATEGORIES:Affiliate Events
ATTACH;FMTTYPE=image/png:https://fasdunited.org/wp-content/uploads/2025/12/FASD-Webinar-Series-Flyer-6-1.png
ORGANIZER;CN="Formed Families Forward":MAILTO:INFO@FORMEDFAMILIESFORWARD.ORG
END:VEVENT
END:VCALENDAR