BEGIN:VCALENDAR
VERSION:2.0
PRODID:-//FASD United - ECPv6.15.20//NONSGML v1.0//EN
CALSCALE:GREGORIAN
METHOD:PUBLISH
X-ORIGINAL-URL:https://fasdunited.org
X-WR-CALDESC:Events for FASD United
REFRESH-INTERVAL;VALUE=DURATION:PT1H
X-Robots-Tag:noindex
X-PUBLISHED-TTL:PT1H
BEGIN:VTIMEZONE
TZID:America/New_York
BEGIN:DAYLIGHT
TZOFFSETFROM:-0500
TZOFFSETTO:-0400
TZNAME:EDT
DTSTART:20240310T070000
END:DAYLIGHT
BEGIN:STANDARD
TZOFFSETFROM:-0400
TZOFFSETTO:-0500
TZNAME:EST
DTSTART:20241103T060000
END:STANDARD
BEGIN:DAYLIGHT
TZOFFSETFROM:-0500
TZOFFSETTO:-0400
TZNAME:EDT
DTSTART:20250309T070000
END:DAYLIGHT
BEGIN:STANDARD
TZOFFSETFROM:-0400
TZOFFSETTO:-0500
TZNAME:EST
DTSTART:20251102T060000
END:STANDARD
BEGIN:DAYLIGHT
TZOFFSETFROM:-0500
TZOFFSETTO:-0400
TZNAME:EDT
DTSTART:20260308T070000
END:DAYLIGHT
BEGIN:STANDARD
TZOFFSETFROM:-0400
TZOFFSETTO:-0500
TZNAME:EST
DTSTART:20261101T060000
END:STANDARD
END:VTIMEZONE
BEGIN:VEVENT
DTSTART;TZID=America/New_York:20250915T080000
DTEND;TZID=America/New_York:20250917T170000
DTSTAMP:20260424T104639
CREATED:20250623T220422Z
LAST-MODIFIED:20250623T220602Z
UID:10001667-1757923200-1758128400@fasdunited.org
SUMMARY:FASD Impact Week 2025
DESCRIPTION:Join advocates\, clinicians\, researchers\, and professionals from around the country for three days of advocacy\, action\, collaboration\, and community from September 15 to 17\, 2025\, in Washington\, DC. Impact Week is your opportunity to use your voice to give FASD a seat at the table. Through workshops\, advocacy\, and symposiums\, we will empower the community to envision a brighter future for people with FASD and gather at Capitol Hill to educate our legislators on this “not rare” disability. 2025 What to Expect – Impact Week \nImpact Week is FREE for all attendees.
URL:https://fasdunited.org/event/fasd-impact-week-2025/
LOCATION:Royal Sonesta Washington\, Dupont Circle\, 2121 P St NW\,\, Washington\, DC\, 20037\, United States
CATEGORIES:Affiliates,FASD United,FASD United Event,Open to the Public
ORGANIZER;CN="FASD United":MAILTO:affiliate@fasdunited.org
END:VEVENT
END:VCALENDAR