BEGIN:VCALENDAR
VERSION:2.0
PRODID:-//FASD United - ECPv6.15.20//NONSGML v1.0//EN
CALSCALE:GREGORIAN
METHOD:PUBLISH
X-ORIGINAL-URL:https://fasdunited.org
X-WR-CALDESC:Events for FASD United
REFRESH-INTERVAL;VALUE=DURATION:PT1H
X-Robots-Tag:noindex
X-PUBLISHED-TTL:PT1H
BEGIN:VTIMEZONE
TZID:America/Los_Angeles
BEGIN:DAYLIGHT
TZOFFSETFROM:-0800
TZOFFSETTO:-0700
TZNAME:PDT
DTSTART:20240310T100000
END:DAYLIGHT
BEGIN:STANDARD
TZOFFSETFROM:-0700
TZOFFSETTO:-0800
TZNAME:PST
DTSTART:20241103T090000
END:STANDARD
BEGIN:DAYLIGHT
TZOFFSETFROM:-0800
TZOFFSETTO:-0700
TZNAME:PDT
DTSTART:20250309T100000
END:DAYLIGHT
BEGIN:STANDARD
TZOFFSETFROM:-0700
TZOFFSETTO:-0800
TZNAME:PST
DTSTART:20251102T090000
END:STANDARD
BEGIN:DAYLIGHT
TZOFFSETFROM:-0800
TZOFFSETTO:-0700
TZNAME:PDT
DTSTART:20260308T100000
END:DAYLIGHT
BEGIN:STANDARD
TZOFFSETFROM:-0700
TZOFFSETTO:-0800
TZNAME:PST
DTSTART:20261101T090000
END:STANDARD
END:VTIMEZONE
BEGIN:VTIMEZONE
TZID:America/New_York
BEGIN:DAYLIGHT
TZOFFSETFROM:-0500
TZOFFSETTO:-0400
TZNAME:EDT
DTSTART:20240310T070000
END:DAYLIGHT
BEGIN:STANDARD
TZOFFSETFROM:-0400
TZOFFSETTO:-0500
TZNAME:EST
DTSTART:20241103T060000
END:STANDARD
BEGIN:DAYLIGHT
TZOFFSETFROM:-0500
TZOFFSETTO:-0400
TZNAME:EDT
DTSTART:20250309T070000
END:DAYLIGHT
BEGIN:STANDARD
TZOFFSETFROM:-0400
TZOFFSETTO:-0500
TZNAME:EST
DTSTART:20251102T060000
END:STANDARD
BEGIN:DAYLIGHT
TZOFFSETFROM:-0500
TZOFFSETTO:-0400
TZNAME:EDT
DTSTART:20260308T070000
END:DAYLIGHT
BEGIN:STANDARD
TZOFFSETFROM:-0400
TZOFFSETTO:-0500
TZNAME:EST
DTSTART:20261101T060000
END:STANDARD
END:VTIMEZONE
BEGIN:VEVENT
DTSTART;TZID=America/Los_Angeles:20250814T100000
DTEND;TZID=America/Los_Angeles:20250814T130000
DTSTAMP:20260424T083943
CREATED:20250710T161442Z
LAST-MODIFIED:20250710T161442Z
UID:10001671-1755165600-1755176400@fasdunited.org
SUMMARY:FASCETS Center for Neurodiversity TRAINING: Brain-Based Conditions Including FASD
DESCRIPTION:The FASCETS brain-based approach explores the concept that we each have strengths and challenges based on how our brain works. These can be directly informed by our genetic make-up or by pre or postnatal events. In our upcoming trainings\, we discuss the FASCETS brain-based or neurobehavioral approach which links brain function with behaviors\, leading to supports that work and make a difference for all brain-based differences such as FASD\, ADHD\, Autism\, Dementia\, TBI and more! \nJoin us for our Live webinar to learn more about the FASCETS brain-based approach and discover tools to implement it in all settings in order to create person-specific supports regardless of the source of the brain-based difference: FASD\, ASD\, ADHD\, autism\, dementia\, acquired brain injuries…) It is effective for all people across their entire lifespan. \nIf you are someone who lives with\, works with or knows someone with a confirmed or suspected brain-based difference\, this workshop is for you! \nTo learn more about these and all of our other upcoming trainings and to register\, visit: https://www.fascets.org/book-online
URL:https://fasdunited.org/event/fascets-center-for-neurodiversity-training-brain-based-conditions-including-fasd/
CATEGORIES:Education and Schools,Training
ATTACH;FMTTYPE=image/png:https://fasdunited.org/wp-content/uploads/2025/07/Blue-And-Yellow-Minimalist-FOMO-Fear-Of-Missing-Out-Instagram-Post.png
ORGANIZER;CN="FASCETS":MAILTO:schart@fascets.org
END:VEVENT
BEGIN:VEVENT
DTSTART;TZID=America/New_York:20250828T120000
DTEND;TZID=America/New_York:20250828T133000
DTSTAMP:20260424T083943
CREATED:20250808T143651Z
LAST-MODIFIED:20250808T143651Z
UID:10001690-1756382400-1756387800@fasdunited.org
SUMMARY:Tackling Technology: Navigating Safety for Neurodiverse Kids in the Digital World
DESCRIPTION:Learn strategies to help neurodiverse and trauma-affected children navigate online safety and digital challenges.\nWho else misses the days before parenting came with digital dilemmas?  Technology safety is a concern for all families\, but even more so for those raising children with trauma histories or neurodiverse needs.  These children may be more vulnerable to the risks of the online world\, including overstimulation\, unsafe interactions\, and difficulty with boundaries.  In this session\, we’ll explore why digital spaces can be especially tricky for these kids and provide caregivers with practical\, effective strategies to support online safety\, healthy tech habits\, and open communication.  Learning Objectives: Gain insight into why children with trauma histories or neurodiversity often face greater difficulties with technology.  Learn effective strategies to enhance online safety for children. Develop techniques for having meaningful and constructive conversations with children about technology use.  Presenter:  Barb Clark is the Director of Training at Families Rising and head coach of the International FASD Caregiver Kickstart program.  She is the parent of five young children\, including one diagnosed with FASD.  In April 2025\, Barb herself was also diagnosed with FASD\, bringing personal insight and authenticity to her work.  Barb specializes in training and coaching on Fetal Alcohol Spectrum Disorders (FASD)\, with a focus on challenging behaviours such as raging\, lying\, and stealing.  Her presentations blend practical strategies with humor\, honesty\, and lived experience.  A graduate of the University of Minnesota in Youth Development\, Barb is passionate about changing systems and shifting mindsets.  Her first book\, Raising Kinds and Teens with FASD: Advice and Strategies to Help Your Family Thrive\, will be published on October 21\, 2025.
URL:https://fasdunited.org/event/tackling-technology-navigating-safety-for-neurodiverse-kids-in-the-digital-world/
LOCATION:Via Zoom
CATEGORIES:Open to the Public,Training
ATTACH;FMTTYPE=image/png:https://fasdunited.org/wp-content/uploads/2025/08/2-2025-08-28-Tackling-Technology-1-1.png
END:VEVENT
END:VCALENDAR