BEGIN:VCALENDAR
VERSION:2.0
PRODID:-//FASD United - ECPv6.15.20//NONSGML v1.0//EN
CALSCALE:GREGORIAN
METHOD:PUBLISH
X-ORIGINAL-URL:https://fasdunited.org
X-WR-CALDESC:Events for FASD United
REFRESH-INTERVAL;VALUE=DURATION:PT1H
X-Robots-Tag:noindex
X-PUBLISHED-TTL:PT1H
BEGIN:VTIMEZONE
TZID:America/New_York
BEGIN:DAYLIGHT
TZOFFSETFROM:-0500
TZOFFSETTO:-0400
TZNAME:EDT
DTSTART:20240310T070000
END:DAYLIGHT
BEGIN:STANDARD
TZOFFSETFROM:-0400
TZOFFSETTO:-0500
TZNAME:EST
DTSTART:20241103T060000
END:STANDARD
BEGIN:DAYLIGHT
TZOFFSETFROM:-0500
TZOFFSETTO:-0400
TZNAME:EDT
DTSTART:20250309T070000
END:DAYLIGHT
BEGIN:STANDARD
TZOFFSETFROM:-0400
TZOFFSETTO:-0500
TZNAME:EST
DTSTART:20251102T060000
END:STANDARD
BEGIN:DAYLIGHT
TZOFFSETFROM:-0500
TZOFFSETTO:-0400
TZNAME:EDT
DTSTART:20260308T070000
END:DAYLIGHT
BEGIN:STANDARD
TZOFFSETFROM:-0400
TZOFFSETTO:-0500
TZNAME:EST
DTSTART:20261101T060000
END:STANDARD
END:VTIMEZONE
BEGIN:VEVENT
DTSTART;TZID=America/New_York:20251208T100000
DTEND;TZID=America/New_York:20251208T120000
DTSTAMP:20260424T000922
CREATED:20250930T161021Z
LAST-MODIFIED:20250930T161021Z
UID:10001732-1765188000-1765195200@fasdunited.org
SUMMARY:Fetal Alcohol Spectrum Disorders (FASD): What Is It and What Do We Do About It?
DESCRIPTION:From Florida to the world — The Florida Center Training Institute brings FASD support everywhere.\nEmpowering caregivers and professionals globally with tools that make a difference.\nNo matter where you are\, you belong here. \nOf all substances of abuse\, alcohol causes the most serious long-term effects in a fetus\, resulting in permanent brain damage. Many children with FASDs often go undiagnosed and suffer lifelong social challenges\, serious mental health problems\, and involvement with the juvenile justice system. Proper identification and intervention can help prevent many of these challenges.This webinar will help attendees identify red flags and signs that may indicate a child has brain-based behaviors as a result of prenatal alcohol exposure. Additionally\, it will also help shift one’s perspective\, viewing social/emotional problems\, difficult behaviors\, and learning challenges of these individuals as a symptom of brain dysfunction and not willful defiance and opposition. \nLearning Objectives include: \n\nLearn what FASD is and how it is often misdiagnosed.\nLearn how FASD impacts brain development and behaviors.\nLearn to identify FASD red-flags.\nGain a shift in perspective about those with social/emotional problems\, difficult behaviors\, or learning challenges.\n\nPresenters are: \nTamra Cajo\, LCSW\, Statewide Director of FASD Services \nTamra Cajo\, LCSW\, is a bilingual licensed clinical social worker with nearly 20 years of experience in early childhood development and prevention. Tamra is actively involved in national efforts to support individuals and families affected by Fetal Alcohol Spectrum Disorders (FASD). \nShe serves on the Executive Council of FASD United and the Board of FASCETS. She is a certified facilitator in the FASCETS Neurobehavioral Model\, a TBRI Practitioner\, and previously served as the Midwest lead trainer for ACT Raising Safe Kids. Her training also includes Circle of Security Parenting\, Families Moving Forward\, Helping the Non-Compliant Child\, Chicago Parent Program\, and Youth Mental Health First Aid. \n  \nCrystal Dethlefs\, FASD Parent Advocate at The Florida Center \nCrystal Dethlefs is the proud biological & adoptive mother of seven\, including four siblings who joined the family as infants\, after prenatal alcohol exposure. She is passionate about providing caregivers and professionals with the knowledge and tolls necessary to support individuals with Fetal Alcohol Spectrum Disorders\, recognizing that informed care will bring about positive outcomes for those with FASD. Crystal is a Parent Advocate with The Florida Center for Early Childhood FASD Clinic. \nThe Florida Center for Early Childhood operates the only FASD Diagnostic Clinics in the State of Florida in Sarasota\, Orlando\, and the panhandle.  
URL:https://fasdunited.org/event/fetal-alcohol-spectrum-disorders-fasd-what-is-it-and-what-do-we-do-about-it/
LOCATION:Virtual
CATEGORIES:Open to the Public,Training
ATTACH;FMTTYPE=image/png:https://fasdunited.org/wp-content/uploads/2025/09/Intro-to-FASD-for-constant-contact.png
END:VEVENT
END:VCALENDAR