BEGIN:VCALENDAR
VERSION:2.0
PRODID:-//FASD United - ECPv6.15.20//NONSGML v1.0//EN
CALSCALE:GREGORIAN
METHOD:PUBLISH
X-ORIGINAL-URL:https://fasdunited.org
X-WR-CALDESC:Events for FASD United
REFRESH-INTERVAL;VALUE=DURATION:PT1H
X-Robots-Tag:noindex
X-PUBLISHED-TTL:PT1H
BEGIN:VTIMEZONE
TZID:America/Dawson_Creek
BEGIN:STANDARD
TZOFFSETFROM:-0700
TZOFFSETTO:-0700
TZNAME:MST
DTSTART:20250101T000000
END:STANDARD
END:VTIMEZONE
BEGIN:VEVENT
DTSTART;TZID=America/Dawson_Creek:20260509T120000
DTEND;TZID=America/Dawson_Creek:20260509T170000
DTSTAMP:20260425T124426
CREATED:20240305T012851Z
LAST-MODIFIED:20240305T012851Z
UID:10000493-1778328000-1778346000@fasdunited.org
SUMMARY:FASD : Never Alone
DESCRIPTION:This support group is for adults with FASD (18 & up). There will be  engaging discussions\, education\, relationships\, therapeutic\, resources sharing\, networking\, and advocacy. \n  \nTwice Monthly: Saturdays\, 12 p.m. PST
URL:https://fasdunited.org/event/fasd-never-alone/2026-05-09/
LOCATION:Virtual
ATTACH;FMTTYPE=image/jpeg:https://fasdunited.org/wp-content/uploads/2024/03/420087865_366578009312552_28881515468489256_n.jpg
END:VEVENT
BEGIN:VEVENT
DTSTART;TZID=America/Dawson_Creek:20260711T120000
DTEND;TZID=America/Dawson_Creek:20260711T170000
DTSTAMP:20260425T124426
CREATED:20240305T012851Z
LAST-MODIFIED:20240305T012851Z
UID:10000494-1783771200-1783789200@fasdunited.org
SUMMARY:FASD : Never Alone
DESCRIPTION:This support group is for adults with FASD (18 & up). There will be  engaging discussions\, education\, relationships\, therapeutic\, resources sharing\, networking\, and advocacy. \n  \nTwice Monthly: Saturdays\, 12 p.m. PST
URL:https://fasdunited.org/event/fasd-never-alone/2026-07-11/
LOCATION:Virtual
ATTACH;FMTTYPE=image/jpeg:https://fasdunited.org/wp-content/uploads/2024/03/420087865_366578009312552_28881515468489256_n.jpg
END:VEVENT
BEGIN:VEVENT
DTSTART;TZID=America/Dawson_Creek:20260912T120000
DTEND;TZID=America/Dawson_Creek:20260912T170000
DTSTAMP:20260425T124426
CREATED:20240305T012851Z
LAST-MODIFIED:20240305T012851Z
UID:10000495-1789214400-1789232400@fasdunited.org
SUMMARY:FASD : Never Alone
DESCRIPTION:This support group is for adults with FASD (18 & up). There will be  engaging discussions\, education\, relationships\, therapeutic\, resources sharing\, networking\, and advocacy. \n  \nTwice Monthly: Saturdays\, 12 p.m. PST
URL:https://fasdunited.org/event/fasd-never-alone/2026-09-12/
LOCATION:Virtual
ATTACH;FMTTYPE=image/jpeg:https://fasdunited.org/wp-content/uploads/2024/03/420087865_366578009312552_28881515468489256_n.jpg
END:VEVENT
BEGIN:VEVENT
DTSTART;TZID=America/Dawson_Creek:20261114T120000
DTEND;TZID=America/Dawson_Creek:20261114T170000
DTSTAMP:20260425T124426
CREATED:20240305T012851Z
LAST-MODIFIED:20240305T012851Z
UID:10000496-1794657600-1794675600@fasdunited.org
SUMMARY:FASD : Never Alone
DESCRIPTION:This support group is for adults with FASD (18 & up). There will be  engaging discussions\, education\, relationships\, therapeutic\, resources sharing\, networking\, and advocacy. \n  \nTwice Monthly: Saturdays\, 12 p.m. PST
URL:https://fasdunited.org/event/fasd-never-alone/2026-11-14/
LOCATION:Virtual
ATTACH;FMTTYPE=image/jpeg:https://fasdunited.org/wp-content/uploads/2024/03/420087865_366578009312552_28881515468489256_n.jpg
END:VEVENT
BEGIN:VEVENT
DTSTART;TZID=America/Dawson_Creek:20270109T120000
DTEND;TZID=America/Dawson_Creek:20270109T170000
DTSTAMP:20260425T124426
CREATED:20240305T012851Z
LAST-MODIFIED:20240305T012851Z
UID:10000497-1799496000-1799514000@fasdunited.org
SUMMARY:FASD : Never Alone
DESCRIPTION:This support group is for adults with FASD (18 & up). There will be  engaging discussions\, education\, relationships\, therapeutic\, resources sharing\, networking\, and advocacy. \n  \nTwice Monthly: Saturdays\, 12 p.m. PST
URL:https://fasdunited.org/event/fasd-never-alone/2027-01-09/
LOCATION:Virtual
ATTACH;FMTTYPE=image/jpeg:https://fasdunited.org/wp-content/uploads/2024/03/420087865_366578009312552_28881515468489256_n.jpg
END:VEVENT
BEGIN:VEVENT
DTSTART;TZID=America/Dawson_Creek:20270313T120000
DTEND;TZID=America/Dawson_Creek:20270313T170000
DTSTAMP:20260425T124426
CREATED:20240305T012851Z
LAST-MODIFIED:20240305T012851Z
UID:10000498-1804939200-1804957200@fasdunited.org
SUMMARY:FASD : Never Alone
DESCRIPTION:This support group is for adults with FASD (18 & up). There will be  engaging discussions\, education\, relationships\, therapeutic\, resources sharing\, networking\, and advocacy. \n  \nTwice Monthly: Saturdays\, 12 p.m. PST
URL:https://fasdunited.org/event/fasd-never-alone/2027-03-13/
LOCATION:Virtual
ATTACH;FMTTYPE=image/jpeg:https://fasdunited.org/wp-content/uploads/2024/03/420087865_366578009312552_28881515468489256_n.jpg
END:VEVENT
BEGIN:VEVENT
DTSTART;TZID=America/Dawson_Creek:20270508T120000
DTEND;TZID=America/Dawson_Creek:20270508T170000
DTSTAMP:20260425T124426
CREATED:20240305T012851Z
LAST-MODIFIED:20240305T012851Z
UID:10000499-1809777600-1809795600@fasdunited.org
SUMMARY:FASD : Never Alone
DESCRIPTION:This support group is for adults with FASD (18 & up). There will be  engaging discussions\, education\, relationships\, therapeutic\, resources sharing\, networking\, and advocacy. \n  \nTwice Monthly: Saturdays\, 12 p.m. PST
URL:https://fasdunited.org/event/fasd-never-alone/2027-05-08/
LOCATION:Virtual
ATTACH;FMTTYPE=image/jpeg:https://fasdunited.org/wp-content/uploads/2024/03/420087865_366578009312552_28881515468489256_n.jpg
END:VEVENT
BEGIN:VEVENT
DTSTART;TZID=America/Dawson_Creek:20270710T120000
DTEND;TZID=America/Dawson_Creek:20270710T170000
DTSTAMP:20260425T124426
CREATED:20240305T012851Z
LAST-MODIFIED:20240305T012851Z
UID:10000500-1815220800-1815238800@fasdunited.org
SUMMARY:FASD : Never Alone
DESCRIPTION:This support group is for adults with FASD (18 & up). There will be  engaging discussions\, education\, relationships\, therapeutic\, resources sharing\, networking\, and advocacy. \n  \nTwice Monthly: Saturdays\, 12 p.m. PST
URL:https://fasdunited.org/event/fasd-never-alone/2027-07-10/
LOCATION:Virtual
ATTACH;FMTTYPE=image/jpeg:https://fasdunited.org/wp-content/uploads/2024/03/420087865_366578009312552_28881515468489256_n.jpg
END:VEVENT
BEGIN:VEVENT
DTSTART;TZID=America/Dawson_Creek:20270911T120000
DTEND;TZID=America/Dawson_Creek:20270911T170000
DTSTAMP:20260425T124426
CREATED:20240305T012851Z
LAST-MODIFIED:20240305T012851Z
UID:10000501-1820664000-1820682000@fasdunited.org
SUMMARY:FASD : Never Alone
DESCRIPTION:This support group is for adults with FASD (18 & up). There will be  engaging discussions\, education\, relationships\, therapeutic\, resources sharing\, networking\, and advocacy. \n  \nTwice Monthly: Saturdays\, 12 p.m. PST
URL:https://fasdunited.org/event/fasd-never-alone/2027-09-11/
LOCATION:Virtual
ATTACH;FMTTYPE=image/jpeg:https://fasdunited.org/wp-content/uploads/2024/03/420087865_366578009312552_28881515468489256_n.jpg
END:VEVENT
BEGIN:VEVENT
DTSTART;TZID=America/Dawson_Creek:20271113T120000
DTEND;TZID=America/Dawson_Creek:20271113T170000
DTSTAMP:20260425T124426
CREATED:20240305T012851Z
LAST-MODIFIED:20240305T012851Z
UID:10000502-1826107200-1826125200@fasdunited.org
SUMMARY:FASD : Never Alone
DESCRIPTION:This support group is for adults with FASD (18 & up). There will be  engaging discussions\, education\, relationships\, therapeutic\, resources sharing\, networking\, and advocacy. \n  \nTwice Monthly: Saturdays\, 12 p.m. PST
URL:https://fasdunited.org/event/fasd-never-alone/2027-11-13/
LOCATION:Virtual
ATTACH;FMTTYPE=image/jpeg:https://fasdunited.org/wp-content/uploads/2024/03/420087865_366578009312552_28881515468489256_n.jpg
END:VEVENT
BEGIN:VEVENT
DTSTART;TZID=America/Dawson_Creek:20280108T120000
DTEND;TZID=America/Dawson_Creek:20280108T170000
DTSTAMP:20260425T124426
CREATED:20240305T012851Z
LAST-MODIFIED:20240305T012851Z
UID:10000503-1830945600-1830963600@fasdunited.org
SUMMARY:FASD : Never Alone
DESCRIPTION:This support group is for adults with FASD (18 & up). There will be  engaging discussions\, education\, relationships\, therapeutic\, resources sharing\, networking\, and advocacy. \n  \nTwice Monthly: Saturdays\, 12 p.m. PST
URL:https://fasdunited.org/event/fasd-never-alone/2028-01-08/
LOCATION:Virtual
ATTACH;FMTTYPE=image/jpeg:https://fasdunited.org/wp-content/uploads/2024/03/420087865_366578009312552_28881515468489256_n.jpg
END:VEVENT
BEGIN:VEVENT
DTSTART;TZID=America/Dawson_Creek:20280311T120000
DTEND;TZID=America/Dawson_Creek:20280311T170000
DTSTAMP:20260425T124426
CREATED:20240305T012851Z
LAST-MODIFIED:20240305T012851Z
UID:10000504-1836388800-1836406800@fasdunited.org
SUMMARY:FASD : Never Alone
DESCRIPTION:This support group is for adults with FASD (18 & up). There will be  engaging discussions\, education\, relationships\, therapeutic\, resources sharing\, networking\, and advocacy. \n  \nTwice Monthly: Saturdays\, 12 p.m. PST
URL:https://fasdunited.org/event/fasd-never-alone/2028-03-11/
LOCATION:Virtual
ATTACH;FMTTYPE=image/jpeg:https://fasdunited.org/wp-content/uploads/2024/03/420087865_366578009312552_28881515468489256_n.jpg
END:VEVENT
BEGIN:VEVENT
DTSTART;TZID=America/Dawson_Creek:20280513T120000
DTEND;TZID=America/Dawson_Creek:20280513T170000
DTSTAMP:20260425T124426
CREATED:20240305T012851Z
LAST-MODIFIED:20240305T012851Z
UID:10000505-1841832000-1841850000@fasdunited.org
SUMMARY:FASD : Never Alone
DESCRIPTION:This support group is for adults with FASD (18 & up). There will be  engaging discussions\, education\, relationships\, therapeutic\, resources sharing\, networking\, and advocacy. \n  \nTwice Monthly: Saturdays\, 12 p.m. PST
URL:https://fasdunited.org/event/fasd-never-alone/2028-05-13/
LOCATION:Virtual
ATTACH;FMTTYPE=image/jpeg:https://fasdunited.org/wp-content/uploads/2024/03/420087865_366578009312552_28881515468489256_n.jpg
END:VEVENT
BEGIN:VEVENT
DTSTART;TZID=America/Dawson_Creek:20280708T120000
DTEND;TZID=America/Dawson_Creek:20280708T170000
DTSTAMP:20260425T124426
CREATED:20240305T012851Z
LAST-MODIFIED:20240305T012851Z
UID:10000506-1846670400-1846688400@fasdunited.org
SUMMARY:FASD : Never Alone
DESCRIPTION:This support group is for adults with FASD (18 & up). There will be  engaging discussions\, education\, relationships\, therapeutic\, resources sharing\, networking\, and advocacy. \n  \nTwice Monthly: Saturdays\, 12 p.m. PST
URL:https://fasdunited.org/event/fasd-never-alone/2028-07-08/
LOCATION:Virtual
ATTACH;FMTTYPE=image/jpeg:https://fasdunited.org/wp-content/uploads/2024/03/420087865_366578009312552_28881515468489256_n.jpg
END:VEVENT
BEGIN:VEVENT
DTSTART;TZID=America/Dawson_Creek:20280909T120000
DTEND;TZID=America/Dawson_Creek:20280909T170000
DTSTAMP:20260425T124426
CREATED:20240305T012851Z
LAST-MODIFIED:20240305T012851Z
UID:10000507-1852113600-1852131600@fasdunited.org
SUMMARY:FASD : Never Alone
DESCRIPTION:This support group is for adults with FASD (18 & up). There will be  engaging discussions\, education\, relationships\, therapeutic\, resources sharing\, networking\, and advocacy. \n  \nTwice Monthly: Saturdays\, 12 p.m. PST
URL:https://fasdunited.org/event/fasd-never-alone/2028-09-09/
LOCATION:Virtual
ATTACH;FMTTYPE=image/jpeg:https://fasdunited.org/wp-content/uploads/2024/03/420087865_366578009312552_28881515468489256_n.jpg
END:VEVENT
BEGIN:VEVENT
DTSTART;TZID=America/Dawson_Creek:20281111T120000
DTEND;TZID=America/Dawson_Creek:20281111T170000
DTSTAMP:20260425T124426
CREATED:20240305T012851Z
LAST-MODIFIED:20240305T012851Z
UID:10000508-1857556800-1857574800@fasdunited.org
SUMMARY:FASD : Never Alone
DESCRIPTION:This support group is for adults with FASD (18 & up). There will be  engaging discussions\, education\, relationships\, therapeutic\, resources sharing\, networking\, and advocacy. \n  \nTwice Monthly: Saturdays\, 12 p.m. PST
URL:https://fasdunited.org/event/fasd-never-alone/2028-11-11/
LOCATION:Virtual
ATTACH;FMTTYPE=image/jpeg:https://fasdunited.org/wp-content/uploads/2024/03/420087865_366578009312552_28881515468489256_n.jpg
END:VEVENT
BEGIN:VEVENT
DTSTART;TZID=America/Dawson_Creek:20290113T120000
DTEND;TZID=America/Dawson_Creek:20290113T170000
DTSTAMP:20260425T124426
CREATED:20240305T012851Z
LAST-MODIFIED:20240305T012851Z
UID:10000509-1863000000-1863018000@fasdunited.org
SUMMARY:FASD : Never Alone
DESCRIPTION:This support group is for adults with FASD (18 & up). There will be  engaging discussions\, education\, relationships\, therapeutic\, resources sharing\, networking\, and advocacy. \n  \nTwice Monthly: Saturdays\, 12 p.m. PST
URL:https://fasdunited.org/event/fasd-never-alone/2029-01-13/
LOCATION:Virtual
ATTACH;FMTTYPE=image/jpeg:https://fasdunited.org/wp-content/uploads/2024/03/420087865_366578009312552_28881515468489256_n.jpg
END:VEVENT
BEGIN:VEVENT
DTSTART;TZID=America/Dawson_Creek:20290310T120000
DTEND;TZID=America/Dawson_Creek:20290310T170000
DTSTAMP:20260425T124426
CREATED:20240305T012851Z
LAST-MODIFIED:20240305T012851Z
UID:10001622-1867838400-1867856400@fasdunited.org
SUMMARY:FASD : Never Alone
DESCRIPTION:This support group is for adults with FASD (18 & up). There will be  engaging discussions\, education\, relationships\, therapeutic\, resources sharing\, networking\, and advocacy. \n  \nTwice Monthly: Saturdays\, 12 p.m. PST
URL:https://fasdunited.org/event/fasd-never-alone/2029-03-10/
LOCATION:Virtual
ATTACH;FMTTYPE=image/jpeg:https://fasdunited.org/wp-content/uploads/2024/03/420087865_366578009312552_28881515468489256_n.jpg
END:VEVENT
BEGIN:VEVENT
DTSTART;TZID=America/Dawson_Creek:20290512T120000
DTEND;TZID=America/Dawson_Creek:20290512T170000
DTSTAMP:20260425T124426
CREATED:20240305T012851Z
LAST-MODIFIED:20240305T012851Z
UID:10001623-1873281600-1873299600@fasdunited.org
SUMMARY:FASD : Never Alone
DESCRIPTION:This support group is for adults with FASD (18 & up). There will be  engaging discussions\, education\, relationships\, therapeutic\, resources sharing\, networking\, and advocacy. \n  \nTwice Monthly: Saturdays\, 12 p.m. PST
URL:https://fasdunited.org/event/fasd-never-alone/2029-05-12/
LOCATION:Virtual
ATTACH;FMTTYPE=image/jpeg:https://fasdunited.org/wp-content/uploads/2024/03/420087865_366578009312552_28881515468489256_n.jpg
END:VEVENT
BEGIN:VEVENT
DTSTART;TZID=America/Dawson_Creek:20290714T120000
DTEND;TZID=America/Dawson_Creek:20290714T170000
DTSTAMP:20260425T124426
CREATED:20240305T012851Z
LAST-MODIFIED:20240305T012851Z
UID:10001624-1878724800-1878742800@fasdunited.org
SUMMARY:FASD : Never Alone
DESCRIPTION:This support group is for adults with FASD (18 & up). There will be  engaging discussions\, education\, relationships\, therapeutic\, resources sharing\, networking\, and advocacy. \n  \nTwice Monthly: Saturdays\, 12 p.m. PST
URL:https://fasdunited.org/event/fasd-never-alone/2029-07-14/
LOCATION:Virtual
ATTACH;FMTTYPE=image/jpeg:https://fasdunited.org/wp-content/uploads/2024/03/420087865_366578009312552_28881515468489256_n.jpg
END:VEVENT
BEGIN:VEVENT
DTSTART;TZID=America/Dawson_Creek:20290908T120000
DTEND;TZID=America/Dawson_Creek:20290908T170000
DTSTAMP:20260425T124426
CREATED:20240305T012851Z
LAST-MODIFIED:20240305T012851Z
UID:10001625-1883563200-1883581200@fasdunited.org
SUMMARY:FASD : Never Alone
DESCRIPTION:This support group is for adults with FASD (18 & up). There will be  engaging discussions\, education\, relationships\, therapeutic\, resources sharing\, networking\, and advocacy. \n  \nTwice Monthly: Saturdays\, 12 p.m. PST
URL:https://fasdunited.org/event/fasd-never-alone/2029-09-08/
LOCATION:Virtual
ATTACH;FMTTYPE=image/jpeg:https://fasdunited.org/wp-content/uploads/2024/03/420087865_366578009312552_28881515468489256_n.jpg
END:VEVENT
BEGIN:VEVENT
DTSTART;TZID=America/Dawson_Creek:20291110T120000
DTEND;TZID=America/Dawson_Creek:20291110T170000
DTSTAMP:20260425T124426
CREATED:20240305T012851Z
LAST-MODIFIED:20240305T012851Z
UID:10001626-1889006400-1889024400@fasdunited.org
SUMMARY:FASD : Never Alone
DESCRIPTION:This support group is for adults with FASD (18 & up). There will be  engaging discussions\, education\, relationships\, therapeutic\, resources sharing\, networking\, and advocacy. \n  \nTwice Monthly: Saturdays\, 12 p.m. PST
URL:https://fasdunited.org/event/fasd-never-alone/2029-11-10/
LOCATION:Virtual
ATTACH;FMTTYPE=image/jpeg:https://fasdunited.org/wp-content/uploads/2024/03/420087865_366578009312552_28881515468489256_n.jpg
END:VEVENT
BEGIN:VEVENT
DTSTART;TZID=America/Dawson_Creek:20300112T120000
DTEND;TZID=America/Dawson_Creek:20300112T170000
DTSTAMP:20260425T124426
CREATED:20240305T012851Z
LAST-MODIFIED:20240305T012851Z
UID:10001627-1894449600-1894467600@fasdunited.org
SUMMARY:FASD : Never Alone
DESCRIPTION:This support group is for adults with FASD (18 & up). There will be  engaging discussions\, education\, relationships\, therapeutic\, resources sharing\, networking\, and advocacy. \n  \nTwice Monthly: Saturdays\, 12 p.m. PST
URL:https://fasdunited.org/event/fasd-never-alone/2030-01-12/
LOCATION:Virtual
ATTACH;FMTTYPE=image/jpeg:https://fasdunited.org/wp-content/uploads/2024/03/420087865_366578009312552_28881515468489256_n.jpg
END:VEVENT
BEGIN:VEVENT
DTSTART;TZID=America/Dawson_Creek:20300309T120000
DTEND;TZID=America/Dawson_Creek:20300309T170000
DTSTAMP:20260425T124426
CREATED:20240305T012851Z
LAST-MODIFIED:20240305T012851Z
UID:10001628-1899288000-1899306000@fasdunited.org
SUMMARY:FASD : Never Alone
DESCRIPTION:This support group is for adults with FASD (18 & up). There will be  engaging discussions\, education\, relationships\, therapeutic\, resources sharing\, networking\, and advocacy. \n  \nTwice Monthly: Saturdays\, 12 p.m. PST
URL:https://fasdunited.org/event/fasd-never-alone/2030-03-09/
LOCATION:Virtual
ATTACH;FMTTYPE=image/jpeg:https://fasdunited.org/wp-content/uploads/2024/03/420087865_366578009312552_28881515468489256_n.jpg
END:VEVENT
BEGIN:VEVENT
DTSTART;TZID=America/Dawson_Creek:20300511T120000
DTEND;TZID=America/Dawson_Creek:20300511T170000
DTSTAMP:20260425T124426
CREATED:20240305T012851Z
LAST-MODIFIED:20240305T012851Z
UID:10001655-1904731200-1904749200@fasdunited.org
SUMMARY:FASD : Never Alone
DESCRIPTION:This support group is for adults with FASD (18 & up). There will be  engaging discussions\, education\, relationships\, therapeutic\, resources sharing\, networking\, and advocacy. \n  \nTwice Monthly: Saturdays\, 12 p.m. PST
URL:https://fasdunited.org/event/fasd-never-alone/2030-05-11/
LOCATION:Virtual
ATTACH;FMTTYPE=image/jpeg:https://fasdunited.org/wp-content/uploads/2024/03/420087865_366578009312552_28881515468489256_n.jpg
END:VEVENT
BEGIN:VEVENT
DTSTART;TZID=America/Dawson_Creek:20300713T120000
DTEND;TZID=America/Dawson_Creek:20300713T170000
DTSTAMP:20260425T124426
CREATED:20240305T012851Z
LAST-MODIFIED:20240305T012851Z
UID:10001678-1910174400-1910192400@fasdunited.org
SUMMARY:FASD : Never Alone
DESCRIPTION:This support group is for adults with FASD (18 & up). There will be  engaging discussions\, education\, relationships\, therapeutic\, resources sharing\, networking\, and advocacy. \n  \nTwice Monthly: Saturdays\, 12 p.m. PST
URL:https://fasdunited.org/event/fasd-never-alone/2030-07-13/
LOCATION:Virtual
ATTACH;FMTTYPE=image/jpeg:https://fasdunited.org/wp-content/uploads/2024/03/420087865_366578009312552_28881515468489256_n.jpg
END:VEVENT
BEGIN:VEVENT
DTSTART;TZID=America/Dawson_Creek:20300914T120000
DTEND;TZID=America/Dawson_Creek:20300914T170000
DTSTAMP:20260425T124426
CREATED:20240305T012851Z
LAST-MODIFIED:20240305T012851Z
UID:10001719-1915617600-1915635600@fasdunited.org
SUMMARY:FASD : Never Alone
DESCRIPTION:This support group is for adults with FASD (18 & up). There will be  engaging discussions\, education\, relationships\, therapeutic\, resources sharing\, networking\, and advocacy. \n  \nTwice Monthly: Saturdays\, 12 p.m. PST
URL:https://fasdunited.org/event/fasd-never-alone/2030-09-14/
LOCATION:Virtual
ATTACH;FMTTYPE=image/jpeg:https://fasdunited.org/wp-content/uploads/2024/03/420087865_366578009312552_28881515468489256_n.jpg
END:VEVENT
BEGIN:VEVENT
DTSTART;TZID=America/Dawson_Creek:20301109T120000
DTEND;TZID=America/Dawson_Creek:20301109T170000
DTSTAMP:20260425T124426
CREATED:20240305T012851Z
LAST-MODIFIED:20240305T012851Z
UID:10001745-1920456000-1920474000@fasdunited.org
SUMMARY:FASD : Never Alone
DESCRIPTION:This support group is for adults with FASD (18 & up). There will be  engaging discussions\, education\, relationships\, therapeutic\, resources sharing\, networking\, and advocacy. \n  \nTwice Monthly: Saturdays\, 12 p.m. PST
URL:https://fasdunited.org/event/fasd-never-alone/2030-11-09/
LOCATION:Virtual
ATTACH;FMTTYPE=image/jpeg:https://fasdunited.org/wp-content/uploads/2024/03/420087865_366578009312552_28881515468489256_n.jpg
END:VEVENT
BEGIN:VEVENT
DTSTART;TZID=America/Dawson_Creek:20310111T120000
DTEND;TZID=America/Dawson_Creek:20310111T170000
DTSTAMP:20260425T124426
CREATED:20240305T012851Z
LAST-MODIFIED:20240305T012851Z
UID:10002016-1925899200-1925917200@fasdunited.org
SUMMARY:FASD : Never Alone
DESCRIPTION:This support group is for adults with FASD (18 & up). There will be  engaging discussions\, education\, relationships\, therapeutic\, resources sharing\, networking\, and advocacy. \n  \nTwice Monthly: Saturdays\, 12 p.m. PST
URL:https://fasdunited.org/event/fasd-never-alone/2031-01-11/
LOCATION:Virtual
ATTACH;FMTTYPE=image/jpeg:https://fasdunited.org/wp-content/uploads/2024/03/420087865_366578009312552_28881515468489256_n.jpg
END:VEVENT
BEGIN:VEVENT
DTSTART;TZID=America/Dawson_Creek:20310308T120000
DTEND;TZID=America/Dawson_Creek:20310308T170000
DTSTAMP:20260425T124426
CREATED:20240305T012851Z
LAST-MODIFIED:20240305T012851Z
UID:10002098-1930737600-1930755600@fasdunited.org
SUMMARY:FASD : Never Alone
DESCRIPTION:This support group is for adults with FASD (18 & up). There will be  engaging discussions\, education\, relationships\, therapeutic\, resources sharing\, networking\, and advocacy. \n  \nTwice Monthly: Saturdays\, 12 p.m. PST
URL:https://fasdunited.org/event/fasd-never-alone/2031-03-08/
LOCATION:Virtual
ATTACH;FMTTYPE=image/jpeg:https://fasdunited.org/wp-content/uploads/2024/03/420087865_366578009312552_28881515468489256_n.jpg
END:VEVENT
END:VCALENDAR