BEGIN:VCALENDAR
VERSION:2.0
PRODID:-//FASD United - ECPv6.15.20//NONSGML v1.0//EN
CALSCALE:GREGORIAN
METHOD:PUBLISH
X-WR-CALNAME:FASD United
X-ORIGINAL-URL:https://fasdunited.org
X-WR-CALDESC:Events for FASD United
REFRESH-INTERVAL;VALUE=DURATION:PT1H
X-Robots-Tag:noindex
X-PUBLISHED-TTL:PT1H
BEGIN:VTIMEZONE
TZID:UTC
BEGIN:STANDARD
TZOFFSETFROM:+0000
TZOFFSETTO:+0000
TZNAME:UTC
DTSTART:20240101T000000
END:STANDARD
END:VTIMEZONE
BEGIN:VEVENT
DTSTART;TZID=UTC:20250616T130000
DTEND;TZID=UTC:20250616T150000
DTSTAMP:20260424T105311
CREATED:20250512T201850Z
LAST-MODIFIED:20250512T201850Z
UID:10001656-1750078800-1750086000@fasdunited.org
SUMMARY:Prenatal Substance Exposure Training for Child Welfare Staff
DESCRIPTION:Creating a Family has developed an evidence-based\, specialized training aimed at increasing child welfare professionals’ knowledge of prenatal substance exposure and enhancing their confidence in supporting affected children and their foster\, adoptive\, and kinship parents. \nThrough Creating a Family’s Prenatal Substance Exposure Training for Child Welfare Staff\, participants will be able to recognize the prevalence of prenatal substance exposure in the child welfare system\, identify symptoms associated with prenatal substance exposure\, and be able to identify strategies to support children from infancy to young adulthood. Creating a Family provides access to a resource library\, including resources in Spanish\, during and after attending the sessions. This is an interactive\, 4-hour training split into two (2) sessions. \nOur upcoming training is being offered for free\, courtesy of our partner Jockey Being Family®. \n 
URL:https://fasdunited.org/event/prenatal-substance-exposure-training-for-child-welfare-staff/2025-06-16/
CATEGORIES:Open to the Public,Training
ATTACH;FMTTYPE=image/png:https://fasdunited.org/wp-content/uploads/2025/05/Copy-of-Prenatal-Training-LinkedIn-10.png
ORGANIZER;CN="Creating a Family":MAILTO:info@creatingafamily.org
END:VEVENT
BEGIN:VEVENT
DTSTART;TZID=UTC:20250618T130000
DTEND;TZID=UTC:20250618T150000
DTSTAMP:20260424T105311
CREATED:20250512T201850Z
LAST-MODIFIED:20250512T201850Z
UID:10001657-1750251600-1750258800@fasdunited.org
SUMMARY:Prenatal Substance Exposure Training for Child Welfare Staff
DESCRIPTION:Creating a Family has developed an evidence-based\, specialized training aimed at increasing child welfare professionals’ knowledge of prenatal substance exposure and enhancing their confidence in supporting affected children and their foster\, adoptive\, and kinship parents. \nThrough Creating a Family’s Prenatal Substance Exposure Training for Child Welfare Staff\, participants will be able to recognize the prevalence of prenatal substance exposure in the child welfare system\, identify symptoms associated with prenatal substance exposure\, and be able to identify strategies to support children from infancy to young adulthood. Creating a Family provides access to a resource library\, including resources in Spanish\, during and after attending the sessions. This is an interactive\, 4-hour training split into two (2) sessions. \nOur upcoming training is being offered for free\, courtesy of our partner Jockey Being Family®. \n 
URL:https://fasdunited.org/event/prenatal-substance-exposure-training-for-child-welfare-staff/2025-06-18/
CATEGORIES:Open to the Public,Training
ATTACH;FMTTYPE=image/png:https://fasdunited.org/wp-content/uploads/2025/05/Copy-of-Prenatal-Training-LinkedIn-10.png
ORGANIZER;CN="Creating a Family":MAILTO:info@creatingafamily.org
END:VEVENT
END:VCALENDAR